BEGIN:VCALENDAR
VERSION:2.0
PRODID:-//Inner Spark - ECPv6.15.20//NONSGML v1.0//EN
CALSCALE:GREGORIAN
METHOD:PUBLISH
X-WR-CALNAME:Inner Spark
X-ORIGINAL-URL:https://innersparklife.com
X-WR-CALDESC:Events for Inner Spark
REFRESH-INTERVAL;VALUE=DURATION:PT1H
X-Robots-Tag:noindex
X-PUBLISHED-TTL:PT1H
BEGIN:VTIMEZONE
TZID:Europe/Madrid
BEGIN:DAYLIGHT
TZOFFSETFROM:+0100
TZOFFSETTO:+0200
TZNAME:CEST
DTSTART:20230326T010000
END:DAYLIGHT
BEGIN:STANDARD
TZOFFSETFROM:+0200
TZOFFSETTO:+0100
TZNAME:CET
DTSTART:20231029T010000
END:STANDARD
BEGIN:DAYLIGHT
TZOFFSETFROM:+0100
TZOFFSETTO:+0200
TZNAME:CEST
DTSTART:20240331T010000
END:DAYLIGHT
BEGIN:STANDARD
TZOFFSETFROM:+0200
TZOFFSETTO:+0100
TZNAME:CET
DTSTART:20241027T010000
END:STANDARD
BEGIN:DAYLIGHT
TZOFFSETFROM:+0100
TZOFFSETTO:+0200
TZNAME:CEST
DTSTART:20250330T010000
END:DAYLIGHT
BEGIN:STANDARD
TZOFFSETFROM:+0200
TZOFFSETTO:+0100
TZNAME:CET
DTSTART:20251026T010000
END:STANDARD
END:VTIMEZONE
BEGIN:VEVENT
DTSTART;TZID=Europe/Madrid:20240325T100000
DTEND;TZID=Europe/Madrid:20240325T113000
DTSTAMP:20260425T233855
CREATED:20240316T000013Z
LAST-MODIFIED:20240316T000013Z
UID:14933-1711360800-1711366200@innersparklife.com
SUMMARY:Individual Drum Journey
DESCRIPTION:ev_3715100
URL:https://innersparklife.com/event/individual-drum-journey-35/
LOCATION:online / Brussels\, 1150 Brussels
CATEGORIES:individual_sessions
END:VEVENT
BEGIN:VEVENT
DTSTART;TZID=Europe/Madrid:20240325T193000
DTEND;TZID=Europe/Madrid:20240325T210000
DTSTAMP:20260425T233855
CREATED:20240317T231021Z
LAST-MODIFIED:20240317T231021Z
UID:14944-1711395000-1711400400@innersparklife.com
SUMMARY:Drum Meditation Brussels
DESCRIPTION:ev_3718323
URL:https://innersparklife.com/event/drum-meditation-brussels-111/
LOCATION:Woluwe Saint Pierre\, 1150
CATEGORIES:brussels_events
ATTACH;FMTTYPE=image/jpeg:https://innersparklife.com/wp-content/uploads/2024/03/cropped_event_image-18.jpg
END:VEVENT
END:VCALENDAR