BEGIN:VCALENDAR
VERSION:2.0
PRODID:-//Inner Spark - ECPv6.15.20//NONSGML v1.0//EN
CALSCALE:GREGORIAN
METHOD:PUBLISH
X-WR-CALNAME:Inner Spark
X-ORIGINAL-URL:https://innersparklife.com
X-WR-CALDESC:Events for Inner Spark
REFRESH-INTERVAL;VALUE=DURATION:PT1H
X-Robots-Tag:noindex
X-PUBLISHED-TTL:PT1H
BEGIN:VTIMEZONE
TZID:Europe/Madrid
BEGIN:DAYLIGHT
TZOFFSETFROM:+0100
TZOFFSETTO:+0200
TZNAME:CEST
DTSTART:20230326T010000
END:DAYLIGHT
BEGIN:STANDARD
TZOFFSETFROM:+0200
TZOFFSETTO:+0100
TZNAME:CET
DTSTART:20231029T010000
END:STANDARD
BEGIN:DAYLIGHT
TZOFFSETFROM:+0100
TZOFFSETTO:+0200
TZNAME:CEST
DTSTART:20240331T010000
END:DAYLIGHT
BEGIN:STANDARD
TZOFFSETFROM:+0200
TZOFFSETTO:+0100
TZNAME:CET
DTSTART:20241027T010000
END:STANDARD
BEGIN:DAYLIGHT
TZOFFSETFROM:+0100
TZOFFSETTO:+0200
TZNAME:CEST
DTSTART:20250330T010000
END:DAYLIGHT
BEGIN:STANDARD
TZOFFSETFROM:+0200
TZOFFSETTO:+0100
TZNAME:CET
DTSTART:20251026T010000
END:STANDARD
END:VTIMEZONE
BEGIN:VEVENT
DTSTART;TZID=Europe/Madrid:20240517T100000
DTEND;TZID=Europe/Madrid:20240517T103000
DTSTAMP:20260425T184452
CREATED:20240516T175515Z
LAST-MODIFIED:20240516T175515Z
UID:15878-1715940000-1715941800@innersparklife.com
SUMMARY:Inner Spark Free Discovery Call
DESCRIPTION:ev_4207399
URL:https://innersparklife.com/event/inner-spark-free-discovery-call/
LOCATION:Bigbluebutton\, None
CATEGORIES:individual_sessions
END:VEVENT
BEGIN:VEVENT
DTSTART;TZID=Europe/Madrid:20240517T120000
DTEND;TZID=Europe/Madrid:20240517T123000
DTSTAMP:20260425T184452
CREATED:20240516T175020Z
LAST-MODIFIED:20240516T175020Z
UID:15882-1715947200-1715949000@innersparklife.com
SUMMARY:Inner Spark Free Discovery Call
DESCRIPTION:ev_4207406
URL:https://innersparklife.com/event/inner-spark-free-discovery-call-2/
LOCATION:Bigblutbutton\, None
CATEGORIES:individual_sessions
END:VEVENT
BEGIN:VEVENT
DTSTART;TZID=Europe/Madrid:20240517T150000
DTEND;TZID=Europe/Madrid:20240517T153000
DTSTAMP:20260425T184452
CREATED:20240516T175022Z
LAST-MODIFIED:20240516T175022Z
UID:15884-1715958000-1715959800@innersparklife.com
SUMMARY:Inner Spark Free Discovery Call
DESCRIPTION:ev_4207407
URL:https://innersparklife.com/event/inner-spark-free-discovery-call-3/
LOCATION:Bigblutbutton\, None
CATEGORIES:individual_sessions
END:VEVENT
BEGIN:VEVENT
DTSTART;TZID=Europe/Madrid:20240517T150000
DTEND;TZID=Europe/Madrid:20240517T163000
DTSTAMP:20260425T184452
CREATED:20240508T072711Z
LAST-MODIFIED:20240508T072711Z
UID:15616-1715958000-1715963400@innersparklife.com
SUMMARY:Individual Drum Journey
DESCRIPTION:ev_4182918
URL:https://innersparklife.com/event/individual-drum-journey-57/
LOCATION:online / Brussels\, 1150 Brussels
CATEGORIES:individual_sessions
END:VEVENT
BEGIN:VEVENT
DTSTART;TZID=Europe/Madrid:20240517T170000
DTEND;TZID=Europe/Madrid:20240517T173000
DTSTAMP:20260425T184452
CREATED:20240516T175024Z
LAST-MODIFIED:20240516T175024Z
UID:15886-1715965200-1715967000@innersparklife.com
SUMMARY:Inner Spark Free Discovery Call
DESCRIPTION:ev_4207408
URL:https://innersparklife.com/event/inner-spark-free-discovery-call-4/
LOCATION:Bigblutbutton\, None
CATEGORIES:individual_sessions
END:VEVENT
END:VCALENDAR