BEGIN:VCALENDAR
VERSION:2.0
PRODID:-//Inner Spark - ECPv6.15.20//NONSGML v1.0//EN
CALSCALE:GREGORIAN
METHOD:PUBLISH
X-WR-CALNAME:Inner Spark
X-ORIGINAL-URL:https://innersparklife.com
X-WR-CALDESC:Events for Inner Spark
REFRESH-INTERVAL;VALUE=DURATION:PT1H
X-Robots-Tag:noindex
X-PUBLISHED-TTL:PT1H
BEGIN:VTIMEZONE
TZID:Europe/Madrid
BEGIN:DAYLIGHT
TZOFFSETFROM:+0100
TZOFFSETTO:+0200
TZNAME:CEST
DTSTART:20230326T010000
END:DAYLIGHT
BEGIN:STANDARD
TZOFFSETFROM:+0200
TZOFFSETTO:+0100
TZNAME:CET
DTSTART:20231029T010000
END:STANDARD
BEGIN:DAYLIGHT
TZOFFSETFROM:+0100
TZOFFSETTO:+0200
TZNAME:CEST
DTSTART:20240331T010000
END:DAYLIGHT
BEGIN:STANDARD
TZOFFSETFROM:+0200
TZOFFSETTO:+0100
TZNAME:CET
DTSTART:20241027T010000
END:STANDARD
BEGIN:DAYLIGHT
TZOFFSETFROM:+0100
TZOFFSETTO:+0200
TZNAME:CEST
DTSTART:20250330T010000
END:DAYLIGHT
BEGIN:STANDARD
TZOFFSETFROM:+0200
TZOFFSETTO:+0100
TZNAME:CET
DTSTART:20251026T010000
END:STANDARD
END:VTIMEZONE
BEGIN:VEVENT
DTSTART;TZID=Europe/Madrid:20240525T100000
DTEND;TZID=Europe/Madrid:20240525T103000
DTSTAMP:20260425T184516
CREATED:20240516T180132Z
LAST-MODIFIED:20240516T180132Z
UID:15951-1716631200-1716633000@innersparklife.com
SUMMARY:Inner Spark Free Discovery Call
DESCRIPTION:ev_4207448
URL:https://innersparklife.com/event/inner-spark-free-discovery-call-29/
LOCATION:Bigbluebutton\, None
CATEGORIES:individual_sessions
END:VEVENT
BEGIN:VEVENT
DTSTART;TZID=Europe/Madrid:20240525T120000
DTEND;TZID=Europe/Madrid:20240525T123000
DTSTAMP:20260425T184516
CREATED:20240516T180136Z
LAST-MODIFIED:20240516T180136Z
UID:15955-1716638400-1716640200@innersparklife.com
SUMMARY:Inner Spark Free Discovery Call
DESCRIPTION:ev_4207449
URL:https://innersparklife.com/event/inner-spark-free-discovery-call-31/
LOCATION:Bigbluebutton\, None
CATEGORIES:individual_sessions
END:VEVENT
BEGIN:VEVENT
DTSTART;TZID=Europe/Madrid:20240525T150000
DTEND;TZID=Europe/Madrid:20240525T153000
DTSTAMP:20260425T184516
CREATED:20240516T180134Z
LAST-MODIFIED:20240516T180134Z
UID:15953-1716649200-1716651000@innersparklife.com
SUMMARY:Inner Spark Free Discovery Call
DESCRIPTION:ev_4207450
URL:https://innersparklife.com/event/inner-spark-free-discovery-call-30/
LOCATION:Bigbluebutton\, None
CATEGORIES:individual_sessions
END:VEVENT
BEGIN:VEVENT
DTSTART;TZID=Europe/Madrid:20240525T170000
DTEND;TZID=Europe/Madrid:20240525T173000
DTSTAMP:20260425T184516
CREATED:20240516T180138Z
LAST-MODIFIED:20240516T180138Z
UID:15957-1716656400-1716658200@innersparklife.com
SUMMARY:Inner Spark Free Discovery Call
DESCRIPTION:ev_4207451
URL:https://innersparklife.com/event/inner-spark-free-discovery-call-32/
LOCATION:Bigbluebutton\, None
CATEGORIES:individual_sessions
END:VEVENT
BEGIN:VEVENT
DTSTART;TZID=Europe/Madrid:20240525T170000
DTEND;TZID=Europe/Madrid:20240525T180000
DTSTAMP:20260425T184516
CREATED:20240522T190657Z
LAST-MODIFIED:20240522T190657Z
UID:15989-1716656400-1716660000@innersparklife.com
SUMMARY:Free Online Webinar - Protection against Energetic Attacks: How to Transcend Negative Influences
DESCRIPTION:ev_4214639
URL:https://innersparklife.com/event/free-online-webinar-protection-against-energetic-attacks-how-to-transcend-negative-influences-5/
LOCATION:Bigbluebutton\, None
CATEGORIES:brussels_events
ATTACH;FMTTYPE=image/jpeg:https://innersparklife.com/wp-content/uploads/2024/05/cropped_event_image-104.jpg
END:VEVENT
END:VCALENDAR