BEGIN:VCALENDAR
VERSION:2.0
PRODID:-//Inner Spark - ECPv6.15.20//NONSGML v1.0//EN
CALSCALE:GREGORIAN
METHOD:PUBLISH
X-ORIGINAL-URL:https://innersparklife.com
X-WR-CALDESC:Events for Inner Spark
REFRESH-INTERVAL;VALUE=DURATION:PT1H
X-Robots-Tag:noindex
X-PUBLISHED-TTL:PT1H
BEGIN:VTIMEZONE
TZID:Europe/Madrid
BEGIN:DAYLIGHT
TZOFFSETFROM:+0100
TZOFFSETTO:+0200
TZNAME:CEST
DTSTART:20230326T010000
END:DAYLIGHT
BEGIN:STANDARD
TZOFFSETFROM:+0200
TZOFFSETTO:+0100
TZNAME:CET
DTSTART:20231029T010000
END:STANDARD
BEGIN:DAYLIGHT
TZOFFSETFROM:+0100
TZOFFSETTO:+0200
TZNAME:CEST
DTSTART:20240331T010000
END:DAYLIGHT
BEGIN:STANDARD
TZOFFSETFROM:+0200
TZOFFSETTO:+0100
TZNAME:CET
DTSTART:20241027T010000
END:STANDARD
BEGIN:DAYLIGHT
TZOFFSETFROM:+0100
TZOFFSETTO:+0200
TZNAME:CEST
DTSTART:20250330T010000
END:DAYLIGHT
BEGIN:STANDARD
TZOFFSETFROM:+0200
TZOFFSETTO:+0100
TZNAME:CET
DTSTART:20251026T010000
END:STANDARD
END:VTIMEZONE
BEGIN:VEVENT
DTSTART;TZID=Europe/Madrid:20240527T100000
DTEND;TZID=Europe/Madrid:20240527T103000
DTSTAMP:20260425T171024
CREATED:20240518T000024Z
LAST-MODIFIED:20240518T000024Z
UID:15961-1716804000-1716805800@innersparklife.com
SUMMARY:Inner Spark Free Discovery Call
DESCRIPTION:ev_4210065
URL:https://innersparklife.com/event/inner-spark-free-discovery-call-33/
LOCATION:Bigbluebutton\, None
CATEGORIES:individual_sessions
END:VEVENT
BEGIN:VEVENT
DTSTART;TZID=Europe/Madrid:20240527T100000
DTEND;TZID=Europe/Madrid:20240527T113000
DTSTAMP:20260425T171025
CREATED:20240518T000021Z
LAST-MODIFIED:20240518T000021Z
UID:15959-1716804000-1716809400@innersparklife.com
SUMMARY:Individual Drum Journey
DESCRIPTION:ev_4210064
URL:https://innersparklife.com/event/individual-drum-journey-63/
LOCATION:online\, 1150 Brussels
CATEGORIES:individual_sessions
END:VEVENT
BEGIN:VEVENT
DTSTART;TZID=Europe/Madrid:20240527T120000
DTEND;TZID=Europe/Madrid:20240527T123000
DTSTAMP:20260425T171025
CREATED:20240518T000026Z
LAST-MODIFIED:20240518T000026Z
UID:15963-1716811200-1716813000@innersparklife.com
SUMMARY:Inner Spark Free Discovery Call
DESCRIPTION:ev_4210066
URL:https://innersparklife.com/event/inner-spark-free-discovery-call-34/
LOCATION:Bigbluebutton\, None
CATEGORIES:individual_sessions
END:VEVENT
BEGIN:VEVENT
DTSTART;TZID=Europe/Madrid:20240527T150000
DTEND;TZID=Europe/Madrid:20240527T153000
DTSTAMP:20260425T171025
CREATED:20240518T000028Z
LAST-MODIFIED:20240518T000028Z
UID:15965-1716822000-1716823800@innersparklife.com
SUMMARY:Inner Spark Free Discovery Call
DESCRIPTION:ev_4210067
URL:https://innersparklife.com/event/inner-spark-free-discovery-call-35/
LOCATION:Bigbluebutton\, None
CATEGORIES:individual_sessions
END:VEVENT
BEGIN:VEVENT
DTSTART;TZID=Europe/Madrid:20240527T170000
DTEND;TZID=Europe/Madrid:20240527T173000
DTSTAMP:20260425T171025
CREATED:20240518T000030Z
LAST-MODIFIED:20240518T000030Z
UID:15967-1716829200-1716831000@innersparklife.com
SUMMARY:Inner Spark Free Discovery Call
DESCRIPTION:ev_4210068
URL:https://innersparklife.com/event/inner-spark-free-discovery-call-36/
LOCATION:Bigbluebutton\, None
CATEGORIES:individual_sessions
END:VEVENT
BEGIN:VEVENT
DTSTART;TZID=Europe/Madrid:20240527T193000
DTEND;TZID=Europe/Madrid:20240527T210000
DTSTAMP:20260425T171025
CREATED:20240516T091358Z
LAST-MODIFIED:20240516T091358Z
UID:15876-1716838200-1716843600@innersparklife.com
SUMMARY:Drum Meditation Brussels
DESCRIPTION:ev_4205313
URL:https://innersparklife.com/event/drum-meditation-brussels-120/
LOCATION:Woluwe Saint Pierre\, 1150
CATEGORIES:brussels_events
END:VEVENT
END:VCALENDAR