BEGIN:VCALENDAR
VERSION:2.0
PRODID:-//Inner Spark - ECPv6.15.20//NONSGML v1.0//EN
CALSCALE:GREGORIAN
METHOD:PUBLISH
X-WR-CALNAME:Inner Spark
X-ORIGINAL-URL:https://innersparklife.com
X-WR-CALDESC:Events for Inner Spark
REFRESH-INTERVAL;VALUE=DURATION:PT1H
X-Robots-Tag:noindex
X-PUBLISHED-TTL:PT1H
BEGIN:VTIMEZONE
TZID:Europe/Madrid
BEGIN:DAYLIGHT
TZOFFSETFROM:+0100
TZOFFSETTO:+0200
TZNAME:CEST
DTSTART:20230326T010000
END:DAYLIGHT
BEGIN:STANDARD
TZOFFSETFROM:+0200
TZOFFSETTO:+0100
TZNAME:CET
DTSTART:20231029T010000
END:STANDARD
BEGIN:DAYLIGHT
TZOFFSETFROM:+0100
TZOFFSETTO:+0200
TZNAME:CEST
DTSTART:20240331T010000
END:DAYLIGHT
BEGIN:STANDARD
TZOFFSETFROM:+0200
TZOFFSETTO:+0100
TZNAME:CET
DTSTART:20241027T010000
END:STANDARD
BEGIN:DAYLIGHT
TZOFFSETFROM:+0100
TZOFFSETTO:+0200
TZNAME:CEST
DTSTART:20250330T010000
END:DAYLIGHT
BEGIN:STANDARD
TZOFFSETFROM:+0200
TZOFFSETTO:+0100
TZNAME:CET
DTSTART:20251026T010000
END:STANDARD
END:VTIMEZONE
BEGIN:VEVENT
DTSTART;TZID=Europe/Madrid:20240606T100000
DTEND;TZID=Europe/Madrid:20240606T103000
DTSTAMP:20260425T170819
CREATED:20240528T000025Z
LAST-MODIFIED:20240528T000025Z
UID:16137-1717668000-1717669800@innersparklife.com
SUMMARY:Inner Spark Free Discovery Call
DESCRIPTION:ev_4242964
URL:https://innersparklife.com/event/inner-spark-free-discovery-call-61/
LOCATION:Bigbluebutton\, None
CATEGORIES:individual_sessions
ATTACH;FMTTYPE=image/jpeg:https://innersparklife.com/wp-content/uploads/2024/05/cropped_event_image-133.jpg
END:VEVENT
BEGIN:VEVENT
DTSTART;TZID=Europe/Madrid:20240606T120000
DTEND;TZID=Europe/Madrid:20240606T123000
DTSTAMP:20260425T170819
CREATED:20240528T000027Z
LAST-MODIFIED:20240528T000027Z
UID:16139-1717675200-1717677000@innersparklife.com
SUMMARY:Inner Spark Free Discovery Call
DESCRIPTION:ev_4242965
URL:https://innersparklife.com/event/inner-spark-free-discovery-call-62/
LOCATION:Bigbluebutton\, None
CATEGORIES:individual_sessions
ATTACH;FMTTYPE=image/jpeg:https://innersparklife.com/wp-content/uploads/2024/05/cropped_event_image-134.jpg
END:VEVENT
BEGIN:VEVENT
DTSTART;TZID=Europe/Madrid:20240606T150000
DTEND;TZID=Europe/Madrid:20240606T153000
DTSTAMP:20260425T170819
CREATED:20240528T000029Z
LAST-MODIFIED:20240528T000029Z
UID:16141-1717686000-1717687800@innersparklife.com
SUMMARY:Inner Spark Free Discovery Call
DESCRIPTION:ev_4242966
URL:https://innersparklife.com/event/inner-spark-free-discovery-call-63/
LOCATION:Bigbluebutton\, None
CATEGORIES:individual_sessions
ATTACH;FMTTYPE=image/jpeg:https://innersparklife.com/wp-content/uploads/2024/05/cropped_event_image-135.jpg
END:VEVENT
BEGIN:VEVENT
DTSTART;TZID=Europe/Madrid:20240606T170000
DTEND;TZID=Europe/Madrid:20240606T173000
DTSTAMP:20260425T170819
CREATED:20240528T000031Z
LAST-MODIFIED:20240528T000031Z
UID:16143-1717693200-1717695000@innersparklife.com
SUMMARY:Inner Spark Free Discovery Call
DESCRIPTION:ev_4242967
URL:https://innersparklife.com/event/inner-spark-free-discovery-call-64/
LOCATION:Bigbluebutton\, None
CATEGORIES:individual_sessions
ATTACH;FMTTYPE=image/jpeg:https://innersparklife.com/wp-content/uploads/2024/05/cropped_event_image-136.jpg
END:VEVENT
END:VCALENDAR