BEGIN:VCALENDAR
VERSION:2.0
PRODID:-//Inner Spark - ECPv6.15.20//NONSGML v1.0//EN
CALSCALE:GREGORIAN
METHOD:PUBLISH
X-WR-CALNAME:Inner Spark
X-ORIGINAL-URL:https://innersparklife.com
X-WR-CALDESC:Events for Inner Spark
REFRESH-INTERVAL;VALUE=DURATION:PT1H
X-Robots-Tag:noindex
X-PUBLISHED-TTL:PT1H
BEGIN:VTIMEZONE
TZID:Europe/Madrid
BEGIN:DAYLIGHT
TZOFFSETFROM:+0100
TZOFFSETTO:+0200
TZNAME:CEST
DTSTART:20230326T010000
END:DAYLIGHT
BEGIN:STANDARD
TZOFFSETFROM:+0200
TZOFFSETTO:+0100
TZNAME:CET
DTSTART:20231029T010000
END:STANDARD
BEGIN:DAYLIGHT
TZOFFSETFROM:+0100
TZOFFSETTO:+0200
TZNAME:CEST
DTSTART:20240331T010000
END:DAYLIGHT
BEGIN:STANDARD
TZOFFSETFROM:+0200
TZOFFSETTO:+0100
TZNAME:CET
DTSTART:20241027T010000
END:STANDARD
BEGIN:DAYLIGHT
TZOFFSETFROM:+0100
TZOFFSETTO:+0200
TZNAME:CEST
DTSTART:20250330T010000
END:DAYLIGHT
BEGIN:STANDARD
TZOFFSETFROM:+0200
TZOFFSETTO:+0100
TZNAME:CET
DTSTART:20251026T010000
END:STANDARD
END:VTIMEZONE
BEGIN:VEVENT
DTSTART;TZID=Europe/Madrid:20240611T100000
DTEND;TZID=Europe/Madrid:20240611T103000
DTSTAMP:20260425T152226
CREATED:20240602T000027Z
LAST-MODIFIED:20240602T000027Z
UID:16201-1718100000-1718101800@innersparklife.com
SUMMARY:Inner Spark Free Discovery Call
DESCRIPTION:ev_4256882
URL:https://innersparklife.com/event/inner-spark-free-discovery-call-69/
LOCATION:Bigbluebutton\, None
CATEGORIES:individual_sessions
END:VEVENT
BEGIN:VEVENT
DTSTART;TZID=Europe/Madrid:20240611T120000
DTEND;TZID=Europe/Madrid:20240611T123000
DTSTAMP:20260425T152226
CREATED:20240602T000029Z
LAST-MODIFIED:20240602T000029Z
UID:16203-1718107200-1718109000@innersparklife.com
SUMMARY:Inner Spark Free Discovery Call
DESCRIPTION:ev_4256883
URL:https://innersparklife.com/event/inner-spark-free-discovery-call-70/
LOCATION:Bigbluebutton\, None
CATEGORIES:individual_sessions
END:VEVENT
BEGIN:VEVENT
DTSTART;TZID=Europe/Madrid:20240611T150000
DTEND;TZID=Europe/Madrid:20240611T153000
DTSTAMP:20260425T152226
CREATED:20240602T000031Z
LAST-MODIFIED:20240602T000031Z
UID:16205-1718118000-1718119800@innersparklife.com
SUMMARY:Inner Spark Free Discovery Call
DESCRIPTION:ev_4256884
URL:https://innersparklife.com/event/inner-spark-free-discovery-call-71/
LOCATION:Bigbluebutton\, None
CATEGORIES:individual_sessions
END:VEVENT
BEGIN:VEVENT
DTSTART;TZID=Europe/Madrid:20240611T170000
DTEND;TZID=Europe/Madrid:20240611T173000
DTSTAMP:20260425T152226
CREATED:20240602T000033Z
LAST-MODIFIED:20240602T000033Z
UID:16207-1718125200-1718127000@innersparklife.com
SUMMARY:Inner Spark Free Discovery Call
DESCRIPTION:ev_4256885
URL:https://innersparklife.com/event/inner-spark-free-discovery-call-72/
LOCATION:Bigbluebutton\, None
CATEGORIES:individual_sessions
END:VEVENT
END:VCALENDAR