BEGIN:VCALENDAR
VERSION:2.0
PRODID:-//Inner Spark - ECPv6.15.20//NONSGML v1.0//EN
CALSCALE:GREGORIAN
METHOD:PUBLISH
X-ORIGINAL-URL:https://innersparklife.com
X-WR-CALDESC:Events for Inner Spark
REFRESH-INTERVAL;VALUE=DURATION:PT1H
X-Robots-Tag:noindex
X-PUBLISHED-TTL:PT1H
BEGIN:VTIMEZONE
TZID:Europe/Madrid
BEGIN:DAYLIGHT
TZOFFSETFROM:+0100
TZOFFSETTO:+0200
TZNAME:CEST
DTSTART:20230326T010000
END:DAYLIGHT
BEGIN:STANDARD
TZOFFSETFROM:+0200
TZOFFSETTO:+0100
TZNAME:CET
DTSTART:20231029T010000
END:STANDARD
BEGIN:DAYLIGHT
TZOFFSETFROM:+0100
TZOFFSETTO:+0200
TZNAME:CEST
DTSTART:20240331T010000
END:DAYLIGHT
BEGIN:STANDARD
TZOFFSETFROM:+0200
TZOFFSETTO:+0100
TZNAME:CET
DTSTART:20241027T010000
END:STANDARD
BEGIN:DAYLIGHT
TZOFFSETFROM:+0100
TZOFFSETTO:+0200
TZNAME:CEST
DTSTART:20250330T010000
END:DAYLIGHT
BEGIN:STANDARD
TZOFFSETFROM:+0200
TZOFFSETTO:+0100
TZNAME:CET
DTSTART:20251026T010000
END:STANDARD
END:VTIMEZONE
BEGIN:VEVENT
DTSTART;TZID=Europe/Madrid:20240720T220000
DTEND;TZID=Europe/Madrid:20240721T010000
DTSTAMP:20260425T184137
CREATED:20240718T093025Z
LAST-MODIFIED:20240718T093025Z
UID:16451-1721512800-1721523600@innersparklife.com
SUMMARY:Night Hike and Drum Journey under the Full Moon
DESCRIPTION:ev_4342181
URL:https://innersparklife.com/event/night-hike-and-drum-journey-under-the-full-moon/
LOCATION:Soignes Forest (Av. Charles Albert)\, None
CATEGORIES:brussels_events
END:VEVENT
END:VCALENDAR