BEGIN:VCALENDAR
VERSION:2.0
PRODID:-//Inner Spark - ECPv6.15.20//NONSGML v1.0//EN
CALSCALE:GREGORIAN
METHOD:PUBLISH
X-WR-CALNAME:Inner Spark
X-ORIGINAL-URL:https://innersparklife.com
X-WR-CALDESC:Events for Inner Spark
REFRESH-INTERVAL;VALUE=DURATION:PT1H
X-Robots-Tag:noindex
X-PUBLISHED-TTL:PT1H
BEGIN:VTIMEZONE
TZID:Europe/Madrid
BEGIN:DAYLIGHT
TZOFFSETFROM:+0100
TZOFFSETTO:+0200
TZNAME:CEST
DTSTART:20240331T010000
END:DAYLIGHT
BEGIN:STANDARD
TZOFFSETFROM:+0200
TZOFFSETTO:+0100
TZNAME:CET
DTSTART:20241027T010000
END:STANDARD
BEGIN:DAYLIGHT
TZOFFSETFROM:+0100
TZOFFSETTO:+0200
TZNAME:CEST
DTSTART:20250330T010000
END:DAYLIGHT
BEGIN:STANDARD
TZOFFSETFROM:+0200
TZOFFSETTO:+0100
TZNAME:CET
DTSTART:20251026T010000
END:STANDARD
BEGIN:DAYLIGHT
TZOFFSETFROM:+0100
TZOFFSETTO:+0200
TZNAME:CEST
DTSTART:20260329T010000
END:DAYLIGHT
BEGIN:STANDARD
TZOFFSETFROM:+0200
TZOFFSETTO:+0100
TZNAME:CET
DTSTART:20261025T010000
END:STANDARD
BEGIN:DAYLIGHT
TZOFFSETFROM:+0100
TZOFFSETTO:+0200
TZNAME:CEST
DTSTART:20270328T010000
END:DAYLIGHT
BEGIN:STANDARD
TZOFFSETFROM:+0200
TZOFFSETTO:+0100
TZNAME:CET
DTSTART:20271031T010000
END:STANDARD
END:VTIMEZONE
BEGIN:VEVENT
DTSTART;TZID=Europe/Madrid:20260321T090000
DTEND;TZID=Europe/Madrid:20260321T200000
DTSTAMP:20260424T002040
CREATED:20260123T114107Z
LAST-MODIFIED:20260123T114107Z
UID:22329-1774083600-1774123200@innersparklife.com
SUMMARY:Spring Equinox: A one-day ritual journey into the Earth and back to the Light.
DESCRIPTION:
URL:https://innersparklife.com/event/spring-equinox-a-one-day-ritual-journey-into-the-earth-and-back-to-the-light/
CATEGORIES:brussels_events
ATTACH;FMTTYPE=image/jpeg:https://innersparklife.com/wp-content/uploads/2026/01/Generated-Image-January-23-2026-12_06PM.jpeg
END:VEVENT
BEGIN:VEVENT
DTSTART;TZID=Europe/Madrid:20260217T080000
DTEND;TZID=Europe/Madrid:20260222T170000
DTSTAMP:20260424T002040
CREATED:20250727T104358Z
LAST-MODIFIED:20250727T105239Z
UID:21113-1771315200-1771779600@innersparklife.com
SUMMARY:Spiritual Adventure in La Gomera
DESCRIPTION:
URL:https://innersparklife.com/event/spiritual-adventure-in-la-gomera/
CATEGORIES:retreats
ATTACH;FMTTYPE=image/jpeg:https://innersparklife.com/wp-content/uploads/2025/07/22-20250718234341.jpg
END:VEVENT
BEGIN:VEVENT
DTSTART;TZID=Europe/Madrid:20260125T150000
DTEND;TZID=Europe/Madrid:20260125T200000
DTSTAMP:20260424T002040
CREATED:20241108T120535Z
LAST-MODIFIED:20251127T130042Z
UID:18248-1769353200-1769371200@innersparklife.com
SUMMARY:Shamanic Ritual for the new year
DESCRIPTION:
URL:https://innersparklife.com/event/shamanic-ritual-for-the-new-year-2/
CATEGORIES:brussels_events
ATTACH;FMTTYPE=image/jpeg:https://innersparklife.com/wp-content/uploads/2025/11/Gemini_Generated_Image_qf37uqqf37uqqf37-scaled.jpg
END:VEVENT
BEGIN:VEVENT
DTSTART;TZID=Europe/Madrid:20251221T170000
DTEND;TZID=Europe/Madrid:20251221T203000
DTSTAMP:20260424T002040
CREATED:20251117T173708Z
LAST-MODIFIED:20251203T230221Z
UID:22004-1766336400-1766349000@innersparklife.com
SUMMARY:Winter Solstice Ritual: The Zero Point
DESCRIPTION:
URL:https://innersparklife.com/event/winter-solstice-ritual-the-zero-point/
CATEGORIES:brussels_events
ATTACH;FMTTYPE=image/jpeg:https://innersparklife.com/wp-content/uploads/2025/11/Gemini_Generated_Image_qvh6v9qvh6v9qvh6-scaled.jpg
END:VEVENT
BEGIN:VEVENT
DTSTART;TZID=Europe/Madrid:20251116T110000
DTEND;TZID=Europe/Madrid:20251116T170000
DTSTAMP:20260424T002040
CREATED:20251106T133526Z
LAST-MODIFIED:20251108T104530Z
UID:21826-1763290800-1763312400@innersparklife.com
SUMMARY:FREE Hike🌿 Walk & Breathe 🌿 Awaken the Body\, Quiet the Mind\, Connect with Nature
DESCRIPTION:
URL:https://innersparklife.com/event/walk-breathe-sunday-hike-breathwork-connection-with-nature/
CATEGORIES:brussels_events
ATTACH;FMTTYPE=image/jpeg:https://innersparklife.com/wp-content/uploads/2025/11/1-20251106135533.jpg
END:VEVENT
BEGIN:VEVENT
DTSTART;TZID=Europe/Madrid:20251113T190000
DTEND;TZID=Europe/Madrid:20251113T203000
DTSTAMP:20260424T002040
CREATED:20251105T164840Z
LAST-MODIFIED:20251106T134303Z
UID:21789-1763060400-1763065800@innersparklife.com
SUMMARY:Free Online Masterclass: How to Heal & Guide Others without destroying your own energy
DESCRIPTION:
URL:https://innersparklife.com/event/how-to-heal-guide-others-without-sacrificing-your-own-well-being/
CATEGORIES:brussels_events,online_events
ATTACH;FMTTYPE=image/jpeg:https://innersparklife.com/wp-content/uploads/2025/10/3-20251023125630.jpg
END:VEVENT
BEGIN:VEVENT
DTSTART;TZID=Europe/Madrid:20251102T170000
DTEND;TZID=Europe/Madrid:20251102T183000
DTSTAMP:20260424T002040
CREATED:20251028T195105Z
LAST-MODIFIED:20251028T195226Z
UID:21730-1762102800-1762108200@innersparklife.com
SUMMARY:The Intuitive Path: Learn to navigate your unconscious to find clarity and vital answers.
DESCRIPTION:
URL:https://innersparklife.com/event/the-intuitive-path-learn-to-navigate-your-unconscious-to-find-clarity-and-vital-answers/
CATEGORIES:brussels_events
ATTACH;FMTTYPE=image/jpeg:https://innersparklife.com/wp-content/uploads/2025/10/replicate-prediction-0v3qcs8yvsrma0ct5hctk5rsh8-scaled.jpg
END:VEVENT
BEGIN:VEVENT
DTSTART;TZID=Europe/Madrid:20250921T090000
DTEND;TZID=Europe/Madrid:20250921T190000
DTSTAMP:20260424T002040
CREATED:20250728T165715Z
LAST-MODIFIED:20250728T165715Z
UID:21270-1758445200-1758481200@innersparklife.com
SUMMARY:Temple of Time: Autumn Equinox Journey at Villers Abbey
DESCRIPTION:
URL:https://innersparklife.com/event/temple-of-time-autumn-equinox-journey-at-villers-abbey/
CATEGORIES:brussels_events
ATTACH;FMTTYPE=image/jpeg:https://innersparklife.com/wp-content/uploads/2025/07/12-20250728183946.jpg
END:VEVENT
BEGIN:VEVENT
DTSTART;TZID=Europe/Madrid:20250919T180000
DTEND;TZID=Europe/Madrid:20250919T193000
DTSTAMP:20260424T002040
CREATED:20250904T110320Z
LAST-MODIFIED:20250904T110320Z
UID:21431-1758304800-1758310200@innersparklife.com
SUMMARY:The Spirit of the Vine: An Invitation to Understand Ayahuasca
DESCRIPTION:
URL:https://innersparklife.com/event/the-spirit-of-the-vine-an-invitation-to-understand-ayahuasca/
CATEGORIES:brussels_events
ATTACH;FMTTYPE=image/jpeg:https://innersparklife.com/wp-content/uploads/2025/09/5-20250904111824.jpg
END:VEVENT
BEGIN:VEVENT
DTSTART;TZID=Europe/Madrid:20250822T080000
DTEND;TZID=Europe/Madrid:20250827T170000
DTSTAMP:20260424T002040
CREATED:20250405T120118Z
LAST-MODIFIED:20250405T195151Z
UID:19026-1755849600-1756314000@innersparklife.com
SUMMARY:Walking Between Worlds: Shamanic Retreat in the Polish Mountains
DESCRIPTION:
URL:https://innersparklife.com/event/walking-between-worlds-shamanic-retreat-in-the-polish-mountains/
CATEGORIES:retreats
ATTACH;FMTTYPE=image/jpeg:https://innersparklife.com/wp-content/uploads/2025/04/Untitled-design-1.jpg
END:VEVENT
BEGIN:VEVENT
DTSTART;TZID=Europe/Madrid:20250725T220000
DTEND;TZID=Europe/Madrid:20250726T013000
DTSTAMP:20260424T002040
CREATED:20250612T142304Z
LAST-MODIFIED:20250706T113426Z
UID:19566-1753480800-1753493400@innersparklife.com
SUMMARY:Night Hike & Drum Journey – The Leo New Moon Ritual
DESCRIPTION:
URL:https://innersparklife.com/event/night-hike-drum-journey-the-capricorn-full-moon-ritual/
CATEGORIES:brussels_events
ATTACH;FMTTYPE=image/jpeg:https://innersparklife.com/wp-content/uploads/2025/06/Gemini_Generated_Image_lsl7pllsl7pllsl7-scaled.jpg
END:VEVENT
BEGIN:VEVENT
DTSTART;TZID=Europe/Madrid:20250621T110000
DTEND;TZID=Europe/Madrid:20250621T200000
DTSTAMP:20260424T002040
CREATED:20250522T121545Z
LAST-MODIFIED:20250522T121619Z
UID:19410-1750503600-1750536000@innersparklife.com
SUMMARY:Solstice Ritual at the Sacred Dolmens of Wéris
DESCRIPTION:TT Event ID: ev_4667796
URL:https://innersparklife.com/event/solstice-ritual-at-the-sacred-dolmens-of-weris/
LOCATION:Natural Park Furfooz\, None
CATEGORIES:brussels_events
ATTACH;FMTTYPE=image/jpeg:https://innersparklife.com/wp-content/uploads/2025/05/Untitled-design.jpg
END:VEVENT
BEGIN:VEVENT
DTSTART;TZID=Europe/Madrid:20250606T080000
DTEND;TZID=Europe/Madrid:20250610T170000
DTSTAMP:20260424T002040
CREATED:20250402T104927Z
LAST-MODIFIED:20250402T112200Z
UID:18976-1749196800-1749574800@innersparklife.com
SUMMARY:WOW MEN'S ACADEMY: Eifel National Park\, Germany
DESCRIPTION:
URL:https://innersparklife.com/event/wow-mens-academy-eifel-national-park-germany/
CATEGORIES:retreats
ATTACH;FMTTYPE=image/jpeg:https://innersparklife.com/wp-content/uploads/2025/04/67dac06442618_FBProfileCover3.jpg
END:VEVENT
BEGIN:VEVENT
DTSTART;TZID=Europe/Madrid:20250518T110000
DTEND;TZID=Europe/Madrid:20250518T200000
DTSTAMP:20260424T002040
CREATED:20241024T120249Z
LAST-MODIFIED:20250416T210830Z
UID:17286-1747566000-1747598400@innersparklife.com
SUMMARY:Inner Child Awakening: Full Day in Furfooz
DESCRIPTION:TT Event ID: ev_4667796
URL:https://innersparklife.com/event/sunday-in-nature-hike-breathwork-shamanic-dance-ritual-in-the-caves-of-furfooz/
LOCATION:Natural Park Furfooz\, None
CATEGORIES:brussels_events
ATTACH;FMTTYPE=image/jpeg:https://innersparklife.com/wp-content/uploads/2025/04/image_1.jpg
END:VEVENT
BEGIN:VEVENT
DTSTART;TZID=Europe/Madrid:20250505T193000
DTEND;TZID=Europe/Madrid:20250505T210000
DTSTAMP:20260424T002040
CREATED:20250421T084843Z
LAST-MODIFIED:20250421T084843Z
UID:19316-1746473400-1746478800@innersparklife.com
SUMMARY:Drum Meditation Brussels
DESCRIPTION:ev_6017793
URL:https://innersparklife.com/event/drum-meditation-brussels-161/
LOCATION:Woluwe Saint Pierre\, 1150
CATEGORIES:brussels_events
ATTACH;FMTTYPE=image/jpeg:https://innersparklife.com/wp-content/uploads/2025/04/cropped_event_image-5.jpg
END:VEVENT
BEGIN:VEVENT
DTSTART;TZID=Europe/Madrid:20250428T193000
DTEND;TZID=Europe/Madrid:20250428T210000
DTSTAMP:20260424T002040
CREATED:20250421T084840Z
LAST-MODIFIED:20250421T084840Z
UID:19314-1745868600-1745874000@innersparklife.com
SUMMARY:Drum Meditation Brussels
DESCRIPTION:ev_6017792
URL:https://innersparklife.com/event/drum-meditation-brussels-160/
LOCATION:Woluwe Saint Pierre\, 1150
CATEGORIES:brussels_events
ATTACH;FMTTYPE=image/jpeg:https://innersparklife.com/wp-content/uploads/2025/04/cropped_event_image-4.jpg
END:VEVENT
BEGIN:VEVENT
DTSTART;TZID=Europe/Madrid:20250422T080000
DTEND;TZID=Europe/Madrid:20250512T170000
DTSTAMP:20260424T002040
CREATED:20240201T122207Z
LAST-MODIFIED:20240916T103854Z
UID:14544-1745308800-1747069200@innersparklife.com
SUMMARY:WoW Pilgrimage to Peru
DESCRIPTION:
URL:https://innersparklife.com/event/pilgrimage-to-peru/
CATEGORIES:retreats
ATTACH;FMTTYPE=image/png:https://innersparklife.com/wp-content/uploads/2024/02/13.png
END:VEVENT
BEGIN:VEVENT
DTSTART;TZID=Europe/Madrid:20250421T193000
DTEND;TZID=Europe/Madrid:20250421T210000
DTSTAMP:20260424T002040
CREATED:20250408T100425Z
LAST-MODIFIED:20250415T092417Z
UID:19044-1745263800-1745269200@innersparklife.com
SUMMARY:Drum Meditation Brussels
DESCRIPTION:ev_5970569
URL:https://innersparklife.com/event/drum-meditation-brussels-159/
LOCATION:Woluwe Saint Pierre\, 1150
CATEGORIES:brussels_events
ATTACH;FMTTYPE=image/jpeg:https://innersparklife.com/wp-content/uploads/2025/04/cropped_event_image-3.jpg
END:VEVENT
BEGIN:VEVENT
DTSTART;TZID=Europe/Madrid:20250413T110000
DTEND;TZID=Europe/Madrid:20250413T170000
DTSTAMP:20260424T002040
CREATED:20250404T203345Z
LAST-MODIFIED:20250408T100517Z
UID:18996-1744542000-1744563600@innersparklife.com
SUMMARY:Hike\, Qigong & Drum Journey in the blue forest of Hallerbos
DESCRIPTION:ev_5951492
URL:https://innersparklife.com/event/hike-qigong-drum-journey-in-the-blue-forest-of-hallerbos/
LOCATION:Hallerbos Parking 4\, 1500 Halle
CATEGORIES:brussels_events
ATTACH;FMTTYPE=image/jpeg:https://innersparklife.com/wp-content/uploads/2025/04/Hike-Qigong-Drum-Journey-in-Hallerbos-2.jpg
END:VEVENT
BEGIN:VEVENT
DTSTART;TZID=Europe/Madrid:20250407T193000
DTEND;TZID=Europe/Madrid:20250407T210000
DTSTAMP:20260424T002040
CREATED:20250402T105012Z
LAST-MODIFIED:20250402T105012Z
UID:18980-1744054200-1744059600@innersparklife.com
SUMMARY:Drum Meditation Brussels
DESCRIPTION:ev_5932009
URL:https://innersparklife.com/event/drum-meditation-brussels-158/
LOCATION:Woluwe Saint Pierre\, 1150
CATEGORIES:brussels_events
ATTACH;FMTTYPE=image/jpeg:https://innersparklife.com/wp-content/uploads/2025/04/cropped_event_image.jpg
END:VEVENT
BEGIN:VEVENT
DTSTART;TZID=Europe/Madrid:20250331T193000
DTEND;TZID=Europe/Madrid:20250331T210000
DTSTAMP:20260424T002040
CREATED:20250318T104000Z
LAST-MODIFIED:20250326T203226Z
UID:18927-1743449400-1743454800@innersparklife.com
SUMMARY:Drum Meditation Brussels
DESCRIPTION:ev_5800569
URL:https://innersparklife.com/event/drum-meditation-brussels-157/
LOCATION:Woluwe Saint Pierre\, 1150
CATEGORIES:brussels_events
ATTACH;FMTTYPE=image/jpeg:https://innersparklife.com/wp-content/uploads/2025/03/cropped_event_image-3.jpg
END:VEVENT
BEGIN:VEVENT
DTSTART;TZID=Europe/Madrid:20250322T110000
DTEND;TZID=Europe/Madrid:20250322T200000
DTSTAMP:20260424T002040
CREATED:20250306T154503Z
LAST-MODIFIED:20250318T111931Z
UID:18828-1742641200-1742673600@innersparklife.com
SUMMARY:Hike\, Dance & Equinox Drum Journey in Ninglinspo Valley
DESCRIPTION:ev_5582042
URL:https://innersparklife.com/event/hike-dance-drum-journey-in-ninglinspo-valley/
LOCATION:Valle du Ninglinspo\, None
CATEGORIES:brussels_events
ATTACH;FMTTYPE=image/jpeg:https://innersparklife.com/wp-content/uploads/2025/03/the-image-extends-without-generating-peo_IFvijQXIT8.jpeg
END:VEVENT
BEGIN:VEVENT
DTSTART;TZID=Europe/Madrid:20250317T193000
DTEND;TZID=Europe/Madrid:20250317T210000
DTSTAMP:20260424T002040
CREATED:20240924T184921Z
LAST-MODIFIED:20250310T093643Z
UID:17277-1742239800-1742245200@innersparklife.com
SUMMARY:Drum Meditation Brussels
DESCRIPTION:ev_4667910
URL:https://innersparklife.com/event/drum-meditation-brussels-139/
CATEGORIES:brussels_events
ATTACH;FMTTYPE=image/jpeg:https://innersparklife.com/wp-content/uploads/2025/01/cropped_event_image-5.jpg
END:VEVENT
BEGIN:VEVENT
DTSTART;TZID=Europe/Madrid:20250308T180000
DTEND;TZID=Europe/Madrid:20250308T213000
DTSTAMP:20260424T002040
CREATED:20250223T142911Z
LAST-MODIFIED:20250225T083050Z
UID:18813-1741456800-1741469400@innersparklife.com
SUMMARY:Drum Journey: The 7 Laws of Manifesting Your Dreams
DESCRIPTION:ev_5581551
URL:https://innersparklife.com/event/drum-journey-a-dance-with-your-inner-self-11/
LOCATION:Woluwe Saint Pierre\, 1150
CATEGORIES:brussels_events
ATTACH;FMTTYPE=image/jpeg:https://innersparklife.com/wp-content/uploads/2025/02/a-dreamlike-vision-of-a-person-meditatin_gIH_-52JQt21Dz8wN9OVZQ_mh7gplm.jpg
END:VEVENT
BEGIN:VEVENT
DTSTART;TZID=Europe/Madrid:20250303T193000
DTEND;TZID=Europe/Madrid:20250303T210000
DTSTAMP:20260424T002040
CREATED:20250226T122646Z
LAST-MODIFIED:20250226T122646Z
UID:18853-1741030200-1741035600@innersparklife.com
SUMMARY:Drum Meditation Brussels
DESCRIPTION:ev_5592739
URL:https://innersparklife.com/event/drum-meditation-brussels-155/
LOCATION:Woluwe Saint Pierre\, 1150
CATEGORIES:brussels_events
ATTACH;FMTTYPE=image/jpeg:https://innersparklife.com/wp-content/uploads/2025/02/cropped_event_image-7.jpg
END:VEVENT
BEGIN:VEVENT
DTSTART;TZID=Europe/Madrid:20250225T100000
DTEND;TZID=Europe/Madrid:20250325T100000
DTSTAMP:20260424T002040
CREATED:20250114T111717Z
LAST-MODIFIED:20250114T111717Z
UID:18305-1740477600-1742896800@innersparklife.com
SUMMARY:Foundations of Siberian Shamanism
DESCRIPTION:TT Event ID: ev_4775704
URL:https://innersparklife.com/event/foundations-of-siberian-shamanism-4/
LOCATION:Google Meet\, None
CATEGORIES:training_foundations
ATTACH;FMTTYPE=image/jpeg:https://innersparklife.com/wp-content/uploads/2025/01/cropped_image-3.jpg
END:VEVENT
BEGIN:VEVENT
DTSTART;TZID=Europe/Madrid:20250208T183000
DTEND;TZID=Europe/Madrid:20250208T213000
DTSTAMP:20260424T002040
CREATED:20250121T192450Z
LAST-MODIFIED:20250121T193446Z
UID:18601-1739039400-1739050200@innersparklife.com
SUMMARY:Drum Journey: The Sacred Union of Feminine and Masculine
DESCRIPTION:TT Event ID: ev_5192346
URL:https://innersparklife.com/event/drum-journey-a-dance-with-your-inner-self-10/
LOCATION:Woluwe Saint Pierre\, 1150
CATEGORIES:brussels_events
ATTACH;FMTTYPE=image/png:https://innersparklife.com/wp-content/uploads/2025/01/image.png
END:VEVENT
BEGIN:VEVENT
DTSTART;TZID=Europe/Madrid:20250127T193000
DTEND;TZID=Europe/Madrid:20250127T210000
DTSTAMP:20260424T002040
CREATED:20250121T192453Z
LAST-MODIFIED:20250121T192453Z
UID:18603-1738006200-1738011600@innersparklife.com
SUMMARY:Drum Meditation Brussels
DESCRIPTION:TT Event ID: ev_5192347
URL:https://innersparklife.com/event/drum-meditation-brussels-152/
LOCATION:Woluwe Saint Pierre\, 1150
CATEGORIES:brussels_events
ATTACH;FMTTYPE=image/jpeg:https://innersparklife.com/wp-content/uploads/2025/01/cropped_image-9.jpg
END:VEVENT
BEGIN:VEVENT
DTSTART;TZID=Europe/Madrid:20250120T193000
DTEND;TZID=Europe/Madrid:20250120T210000
DTSTAMP:20260424T002040
CREATED:20250116T133357Z
LAST-MODIFIED:20250116T133357Z
UID:18573-1737401400-1737406800@innersparklife.com
SUMMARY:Drum Meditation Brussels
DESCRIPTION:ev_5172373
URL:https://innersparklife.com/event/drum-meditation-brussels-153/
LOCATION:Woluwe Saint Pierre\, 1150
CATEGORIES:brussels_events
ATTACH;FMTTYPE=image/jpeg:https://innersparklife.com/wp-content/uploads/2025/01/cropped_event_image-5.jpg
END:VEVENT
BEGIN:VEVENT
DTSTART;TZID=Europe/Madrid:20250113T193000
DTEND;TZID=Europe/Madrid:20250113T210000
DTSTAMP:20260424T002040
CREATED:20241231T152151Z
LAST-MODIFIED:20241231T152151Z
UID:18503-1736796600-1736802000@innersparklife.com
SUMMARY:Drum Meditation Brussels
DESCRIPTION:ev_5087658
URL:https://innersparklife.com/event/drum-meditation-brussels-151/
LOCATION:Woluwe Saint Pierre\, 1150
CATEGORIES:brussels_events
ATTACH;FMTTYPE=image/jpeg:https://innersparklife.com/wp-content/uploads/2024/12/cropped_event_image-5.jpg
END:VEVENT
END:VCALENDAR