BEGIN:VCALENDAR
VERSION:2.0
PRODID:-//Inner Spark - ECPv6.15.20//NONSGML v1.0//EN
CALSCALE:GREGORIAN
METHOD:PUBLISH
X-WR-CALNAME:Inner Spark
X-ORIGINAL-URL:https://innersparklife.com
X-WR-CALDESC:Events for Inner Spark
REFRESH-INTERVAL;VALUE=DURATION:PT1H
X-Robots-Tag:noindex
X-PUBLISHED-TTL:PT1H
BEGIN:VTIMEZONE
TZID:Europe/Madrid
BEGIN:DAYLIGHT
TZOFFSETFROM:+0100
TZOFFSETTO:+0200
TZNAME:CEST
DTSTART:20230326T010000
END:DAYLIGHT
BEGIN:STANDARD
TZOFFSETFROM:+0200
TZOFFSETTO:+0100
TZNAME:CET
DTSTART:20231029T010000
END:STANDARD
BEGIN:DAYLIGHT
TZOFFSETFROM:+0100
TZOFFSETTO:+0200
TZNAME:CEST
DTSTART:20240331T010000
END:DAYLIGHT
BEGIN:STANDARD
TZOFFSETFROM:+0200
TZOFFSETTO:+0100
TZNAME:CET
DTSTART:20241027T010000
END:STANDARD
BEGIN:DAYLIGHT
TZOFFSETFROM:+0100
TZOFFSETTO:+0200
TZNAME:CEST
DTSTART:20250330T010000
END:DAYLIGHT
BEGIN:STANDARD
TZOFFSETFROM:+0200
TZOFFSETTO:+0100
TZNAME:CET
DTSTART:20251026T010000
END:STANDARD
END:VTIMEZONE
BEGIN:VEVENT
DTSTART;TZID=Europe/Madrid:20240528T100000
DTEND;TZID=Europe/Madrid:20240528T103000
DTSTAMP:20260425T184726
CREATED:20240519T000026Z
LAST-MODIFIED:20240519T000026Z
UID:15971-1716890400-1716892200@innersparklife.com
SUMMARY:Inner Spark Free Discovery Call
DESCRIPTION:ev_4211027
URL:https://innersparklife.com/event/inner-spark-free-discovery-call-37/
LOCATION:Bigbluebutton\, None
CATEGORIES:individual_sessions
ATTACH;FMTTYPE=image/jpeg:https://innersparklife.com/wp-content/uploads/2024/05/cropped_event_image-84.jpg
END:VEVENT
BEGIN:VEVENT
DTSTART;TZID=Europe/Madrid:20240528T120000
DTEND;TZID=Europe/Madrid:20240528T123000
DTSTAMP:20260425T184726
CREATED:20240519T000028Z
LAST-MODIFIED:20240519T000028Z
UID:15973-1716897600-1716899400@innersparklife.com
SUMMARY:Inner Spark Free Discovery Call
DESCRIPTION:ev_4211028
URL:https://innersparklife.com/event/inner-spark-free-discovery-call-38/
LOCATION:Bigbluebutton\, None
CATEGORIES:individual_sessions
ATTACH;FMTTYPE=image/jpeg:https://innersparklife.com/wp-content/uploads/2024/05/cropped_event_image-85.jpg
END:VEVENT
BEGIN:VEVENT
DTSTART;TZID=Europe/Madrid:20240528T150000
DTEND;TZID=Europe/Madrid:20240528T153000
DTSTAMP:20260425T184726
CREATED:20240519T000030Z
LAST-MODIFIED:20240519T000030Z
UID:15975-1716908400-1716910200@innersparklife.com
SUMMARY:Inner Spark Free Discovery Call
DESCRIPTION:ev_4211029
URL:https://innersparklife.com/event/inner-spark-free-discovery-call-39/
LOCATION:Bigbluebutton\, None
CATEGORIES:individual_sessions
ATTACH;FMTTYPE=image/jpeg:https://innersparklife.com/wp-content/uploads/2024/05/cropped_event_image-86.jpg
END:VEVENT
BEGIN:VEVENT
DTSTART;TZID=Europe/Madrid:20240528T150000
DTEND;TZID=Europe/Madrid:20240528T163000
DTSTAMP:20260425T184726
CREATED:20240519T000021Z
LAST-MODIFIED:20240519T000021Z
UID:15969-1716908400-1716913800@innersparklife.com
SUMMARY:Individual Drum Journey
DESCRIPTION:ev_4211026
URL:https://innersparklife.com/event/individual-drum-journey-64/
LOCATION:online\, 1150 Brussels
CATEGORIES:individual_sessions
END:VEVENT
BEGIN:VEVENT
DTSTART;TZID=Europe/Madrid:20240528T170000
DTEND;TZID=Europe/Madrid:20240528T173000
DTSTAMP:20260425T184726
CREATED:20240519T000032Z
LAST-MODIFIED:20240519T000032Z
UID:15977-1716915600-1716917400@innersparklife.com
SUMMARY:Inner Spark Free Discovery Call
DESCRIPTION:ev_4211030
URL:https://innersparklife.com/event/inner-spark-free-discovery-call-40/
LOCATION:Bigbluebutton\, None
CATEGORIES:individual_sessions
ATTACH;FMTTYPE=image/jpeg:https://innersparklife.com/wp-content/uploads/2024/05/cropped_event_image-87.jpg
END:VEVENT
BEGIN:VEVENT
DTSTART;TZID=Europe/Madrid:20240528T180000
DTEND;TZID=Europe/Madrid:20240528T190000
DTSTAMP:20260425T184726
CREATED:20240527T132709Z
LAST-MODIFIED:20240527T132709Z
UID:16007-1716919200-1716922800@innersparklife.com
SUMMARY:Free Online Webinar - Protection against Energetic Attacks: How to Transcend Negative Influences
DESCRIPTION:ev_4225312
URL:https://innersparklife.com/event/free-online-webinar-protection-against-energetic-attacks-how-to-transcend-negative-influences-6/
LOCATION:Bigbluebutton\, None
CATEGORIES:brussels_events
ATTACH;FMTTYPE=image/jpeg:https://innersparklife.com/wp-content/uploads/2024/05/cropped_event_image-127.jpg
END:VEVENT
BEGIN:VEVENT
DTSTART;TZID=Europe/Madrid:20240529T100000
DTEND;TZID=Europe/Madrid:20240529T103000
DTSTAMP:20260425T184726
CREATED:20240520T000027Z
LAST-MODIFIED:20240520T000027Z
UID:15981-1716976800-1716978600@innersparklife.com
SUMMARY:Inner Spark Free Discovery Call
DESCRIPTION:ev_4211841
URL:https://innersparklife.com/event/inner-spark-free-discovery-call-41/
LOCATION:Bigbluebutton\, None
CATEGORIES:individual_sessions
ATTACH;FMTTYPE=image/jpeg:https://innersparklife.com/wp-content/uploads/2024/05/cropped_event_image-89.jpg
END:VEVENT
BEGIN:VEVENT
DTSTART;TZID=Europe/Madrid:20240529T120000
DTEND;TZID=Europe/Madrid:20240529T123000
DTSTAMP:20260425T184726
CREATED:20240520T000029Z
LAST-MODIFIED:20240520T000029Z
UID:15983-1716984000-1716985800@innersparklife.com
SUMMARY:Inner Spark Free Discovery Call
DESCRIPTION:ev_4211842
URL:https://innersparklife.com/event/inner-spark-free-discovery-call-42/
LOCATION:Bigbluebutton\, None
CATEGORIES:individual_sessions
ATTACH;FMTTYPE=image/jpeg:https://innersparklife.com/wp-content/uploads/2024/05/cropped_event_image-90.jpg
END:VEVENT
BEGIN:VEVENT
DTSTART;TZID=Europe/Madrid:20240529T120000
DTEND;TZID=Europe/Madrid:20240529T133000
DTSTAMP:20260425T184726
CREATED:20240520T000014Z
LAST-MODIFIED:20240520T000014Z
UID:15979-1716984000-1716989400@innersparklife.com
SUMMARY:Individual Drum Journey
DESCRIPTION:ev_4211840
URL:https://innersparklife.com/event/individual-drum-journey-65/
LOCATION:online\, 1150 Brussels
CATEGORIES:individual_sessions
ATTACH;FMTTYPE=image/jpeg:https://innersparklife.com/wp-content/uploads/2024/05/cropped_event_image-88.jpg
END:VEVENT
BEGIN:VEVENT
DTSTART;TZID=Europe/Madrid:20240529T150000
DTEND;TZID=Europe/Madrid:20240529T153000
DTSTAMP:20260425T184726
CREATED:20240520T000030Z
LAST-MODIFIED:20240520T000030Z
UID:15985-1716994800-1716996600@innersparklife.com
SUMMARY:Inner Spark Free Discovery Call
DESCRIPTION:ev_4211843
URL:https://innersparklife.com/event/inner-spark-free-discovery-call-43/
LOCATION:Bigbluebutton\, None
CATEGORIES:individual_sessions
ATTACH;FMTTYPE=image/jpeg:https://innersparklife.com/wp-content/uploads/2024/05/cropped_event_image-91.jpg
END:VEVENT
BEGIN:VEVENT
DTSTART;TZID=Europe/Madrid:20240529T170000
DTEND;TZID=Europe/Madrid:20240529T173000
DTSTAMP:20260425T184726
CREATED:20240520T000032Z
LAST-MODIFIED:20240520T000032Z
UID:15987-1717002000-1717003800@innersparklife.com
SUMMARY:Inner Spark Free Discovery Call
DESCRIPTION:ev_4211844
URL:https://innersparklife.com/event/inner-spark-free-discovery-call-44/
LOCATION:Bigbluebutton\, None
CATEGORIES:individual_sessions
ATTACH;FMTTYPE=image/jpeg:https://innersparklife.com/wp-content/uploads/2024/05/cropped_event_image-92.jpg
END:VEVENT
BEGIN:VEVENT
DTSTART;TZID=Europe/Madrid:20240530T100000
DTEND;TZID=Europe/Madrid:20240530T103000
DTSTAMP:20260425T184726
CREATED:20240521T000029Z
LAST-MODIFIED:20240521T000029Z
UID:15991-1717063200-1717065000@innersparklife.com
SUMMARY:Inner Spark Free Discovery Call
DESCRIPTION:ev_4214716
URL:https://innersparklife.com/event/inner-spark-free-discovery-call-45/
LOCATION:Bigbluebutton\, None
CATEGORIES:individual_sessions
ATTACH;FMTTYPE=image/jpeg:https://innersparklife.com/wp-content/uploads/2024/05/cropped_event_image-94.jpg
END:VEVENT
BEGIN:VEVENT
DTSTART;TZID=Europe/Madrid:20240530T120000
DTEND;TZID=Europe/Madrid:20240530T123000
DTSTAMP:20260425T184726
CREATED:20240521T000031Z
LAST-MODIFIED:20240521T000031Z
UID:15993-1717070400-1717072200@innersparklife.com
SUMMARY:Inner Spark Free Discovery Call
DESCRIPTION:ev_4214717
URL:https://innersparklife.com/event/inner-spark-free-discovery-call-46/
LOCATION:Bigbluebutton\, None
CATEGORIES:individual_sessions
ATTACH;FMTTYPE=image/jpeg:https://innersparklife.com/wp-content/uploads/2024/05/cropped_event_image-95.jpg
END:VEVENT
BEGIN:VEVENT
DTSTART;TZID=Europe/Madrid:20240530T150000
DTEND;TZID=Europe/Madrid:20240530T153000
DTSTAMP:20260425T184726
CREATED:20240521T000033Z
LAST-MODIFIED:20240521T000033Z
UID:15995-1717081200-1717083000@innersparklife.com
SUMMARY:Inner Spark Free Discovery Call
DESCRIPTION:ev_4214718
URL:https://innersparklife.com/event/inner-spark-free-discovery-call-47/
LOCATION:Bigbluebutton\, None
CATEGORIES:individual_sessions
ATTACH;FMTTYPE=image/jpeg:https://innersparklife.com/wp-content/uploads/2024/05/cropped_event_image-96.jpg
END:VEVENT
BEGIN:VEVENT
DTSTART;TZID=Europe/Madrid:20240530T170000
DTEND;TZID=Europe/Madrid:20240530T173000
DTSTAMP:20260425T184726
CREATED:20240521T000035Z
LAST-MODIFIED:20240521T000035Z
UID:15997-1717088400-1717090200@innersparklife.com
SUMMARY:Inner Spark Free Discovery Call
DESCRIPTION:ev_4214719
URL:https://innersparklife.com/event/inner-spark-free-discovery-call-48/
LOCATION:Bigbluebutton\, None
CATEGORIES:individual_sessions
ATTACH;FMTTYPE=image/jpeg:https://innersparklife.com/wp-content/uploads/2024/05/cropped_event_image-97.jpg
END:VEVENT
BEGIN:VEVENT
DTSTART;TZID=Europe/Madrid:20240531T150000
DTEND;TZID=Europe/Madrid:20240531T163000
DTSTAMP:20260425T184726
CREATED:20240522T000013Z
LAST-MODIFIED:20240522T000013Z
UID:16002-1717167600-1717173000@innersparklife.com
SUMMARY:Individual Drum Journey
DESCRIPTION:ev_4223282
URL:https://innersparklife.com/event/individual-drum-journey-67/
LOCATION:online\, 1150 Brussels
CATEGORIES:individual_sessions
ATTACH;FMTTYPE=image/jpeg:https://innersparklife.com/wp-content/uploads/2024/05/cropped_event_image-100.jpg
END:VEVENT
BEGIN:VEVENT
DTSTART;TZID=Europe/Madrid:20240602T090000
DTEND;TZID=Europe/Madrid:20240602T200000
DTSTAMP:20260425T184726
CREATED:20240528T193843Z
LAST-MODIFIED:20240528T193843Z
UID:16092-1717318800-1717358400@innersparklife.com
SUMMARY:Drum Meditation in Nature: Hike in Valle du Ninglinspo
DESCRIPTION:ev_4242001
URL:https://innersparklife.com/event/drum-meditation-in-nature-hike-in-valle-du-ninglinspo/
LOCATION:Valle du Ninglinspo\, None
CATEGORIES:brussels_events
ATTACH;FMTTYPE=image/jpeg:https://innersparklife.com/wp-content/uploads/2024/05/cropped_event_image-137.jpg
END:VEVENT
BEGIN:VEVENT
DTSTART;TZID=Europe/Madrid:20240603T100000
DTEND;TZID=Europe/Madrid:20240603T103000
DTSTAMP:20260425T184726
CREATED:20240525T000022Z
LAST-MODIFIED:20240525T000022Z
UID:16032-1717408800-1717410600@innersparklife.com
SUMMARY:Inner Spark Free Discovery Call
DESCRIPTION:ev_4239900
URL:https://innersparklife.com/event/inner-spark-free-discovery-call-49/
LOCATION:Bigbluebutton\, None
CATEGORIES:individual_sessions
ATTACH;FMTTYPE=image/jpeg:https://innersparklife.com/wp-content/uploads/2024/05/cropped_event_image-107.jpg
END:VEVENT
BEGIN:VEVENT
DTSTART;TZID=Europe/Madrid:20240603T100000
DTEND;TZID=Europe/Madrid:20240603T113000
DTSTAMP:20260425T184726
CREATED:20240525T000012Z
LAST-MODIFIED:20240525T000012Z
UID:16030-1717408800-1717414200@innersparklife.com
SUMMARY:Individual Drum Journey
DESCRIPTION:ev_4239899
URL:https://innersparklife.com/event/individual-drum-journey-68/
LOCATION:online\, 1150 Brussels
CATEGORIES:individual_sessions
ATTACH;FMTTYPE=image/jpeg:https://innersparklife.com/wp-content/uploads/2024/05/cropped_event_image-106.jpg
END:VEVENT
BEGIN:VEVENT
DTSTART;TZID=Europe/Madrid:20240603T120000
DTEND;TZID=Europe/Madrid:20240603T123000
DTSTAMP:20260425T184726
CREATED:20240525T000024Z
LAST-MODIFIED:20240525T000024Z
UID:16034-1717416000-1717417800@innersparklife.com
SUMMARY:Inner Spark Free Discovery Call
DESCRIPTION:ev_4239901
URL:https://innersparklife.com/event/inner-spark-free-discovery-call-50/
LOCATION:Bigbluebutton\, None
CATEGORIES:individual_sessions
ATTACH;FMTTYPE=image/jpeg:https://innersparklife.com/wp-content/uploads/2024/05/cropped_event_image-108.jpg
END:VEVENT
BEGIN:VEVENT
DTSTART;TZID=Europe/Madrid:20240603T150000
DTEND;TZID=Europe/Madrid:20240603T153000
DTSTAMP:20260425T184726
CREATED:20240525T000026Z
LAST-MODIFIED:20240525T000026Z
UID:16036-1717426800-1717428600@innersparklife.com
SUMMARY:Inner Spark Free Discovery Call
DESCRIPTION:ev_4239902
URL:https://innersparklife.com/event/inner-spark-free-discovery-call-51/
LOCATION:Bigbluebutton\, None
CATEGORIES:individual_sessions
ATTACH;FMTTYPE=image/jpeg:https://innersparklife.com/wp-content/uploads/2024/05/cropped_event_image-109.jpg
END:VEVENT
BEGIN:VEVENT
DTSTART;TZID=Europe/Madrid:20240603T170000
DTEND;TZID=Europe/Madrid:20240603T173000
DTSTAMP:20260425T184726
CREATED:20240525T000027Z
LAST-MODIFIED:20240525T000027Z
UID:16038-1717434000-1717435800@innersparklife.com
SUMMARY:Inner Spark Free Discovery Call
DESCRIPTION:ev_4239903
URL:https://innersparklife.com/event/inner-spark-free-discovery-call-52/
LOCATION:Bigbluebutton\, None
CATEGORIES:individual_sessions
ATTACH;FMTTYPE=image/jpeg:https://innersparklife.com/wp-content/uploads/2024/05/cropped_event_image-110.jpg
END:VEVENT
BEGIN:VEVENT
DTSTART;TZID=Europe/Madrid:20240603T193000
DTEND;TZID=Europe/Madrid:20240603T210000
DTSTAMP:20260425T184726
CREATED:20240527T214702Z
LAST-MODIFIED:20240527T214702Z
UID:16118-1717443000-1717448400@innersparklife.com
SUMMARY:Drum Meditation Brussels
DESCRIPTION:ev_4242649
URL:https://innersparklife.com/event/drum-meditation-brussels-121/
LOCATION:Woluwe Saint Pierre\, 1150
CATEGORIES:brussels_events
ATTACH;FMTTYPE=image/jpeg:https://innersparklife.com/wp-content/uploads/2024/05/cropped_event_image-131.jpg
END:VEVENT
BEGIN:VEVENT
DTSTART;TZID=Europe/Madrid:20240604T100000
DTEND;TZID=Europe/Madrid:20240604T103000
DTSTAMP:20260425T184726
CREATED:20240526T000027Z
LAST-MODIFIED:20240526T000027Z
UID:16068-1717495200-1717497000@innersparklife.com
SUMMARY:Inner Spark Free Discovery Call
DESCRIPTION:ev_4240646
URL:https://innersparklife.com/event/inner-spark-free-discovery-call-53/
LOCATION:Bigbluebutton\, None
CATEGORIES:individual_sessions
ATTACH;FMTTYPE=image/jpeg:https://innersparklife.com/wp-content/uploads/2024/05/cropped_event_image-114.jpg
END:VEVENT
BEGIN:VEVENT
DTSTART;TZID=Europe/Madrid:20240604T120000
DTEND;TZID=Europe/Madrid:20240604T123000
DTSTAMP:20260425T184726
CREATED:20240526T000029Z
LAST-MODIFIED:20240526T000029Z
UID:16070-1717502400-1717504200@innersparklife.com
SUMMARY:Inner Spark Free Discovery Call
DESCRIPTION:ev_4240647
URL:https://innersparklife.com/event/inner-spark-free-discovery-call-54/
LOCATION:Bigbluebutton\, None
CATEGORIES:individual_sessions
END:VEVENT
BEGIN:VEVENT
DTSTART;TZID=Europe/Madrid:20240604T150000
DTEND;TZID=Europe/Madrid:20240604T153000
DTSTAMP:20260425T184726
CREATED:20240526T000030Z
LAST-MODIFIED:20240526T000030Z
UID:16072-1717513200-1717515000@innersparklife.com
SUMMARY:Inner Spark Free Discovery Call
DESCRIPTION:ev_4240648
URL:https://innersparklife.com/event/inner-spark-free-discovery-call-55/
LOCATION:Bigbluebutton\, None
CATEGORIES:individual_sessions
END:VEVENT
BEGIN:VEVENT
DTSTART;TZID=Europe/Madrid:20240604T170000
DTEND;TZID=Europe/Madrid:20240604T173000
DTSTAMP:20260425T184726
CREATED:20240526T000032Z
LAST-MODIFIED:20240526T000032Z
UID:16074-1717520400-1717522200@innersparklife.com
SUMMARY:Inner Spark Free Discovery Call
DESCRIPTION:ev_4240649
URL:https://innersparklife.com/event/inner-spark-free-discovery-call-56/
LOCATION:Bigbluebutton\, None
CATEGORIES:individual_sessions
END:VEVENT
BEGIN:VEVENT
DTSTART;TZID=Europe/Madrid:20240605T100000
DTEND;TZID=Europe/Madrid:20240605T103000
DTSTAMP:20260425T184726
CREATED:20240527T000027Z
LAST-MODIFIED:20240527T000027Z
UID:16084-1717581600-1717583400@innersparklife.com
SUMMARY:Inner Spark Free Discovery Call
DESCRIPTION:ev_4241367
URL:https://innersparklife.com/event/inner-spark-free-discovery-call-57/
LOCATION:Bigbluebutton\, None
CATEGORIES:individual_sessions
END:VEVENT
BEGIN:VEVENT
DTSTART;TZID=Europe/Madrid:20240605T120000
DTEND;TZID=Europe/Madrid:20240605T123000
DTSTAMP:20260425T184726
CREATED:20240527T000029Z
LAST-MODIFIED:20240527T000029Z
UID:16086-1717588800-1717590600@innersparklife.com
SUMMARY:Inner Spark Free Discovery Call
DESCRIPTION:ev_4241368
URL:https://innersparklife.com/event/inner-spark-free-discovery-call-58/
LOCATION:Bigbluebutton\, None
CATEGORIES:individual_sessions
END:VEVENT
BEGIN:VEVENT
DTSTART;TZID=Europe/Madrid:20240605T150000
DTEND;TZID=Europe/Madrid:20240605T153000
DTSTAMP:20260425T184726
CREATED:20240527T000031Z
LAST-MODIFIED:20240527T000031Z
UID:16088-1717599600-1717601400@innersparklife.com
SUMMARY:Inner Spark Free Discovery Call
DESCRIPTION:ev_4241369
URL:https://innersparklife.com/event/inner-spark-free-discovery-call-59/
LOCATION:Bigbluebutton\, None
CATEGORIES:individual_sessions
END:VEVENT
END:VCALENDAR