BEGIN:VCALENDAR
VERSION:2.0
PRODID:-//Inner Spark - ECPv6.15.20//NONSGML v1.0//EN
CALSCALE:GREGORIAN
METHOD:PUBLISH
X-WR-CALNAME:Inner Spark
X-ORIGINAL-URL:https://innersparklife.com
X-WR-CALDESC:Events for Inner Spark
REFRESH-INTERVAL;VALUE=DURATION:PT1H
X-Robots-Tag:noindex
X-PUBLISHED-TTL:PT1H
BEGIN:VTIMEZONE
TZID:Europe/Madrid
BEGIN:DAYLIGHT
TZOFFSETFROM:+0100
TZOFFSETTO:+0200
TZNAME:CEST
DTSTART:20230326T010000
END:DAYLIGHT
BEGIN:STANDARD
TZOFFSETFROM:+0200
TZOFFSETTO:+0100
TZNAME:CET
DTSTART:20231029T010000
END:STANDARD
BEGIN:DAYLIGHT
TZOFFSETFROM:+0100
TZOFFSETTO:+0200
TZNAME:CEST
DTSTART:20240331T010000
END:DAYLIGHT
BEGIN:STANDARD
TZOFFSETFROM:+0200
TZOFFSETTO:+0100
TZNAME:CET
DTSTART:20241027T010000
END:STANDARD
BEGIN:DAYLIGHT
TZOFFSETFROM:+0100
TZOFFSETTO:+0200
TZNAME:CEST
DTSTART:20250330T010000
END:DAYLIGHT
BEGIN:STANDARD
TZOFFSETFROM:+0200
TZOFFSETTO:+0100
TZNAME:CET
DTSTART:20251026T010000
END:STANDARD
END:VTIMEZONE
BEGIN:VEVENT
DTSTART;TZID=Europe/Madrid:20240523T150000
DTEND;TZID=Europe/Madrid:20240523T153000
DTSTAMP:20260425T125936
CREATED:20240516T180119Z
LAST-MODIFIED:20240516T180119Z
UID:15939-1716476400-1716478200@innersparklife.com
SUMMARY:Inner Spark Free Discovery Call
DESCRIPTION:ev_4207442
URL:https://innersparklife.com/event/inner-spark-free-discovery-call-23/
LOCATION:Bigbluebutton\, None
CATEGORIES:individual_sessions
END:VEVENT
BEGIN:VEVENT
DTSTART;TZID=Europe/Madrid:20240523T120000
DTEND;TZID=Europe/Madrid:20240523T123000
DTSTAMP:20260425T125936
CREATED:20240516T180117Z
LAST-MODIFIED:20240516T180117Z
UID:15937-1716465600-1716467400@innersparklife.com
SUMMARY:Inner Spark Free Discovery Call
DESCRIPTION:ev_4207441
URL:https://innersparklife.com/event/inner-spark-free-discovery-call-22/
LOCATION:Bigbluebutton\, None
CATEGORIES:individual_sessions
END:VEVENT
BEGIN:VEVENT
DTSTART;TZID=Europe/Madrid:20240523T100000
DTEND;TZID=Europe/Madrid:20240523T103000
DTSTAMP:20260425T125936
CREATED:20240516T180115Z
LAST-MODIFIED:20240516T180115Z
UID:15935-1716458400-1716460200@innersparklife.com
SUMMARY:Inner Spark Free Discovery Call
DESCRIPTION:ev_4207440
URL:https://innersparklife.com/event/inner-spark-free-discovery-call-21/
LOCATION:Bigbluebutton\, None
CATEGORIES:individual_sessions
END:VEVENT
BEGIN:VEVENT
DTSTART;TZID=Europe/Madrid:20240522T190000
DTEND;TZID=Europe/Madrid:20240522T200000
DTSTAMP:20260425T125936
CREATED:20240522T154745Z
LAST-MODIFIED:20240522T154745Z
UID:15823-1716404400-1716408000@innersparklife.com
SUMMARY:Free Online Webinar - Protection against Energetic Attacks: How to Transcend Negative Influences
DESCRIPTION:ev_4202336
URL:https://innersparklife.com/event/free-online-webinar-protection-against-energetic-attacks-how-to-transcend-negative-influences-4/
LOCATION:Bigbluebutton\, None
CATEGORIES:brussels_events
ATTACH;FMTTYPE=image/jpeg:https://innersparklife.com/wp-content/uploads/2024/05/cropped_event_image-101.jpg
END:VEVENT
BEGIN:VEVENT
DTSTART;TZID=Europe/Madrid:20240522T170000
DTEND;TZID=Europe/Madrid:20240522T173000
DTSTAMP:20260425T125936
CREATED:20240516T175747Z
LAST-MODIFIED:20240516T175747Z
UID:15933-1716397200-1716399000@innersparklife.com
SUMMARY:Inner Spark Free Discovery Call
DESCRIPTION:ev_4207435
URL:https://innersparklife.com/event/inner-spark-free-discovery-call-15/
LOCATION:Bigbluebutton\, None
CATEGORIES:individual_sessions
END:VEVENT
BEGIN:VEVENT
DTSTART;TZID=Europe/Madrid:20240522T150000
DTEND;TZID=Europe/Madrid:20240522T153000
DTSTAMP:20260425T125936
CREATED:20240516T175745Z
LAST-MODIFIED:20240516T175745Z
UID:15931-1716390000-1716391800@innersparklife.com
SUMMARY:Inner Spark Free Discovery Call
DESCRIPTION:ev_4207434
URL:https://innersparklife.com/event/inner-spark-free-discovery-call-14/
LOCATION:Bigbluebutton\, None
CATEGORIES:individual_sessions
END:VEVENT
BEGIN:VEVENT
DTSTART;TZID=Europe/Madrid:20240522T120000
DTEND;TZID=Europe/Madrid:20240522T133000
DTSTAMP:20260425T125936
CREATED:20240513T000018Z
LAST-MODIFIED:20240513T000018Z
UID:15680-1716379200-1716384600@innersparklife.com
SUMMARY:Individual Drum Journey
DESCRIPTION:ev_4193106
URL:https://innersparklife.com/event/individual-drum-journey-61/
LOCATION:online\, 1150 Brussels
CATEGORIES:individual_sessions
ATTACH;FMTTYPE=image/jpeg:https://innersparklife.com/wp-content/uploads/2024/05/cropped_event_image-20.jpg
END:VEVENT
BEGIN:VEVENT
DTSTART;TZID=Europe/Madrid:20240522T120000
DTEND;TZID=Europe/Madrid:20240522T123000
DTSTAMP:20260425T125936
CREATED:20240516T175742Z
LAST-MODIFIED:20240516T175742Z
UID:15929-1716379200-1716381000@innersparklife.com
SUMMARY:Inner Spark Free Discovery Call
DESCRIPTION:ev_4207433
URL:https://innersparklife.com/event/inner-spark-free-discovery-call-13/
LOCATION:Bigbluebutton\, None
CATEGORIES:individual_sessions
END:VEVENT
BEGIN:VEVENT
DTSTART;TZID=Europe/Madrid:20240522T100000
DTEND;TZID=Europe/Madrid:20240522T103000
DTSTAMP:20260425T125936
CREATED:20240516T175741Z
LAST-MODIFIED:20240516T175741Z
UID:15927-1716372000-1716373800@innersparklife.com
SUMMARY:Inner Spark Free Discovery Call
DESCRIPTION:ev_4207432
URL:https://innersparklife.com/event/inner-spark-free-discovery-call-12/
LOCATION:Bigbluebutton\, None
CATEGORIES:individual_sessions
END:VEVENT
BEGIN:VEVENT
DTSTART;TZID=Europe/Madrid:20240521T180000
DTEND;TZID=Europe/Madrid:20240521T190000
DTSTAMP:20260425T125936
CREATED:20240515T105114Z
LAST-MODIFIED:20240515T140233Z
UID:15821-1716314400-1716318000@innersparklife.com
SUMMARY:Free Online Webinar - Protection against Energetic Attacks: How to Transcend Negative Influences
DESCRIPTION:ev_4202335
URL:https://innersparklife.com/event/free-online-webinar-protection-against-energetic-attacks-how-to-transcend-negative-influences-2/
LOCATION:Bigblutbutton\, None
CATEGORIES:brussels_events
END:VEVENT
BEGIN:VEVENT
DTSTART;TZID=Europe/Madrid:20240521T170000
DTEND;TZID=Europe/Madrid:20240521T173000
DTSTAMP:20260425T125936
CREATED:20240516T175711Z
LAST-MODIFIED:20240516T175711Z
UID:15921-1716310800-1716312600@innersparklife.com
SUMMARY:Inner Spark Free Discovery Call
DESCRIPTION:ev_4207431
URL:https://innersparklife.com/event/inner-spark-free-discovery-call-20/
LOCATION:Bigbluebutton\, None
CATEGORIES:individual_sessions
END:VEVENT
BEGIN:VEVENT
DTSTART;TZID=Europe/Madrid:20240521T150000
DTEND;TZID=Europe/Madrid:20240521T163000
DTSTAMP:20260425T125936
CREATED:20240512T000013Z
LAST-MODIFIED:20240512T000013Z
UID:15675-1716303600-1716309000@innersparklife.com
SUMMARY:Individual Drum Journey
DESCRIPTION:ev_4192107
URL:https://innersparklife.com/event/individual-drum-journey-60/
LOCATION:online\, 1150 Brussels
CATEGORIES:individual_sessions
ATTACH;FMTTYPE=image/jpeg:https://innersparklife.com/wp-content/uploads/2024/05/cropped_event_image-19.jpg
END:VEVENT
BEGIN:VEVENT
DTSTART;TZID=Europe/Madrid:20240521T150000
DTEND;TZID=Europe/Madrid:20240521T153000
DTSTAMP:20260425T125936
CREATED:20240516T175709Z
LAST-MODIFIED:20240516T175709Z
UID:15919-1716303600-1716305400@innersparklife.com
SUMMARY:Inner Spark Free Discovery Call
DESCRIPTION:ev_4207430
URL:https://innersparklife.com/event/inner-spark-free-discovery-call-19/
LOCATION:Bigbluebutton\, None
CATEGORIES:individual_sessions
END:VEVENT
BEGIN:VEVENT
DTSTART;TZID=Europe/Madrid:20240521T120000
DTEND;TZID=Europe/Madrid:20240521T123000
DTSTAMP:20260425T125936
CREATED:20240516T175707Z
LAST-MODIFIED:20240516T175707Z
UID:15917-1716292800-1716294600@innersparklife.com
SUMMARY:Inner Spark Free Discovery Call
DESCRIPTION:ev_4207429
URL:https://innersparklife.com/event/inner-spark-free-discovery-call-18/
LOCATION:Bigbluebutton\, None
CATEGORIES:individual_sessions
END:VEVENT
BEGIN:VEVENT
DTSTART;TZID=Europe/Madrid:20240521T100000
DTEND;TZID=Europe/Madrid:20240521T103000
DTSTAMP:20260425T125936
CREATED:20240516T175705Z
LAST-MODIFIED:20240516T175705Z
UID:15915-1716285600-1716287400@innersparklife.com
SUMMARY:Inner Spark Free Discovery Call
DESCRIPTION:ev_4207428
URL:https://innersparklife.com/event/inner-spark-free-discovery-call-17/
LOCATION:Bigbluebutton\, None
CATEGORIES:individual_sessions
END:VEVENT
BEGIN:VEVENT
DTSTART;TZID=Europe/Madrid:20240520T193000
DTEND;TZID=Europe/Madrid:20240520T210000
DTSTAMP:20260425T125936
CREATED:20240512T000820Z
LAST-MODIFIED:20240512T000820Z
UID:15678-1716233400-1716238800@innersparklife.com
SUMMARY:Drum Meditation Brussels
DESCRIPTION:ev_4192108
URL:https://innersparklife.com/event/drum-meditation-brussels-119/
LOCATION:Woluwe Saint Pierre\, 1150
CATEGORIES:brussels_events
ATTACH;FMTTYPE=image/jpeg:https://innersparklife.com/wp-content/uploads/2024/05/cropped_event_image-2.jpg
END:VEVENT
BEGIN:VEVENT
DTSTART;TZID=Europe/Madrid:20240520T170000
DTEND;TZID=Europe/Madrid:20240520T173000
DTSTAMP:20260425T125936
CREATED:20240516T175039Z
LAST-MODIFIED:20240516T175039Z
UID:15900-1716224400-1716226200@innersparklife.com
SUMMARY:Inner Spark Free Discovery Call
DESCRIPTION:ev_4207416
URL:https://innersparklife.com/event/inner-spark-free-discovery-call-11/
LOCATION:Bigblutbutton\, None
CATEGORIES:individual_sessions
END:VEVENT
BEGIN:VEVENT
DTSTART;TZID=Europe/Madrid:20240520T150000
DTEND;TZID=Europe/Madrid:20240520T153000
DTSTAMP:20260425T125936
CREATED:20240516T175108Z
LAST-MODIFIED:20240516T175108Z
UID:15910-1716217200-1716219000@innersparklife.com
SUMMARY:Inner Spark Free Discovery Call
DESCRIPTION:ev_4207415
URL:https://innersparklife.com/event/inner-spark-free-discovery-call-16/
LOCATION:Bigblutbutton\, None
CATEGORIES:individual_sessions
END:VEVENT
BEGIN:VEVENT
DTSTART;TZID=Europe/Madrid:20240520T120000
DTEND;TZID=Europe/Madrid:20240520T123000
DTSTAMP:20260425T125936
CREATED:20240516T175037Z
LAST-MODIFIED:20240516T175037Z
UID:15898-1716206400-1716208200@innersparklife.com
SUMMARY:Inner Spark Free Discovery Call
DESCRIPTION:ev_4207414
URL:https://innersparklife.com/event/inner-spark-free-discovery-call-10/
LOCATION:Bigblutbutton\, None
CATEGORIES:individual_sessions
END:VEVENT
BEGIN:VEVENT
DTSTART;TZID=Europe/Madrid:20240520T100000
DTEND;TZID=Europe/Madrid:20240520T113000
DTSTAMP:20260425T125936
CREATED:20240511T000013Z
LAST-MODIFIED:20240511T000013Z
UID:15663-1716199200-1716204600@innersparklife.com
SUMMARY:Individual Drum Journey
DESCRIPTION:ev_4191566
URL:https://innersparklife.com/event/individual-drum-journey-59/
LOCATION:online\, 1150 Brussels
CATEGORIES:individual_sessions
ATTACH;FMTTYPE=image/jpeg:https://innersparklife.com/wp-content/uploads/2024/05/cropped_event_image-16.jpg
END:VEVENT
BEGIN:VEVENT
DTSTART;TZID=Europe/Madrid:20240520T100000
DTEND;TZID=Europe/Madrid:20240520T103000
DTSTAMP:20260425T125936
CREATED:20240516T175034Z
LAST-MODIFIED:20240516T175034Z
UID:15896-1716199200-1716201000@innersparklife.com
SUMMARY:Inner Spark Free Discovery Call
DESCRIPTION:ev_4207413
URL:https://innersparklife.com/event/inner-spark-free-discovery-call-9/
LOCATION:Bigblutbutton\, None
CATEGORIES:individual_sessions
END:VEVENT
BEGIN:VEVENT
DTSTART;TZID=Europe/Madrid:20240519T090000
DTEND;TZID=Europe/Madrid:20240519T200000
DTSTAMP:20260425T125936
CREATED:20240510T200956Z
LAST-MODIFIED:20240510T200956Z
UID:15647-1716109200-1716148800@innersparklife.com
SUMMARY:Drum Meditation in Nature: Hike in Semois River
DESCRIPTION:ev_4191016
URL:https://innersparklife.com/event/drum-meditation-in-nature-hike-in-semois-river/
LOCATION:the Ardennes natural park\, None
CATEGORIES:brussels_events
ATTACH;FMTTYPE=image/jpeg:https://innersparklife.com/wp-content/uploads/2024/05/cropped_event_image-15.jpg
END:VEVENT
BEGIN:VEVENT
DTSTART;TZID=Europe/Madrid:20240518T180000
DTEND;TZID=Europe/Madrid:20240518T190000
DTSTAMP:20260425T125936
CREATED:20240515T111647Z
LAST-MODIFIED:20240515T111647Z
UID:15817-1716055200-1716058800@innersparklife.com
SUMMARY:Free Online Webinar - Protection against Energetic Attacks: How to Transcend Negative Influences
DESCRIPTION:ev_4202332
URL:https://innersparklife.com/event/free-online-webinar-protection-against-energetic-attacks-how-to-transcend-negative-influences-3/
LOCATION:Bigblutbutton\, None
CATEGORIES:individual_sessions
END:VEVENT
BEGIN:VEVENT
DTSTART;TZID=Europe/Madrid:20240518T170000
DTEND;TZID=Europe/Madrid:20240518T173000
DTSTAMP:20260425T125936
CREATED:20240516T175032Z
LAST-MODIFIED:20240516T175032Z
UID:15894-1716051600-1716053400@innersparklife.com
SUMMARY:Inner Spark Free Discovery Call
DESCRIPTION:ev_4207412
URL:https://innersparklife.com/event/inner-spark-free-discovery-call-8/
LOCATION:Bigblutbutton\, None
CATEGORIES:individual_sessions
END:VEVENT
BEGIN:VEVENT
DTSTART;TZID=Europe/Madrid:20240518T150000
DTEND;TZID=Europe/Madrid:20240518T153000
DTSTAMP:20260425T125936
CREATED:20240516T175030Z
LAST-MODIFIED:20240516T175030Z
UID:15892-1716044400-1716046200@innersparklife.com
SUMMARY:Inner Spark Free Discovery Call
DESCRIPTION:ev_4207411
URL:https://innersparklife.com/event/inner-spark-free-discovery-call-7/
LOCATION:Bigblutbutton\, None
CATEGORIES:individual_sessions
END:VEVENT
BEGIN:VEVENT
DTSTART;TZID=Europe/Madrid:20240518T120000
DTEND;TZID=Europe/Madrid:20240518T123000
DTSTAMP:20260425T125936
CREATED:20240516T175028Z
LAST-MODIFIED:20240516T175028Z
UID:15890-1716033600-1716035400@innersparklife.com
SUMMARY:Inner Spark Free Discovery Call
DESCRIPTION:ev_4207410
URL:https://innersparklife.com/event/inner-spark-free-discovery-call-6/
LOCATION:Bigblutbutton\, None
CATEGORIES:individual_sessions
END:VEVENT
BEGIN:VEVENT
DTSTART;TZID=Europe/Madrid:20240518T100000
DTEND;TZID=Europe/Madrid:20240518T110000
DTSTAMP:20260425T125936
CREATED:20240515T150559Z
LAST-MODIFIED:20240515T150559Z
UID:15815-1716026400-1716030000@innersparklife.com
SUMMARY:Free Online Webinar - Protection against Energetic Attacks: How to Transcend Negative Influences
DESCRIPTION:ev_4202331
URL:https://innersparklife.com/event/free-online-webinar-protection-against-energetic-attacks-how-to-transcend-negative-influences/
LOCATION:Bigbluebutton\, None
CATEGORIES:brussels_events
END:VEVENT
BEGIN:VEVENT
DTSTART;TZID=Europe/Madrid:20240518T100000
DTEND;TZID=Europe/Madrid:20240518T103000
DTSTAMP:20260425T125936
CREATED:20240516T175026Z
LAST-MODIFIED:20240516T175026Z
UID:15888-1716026400-1716028200@innersparklife.com
SUMMARY:Inner Spark Free Discovery Call
DESCRIPTION:ev_4207409
URL:https://innersparklife.com/event/inner-spark-free-discovery-call-5/
LOCATION:Bigblutbutton\, None
CATEGORIES:individual_sessions
END:VEVENT
BEGIN:VEVENT
DTSTART;TZID=Europe/Madrid:20240517T170000
DTEND;TZID=Europe/Madrid:20240517T173000
DTSTAMP:20260425T125936
CREATED:20240516T175024Z
LAST-MODIFIED:20240516T175024Z
UID:15886-1715965200-1715967000@innersparklife.com
SUMMARY:Inner Spark Free Discovery Call
DESCRIPTION:ev_4207408
URL:https://innersparklife.com/event/inner-spark-free-discovery-call-4/
LOCATION:Bigblutbutton\, None
CATEGORIES:individual_sessions
END:VEVENT
BEGIN:VEVENT
DTSTART;TZID=Europe/Madrid:20240517T150000
DTEND;TZID=Europe/Madrid:20240517T163000
DTSTAMP:20260425T125936
CREATED:20240508T072711Z
LAST-MODIFIED:20240508T072711Z
UID:15616-1715958000-1715963400@innersparklife.com
SUMMARY:Individual Drum Journey
DESCRIPTION:ev_4182918
URL:https://innersparklife.com/event/individual-drum-journey-57/
LOCATION:online / Brussels\, 1150 Brussels
CATEGORIES:individual_sessions
END:VEVENT
END:VCALENDAR