BEGIN:VCALENDAR
VERSION:2.0
PRODID:-//Inner Spark - ECPv6.15.20//NONSGML v1.0//EN
CALSCALE:GREGORIAN
METHOD:PUBLISH
X-WR-CALNAME:Inner Spark
X-ORIGINAL-URL:https://innersparklife.com
X-WR-CALDESC:Events for Inner Spark
REFRESH-INTERVAL;VALUE=DURATION:PT1H
X-Robots-Tag:noindex
X-PUBLISHED-TTL:PT1H
BEGIN:VTIMEZONE
TZID:Europe/Madrid
BEGIN:DAYLIGHT
TZOFFSETFROM:+0100
TZOFFSETTO:+0200
TZNAME:CEST
DTSTART:20230326T010000
END:DAYLIGHT
BEGIN:STANDARD
TZOFFSETFROM:+0200
TZOFFSETTO:+0100
TZNAME:CET
DTSTART:20231029T010000
END:STANDARD
BEGIN:DAYLIGHT
TZOFFSETFROM:+0100
TZOFFSETTO:+0200
TZNAME:CEST
DTSTART:20240331T010000
END:DAYLIGHT
BEGIN:STANDARD
TZOFFSETFROM:+0200
TZOFFSETTO:+0100
TZNAME:CET
DTSTART:20241027T010000
END:STANDARD
BEGIN:DAYLIGHT
TZOFFSETFROM:+0100
TZOFFSETTO:+0200
TZNAME:CEST
DTSTART:20250330T010000
END:DAYLIGHT
BEGIN:STANDARD
TZOFFSETFROM:+0200
TZOFFSETTO:+0100
TZNAME:CET
DTSTART:20251026T010000
END:STANDARD
END:VTIMEZONE
BEGIN:VEVENT
DTSTART;TZID=Europe/Madrid:20240518T170000
DTEND;TZID=Europe/Madrid:20240518T173000
DTSTAMP:20260425T175743
CREATED:20240516T175032Z
LAST-MODIFIED:20240516T175032Z
UID:15894-1716051600-1716053400@innersparklife.com
SUMMARY:Inner Spark Free Discovery Call
DESCRIPTION:ev_4207412
URL:https://innersparklife.com/event/inner-spark-free-discovery-call-8/
LOCATION:Bigblutbutton\, None
CATEGORIES:individual_sessions
END:VEVENT
BEGIN:VEVENT
DTSTART;TZID=Europe/Madrid:20240518T150000
DTEND;TZID=Europe/Madrid:20240518T153000
DTSTAMP:20260425T175743
CREATED:20240516T175030Z
LAST-MODIFIED:20240516T175030Z
UID:15892-1716044400-1716046200@innersparklife.com
SUMMARY:Inner Spark Free Discovery Call
DESCRIPTION:ev_4207411
URL:https://innersparklife.com/event/inner-spark-free-discovery-call-7/
LOCATION:Bigblutbutton\, None
CATEGORIES:individual_sessions
END:VEVENT
BEGIN:VEVENT
DTSTART;TZID=Europe/Madrid:20240518T120000
DTEND;TZID=Europe/Madrid:20240518T123000
DTSTAMP:20260425T175743
CREATED:20240516T175028Z
LAST-MODIFIED:20240516T175028Z
UID:15890-1716033600-1716035400@innersparklife.com
SUMMARY:Inner Spark Free Discovery Call
DESCRIPTION:ev_4207410
URL:https://innersparklife.com/event/inner-spark-free-discovery-call-6/
LOCATION:Bigblutbutton\, None
CATEGORIES:individual_sessions
END:VEVENT
BEGIN:VEVENT
DTSTART;TZID=Europe/Madrid:20240518T100000
DTEND;TZID=Europe/Madrid:20240518T110000
DTSTAMP:20260425T175743
CREATED:20240515T150559Z
LAST-MODIFIED:20240515T150559Z
UID:15815-1716026400-1716030000@innersparklife.com
SUMMARY:Free Online Webinar - Protection against Energetic Attacks: How to Transcend Negative Influences
DESCRIPTION:ev_4202331
URL:https://innersparklife.com/event/free-online-webinar-protection-against-energetic-attacks-how-to-transcend-negative-influences/
LOCATION:Bigbluebutton\, None
CATEGORIES:brussels_events
END:VEVENT
BEGIN:VEVENT
DTSTART;TZID=Europe/Madrid:20240518T100000
DTEND;TZID=Europe/Madrid:20240518T103000
DTSTAMP:20260425T175743
CREATED:20240516T175026Z
LAST-MODIFIED:20240516T175026Z
UID:15888-1716026400-1716028200@innersparklife.com
SUMMARY:Inner Spark Free Discovery Call
DESCRIPTION:ev_4207409
URL:https://innersparklife.com/event/inner-spark-free-discovery-call-5/
LOCATION:Bigblutbutton\, None
CATEGORIES:individual_sessions
END:VEVENT
BEGIN:VEVENT
DTSTART;TZID=Europe/Madrid:20240517T170000
DTEND;TZID=Europe/Madrid:20240517T173000
DTSTAMP:20260425T175743
CREATED:20240516T175024Z
LAST-MODIFIED:20240516T175024Z
UID:15886-1715965200-1715967000@innersparklife.com
SUMMARY:Inner Spark Free Discovery Call
DESCRIPTION:ev_4207408
URL:https://innersparklife.com/event/inner-spark-free-discovery-call-4/
LOCATION:Bigblutbutton\, None
CATEGORIES:individual_sessions
END:VEVENT
BEGIN:VEVENT
DTSTART;TZID=Europe/Madrid:20240517T150000
DTEND;TZID=Europe/Madrid:20240517T163000
DTSTAMP:20260425T175743
CREATED:20240508T072711Z
LAST-MODIFIED:20240508T072711Z
UID:15616-1715958000-1715963400@innersparklife.com
SUMMARY:Individual Drum Journey
DESCRIPTION:ev_4182918
URL:https://innersparklife.com/event/individual-drum-journey-57/
LOCATION:online / Brussels\, 1150 Brussels
CATEGORIES:individual_sessions
END:VEVENT
BEGIN:VEVENT
DTSTART;TZID=Europe/Madrid:20240517T150000
DTEND;TZID=Europe/Madrid:20240517T153000
DTSTAMP:20260425T175743
CREATED:20240516T175022Z
LAST-MODIFIED:20240516T175022Z
UID:15884-1715958000-1715959800@innersparklife.com
SUMMARY:Inner Spark Free Discovery Call
DESCRIPTION:ev_4207407
URL:https://innersparklife.com/event/inner-spark-free-discovery-call-3/
LOCATION:Bigblutbutton\, None
CATEGORIES:individual_sessions
END:VEVENT
BEGIN:VEVENT
DTSTART;TZID=Europe/Madrid:20240517T120000
DTEND;TZID=Europe/Madrid:20240517T123000
DTSTAMP:20260425T175743
CREATED:20240516T175020Z
LAST-MODIFIED:20240516T175020Z
UID:15882-1715947200-1715949000@innersparklife.com
SUMMARY:Inner Spark Free Discovery Call
DESCRIPTION:ev_4207406
URL:https://innersparklife.com/event/inner-spark-free-discovery-call-2/
LOCATION:Bigblutbutton\, None
CATEGORIES:individual_sessions
END:VEVENT
BEGIN:VEVENT
DTSTART;TZID=Europe/Madrid:20240517T100000
DTEND;TZID=Europe/Madrid:20240517T103000
DTSTAMP:20260425T175743
CREATED:20240516T175515Z
LAST-MODIFIED:20240516T175515Z
UID:15878-1715940000-1715941800@innersparklife.com
SUMMARY:Inner Spark Free Discovery Call
DESCRIPTION:ev_4207399
URL:https://innersparklife.com/event/inner-spark-free-discovery-call/
LOCATION:Bigbluebutton\, None
CATEGORIES:individual_sessions
END:VEVENT
BEGIN:VEVENT
DTSTART;TZID=Europe/Madrid:20240515T120000
DTEND;TZID=Europe/Madrid:20240515T133000
DTSTAMP:20260425T175743
CREATED:20240508T072706Z
LAST-MODIFIED:20240508T072706Z
UID:15614-1715774400-1715779800@innersparklife.com
SUMMARY:Individual Drum Journey
DESCRIPTION:ev_4182917
URL:https://innersparklife.com/event/individual-drum-journey-56/
LOCATION:online / Brussels\, 1150 Brussels
CATEGORIES:individual_sessions
END:VEVENT
BEGIN:VEVENT
DTSTART;TZID=Europe/Madrid:20240514T150000
DTEND;TZID=Europe/Madrid:20240514T163000
DTSTAMP:20260425T175743
CREATED:20240508T072704Z
LAST-MODIFIED:20240508T072704Z
UID:15612-1715698800-1715704200@innersparklife.com
SUMMARY:Individual Drum Journey
DESCRIPTION:ev_4182916
URL:https://innersparklife.com/event/individual-drum-journey-55/
LOCATION:online / Brussels\, 1150 Brussels
CATEGORIES:individual_sessions
END:VEVENT
BEGIN:VEVENT
DTSTART;TZID=Europe/Madrid:20240513T193000
DTEND;TZID=Europe/Madrid:20240513T210000
DTSTAMP:20260425T175743
CREATED:20240504T000516Z
LAST-MODIFIED:20240504T000516Z
UID:15591-1715628600-1715634000@innersparklife.com
SUMMARY:Drum Meditation Brussels
DESCRIPTION:ev_4173450
URL:https://innersparklife.com/event/drum-meditation-brussels-118/
LOCATION:Woluwe Saint Pierre\, 1150
CATEGORIES:brussels_events
ATTACH;FMTTYPE=image/jpeg:https://innersparklife.com/wp-content/uploads/2024/05/cropped_event_image-1.jpg
END:VEVENT
BEGIN:VEVENT
DTSTART;TZID=Europe/Madrid:20240513T100000
DTEND;TZID=Europe/Madrid:20240513T113000
DTSTAMP:20260425T175743
CREATED:20240508T072702Z
LAST-MODIFIED:20240508T072702Z
UID:15610-1715594400-1715599800@innersparklife.com
SUMMARY:Individual Drum Journey
DESCRIPTION:ev_4182915
URL:https://innersparklife.com/event/individual-drum-journey-54/
LOCATION:online / Brussels\, 1150 Brussels
CATEGORIES:individual_sessions
END:VEVENT
BEGIN:VEVENT
DTSTART;TZID=Europe/Madrid:20240511T180000
DTEND;TZID=Europe/Madrid:20240511T210000
DTSTAMP:20260425T175743
CREATED:20240330T160711Z
LAST-MODIFIED:20240421T150451Z
UID:15022-1715450400-1715461200@innersparklife.com
SUMMARY:Drum Journey: A Dance with Your Inner Self
DESCRIPTION:ev_3763738
URL:https://innersparklife.com/event/drum-journey-a-dance-with-your-inner-self-2/
LOCATION:Woluwe Saint Pierre\, 1150
CATEGORIES:brussels_events
ATTACH;FMTTYPE=image/jpeg:https://innersparklife.com/wp-content/uploads/2024/03/cropped_event_image-41.jpg
END:VEVENT
BEGIN:VEVENT
DTSTART;TZID=Europe/Madrid:20240510T150000
DTEND;TZID=Europe/Madrid:20240510T163000
DTSTAMP:20260425T175743
CREATED:20240508T072659Z
LAST-MODIFIED:20240508T072659Z
UID:15608-1715353200-1715358600@innersparklife.com
SUMMARY:Individual Drum Journey
DESCRIPTION:ev_4182914
URL:https://innersparklife.com/event/individual-drum-journey-53/
LOCATION:online / Brussels\, 1150 Brussels
CATEGORIES:individual_sessions
END:VEVENT
BEGIN:VEVENT
DTSTART;TZID=Europe/Madrid:20240508T193000
DTEND;TZID=Europe/Madrid:20240508T210000
DTSTAMP:20260425T175743
CREATED:20240504T000441Z
LAST-MODIFIED:20240504T000441Z
UID:15589-1715196600-1715202000@innersparklife.com
SUMMARY:Drum Meditation Brussels
DESCRIPTION:ev_4173449
URL:https://innersparklife.com/event/drum-meditation-brussels-117/
LOCATION:Woluwe Saint Pierre\, 1150
CATEGORIES:brussels_events
ATTACH;FMTTYPE=image/jpeg:https://innersparklife.com/wp-content/uploads/2024/05/cropped_event_image.jpg
END:VEVENT
BEGIN:VEVENT
DTSTART;TZID=Europe/Madrid:20240423T150000
DTEND;TZID=Europe/Madrid:20240423T163000
DTSTAMP:20260425T175743
CREATED:20240414T000014Z
LAST-MODIFIED:20240414T000014Z
UID:15412-1713884400-1713889800@innersparklife.com
SUMMARY:Individual Drum Journey
DESCRIPTION:ev_3817393
URL:https://innersparklife.com/event/individual-drum-journey-52/
LOCATION:online / Brussels\, 1150 Brussels
CATEGORIES:individual_sessions
END:VEVENT
BEGIN:VEVENT
DTSTART;TZID=Europe/Madrid:20240422T193000
DTEND;TZID=Europe/Madrid:20240422T210000
DTSTAMP:20260425T175743
CREATED:20240414T212538Z
LAST-MODIFIED:20240414T212538Z
UID:15414-1713814200-1713819600@innersparklife.com
SUMMARY:Drum Meditation Brussels
DESCRIPTION:ev_3818691
URL:https://innersparklife.com/event/drum-meditation-brussels-116/
LOCATION:Woluwe Saint Pierre\, 1150
CATEGORIES:brussels_events
ATTACH;FMTTYPE=image/jpeg:https://innersparklife.com/wp-content/uploads/2024/04/cropped_event_image-19.jpg
END:VEVENT
BEGIN:VEVENT
DTSTART;TZID=Europe/Madrid:20240422T100000
DTEND;TZID=Europe/Madrid:20240422T113000
DTSTAMP:20260425T175743
CREATED:20240413T000014Z
LAST-MODIFIED:20240413T000014Z
UID:15407-1713780000-1713785400@innersparklife.com
SUMMARY:Individual Drum Journey
DESCRIPTION:ev_3815424
URL:https://innersparklife.com/event/individual-drum-journey-51/
LOCATION:online / Brussels\, 1150 Brussels
CATEGORIES:individual_sessions
END:VEVENT
BEGIN:VEVENT
DTSTART;TZID=Europe/Madrid:20240419T150000
DTEND;TZID=Europe/Madrid:20240419T163000
DTSTAMP:20260425T175743
CREATED:20240410T000018Z
LAST-MODIFIED:20240410T000018Z
UID:15375-1713538800-1713544200@innersparklife.com
SUMMARY:Individual Drum Journey
DESCRIPTION:ev_3805156
URL:https://innersparklife.com/event/individual-drum-journey-50/
LOCATION:online / Brussels\, 1150 Brussels
CATEGORIES:individual_sessions
END:VEVENT
BEGIN:VEVENT
DTSTART;TZID=Europe/Madrid:20240417T120000
DTEND;TZID=Europe/Madrid:20240417T133000
DTSTAMP:20260425T175743
CREATED:20240408T000014Z
LAST-MODIFIED:20240408T000014Z
UID:15108-1713355200-1713360600@innersparklife.com
SUMMARY:Individual Drum Journey
DESCRIPTION:ev_3792318
URL:https://innersparklife.com/event/individual-drum-journey-49/
LOCATION:online / Brussels\, 1150 Brussels
CATEGORIES:individual_sessions
END:VEVENT
BEGIN:VEVENT
DTSTART;TZID=Europe/Madrid:20240416T150000
DTEND;TZID=Europe/Madrid:20240416T163000
DTSTAMP:20260425T175743
CREATED:20240407T000019Z
LAST-MODIFIED:20240407T000019Z
UID:15102-1713279600-1713285000@innersparklife.com
SUMMARY:Individual Drum Journey
DESCRIPTION:ev_3788167
URL:https://innersparklife.com/event/individual-drum-journey-48/
LOCATION:online / Brussels\, 1150 Brussels
CATEGORIES:individual_sessions
END:VEVENT
BEGIN:VEVENT
DTSTART;TZID=Europe/Madrid:20240415T193000
DTEND;TZID=Europe/Madrid:20240415T210000
DTSTAMP:20260425T175743
CREATED:20240408T135815Z
LAST-MODIFIED:20240408T135815Z
UID:15255-1713209400-1713214800@innersparklife.com
SUMMARY:Drum Meditation Brussels
DESCRIPTION:ev_3794893
URL:https://innersparklife.com/event/drum-meditation-brussels-115/
LOCATION:Woluwe Saint Pierre\, 1150
CATEGORIES:brussels_events
ATTACH;FMTTYPE=image/jpeg:https://innersparklife.com/wp-content/uploads/2024/04/cropped_event_image-9.jpg
END:VEVENT
BEGIN:VEVENT
DTSTART;TZID=Europe/Madrid:20240415T100000
DTEND;TZID=Europe/Madrid:20240415T113000
DTSTAMP:20260425T175743
CREATED:20240406T000020Z
LAST-MODIFIED:20240406T000020Z
UID:15100-1713175200-1713180600@innersparklife.com
SUMMARY:Individual Drum Journey
DESCRIPTION:ev_3786934
URL:https://innersparklife.com/event/individual-drum-journey-47/
LOCATION:online / Brussels\, 1150 Brussels
CATEGORIES:individual_sessions
END:VEVENT
BEGIN:VEVENT
DTSTART;TZID=Europe/Madrid:20240413T150000
DTEND;TZID=Europe/Madrid:20240413T200000
DTSTAMP:20260425T175743
CREATED:20241130T195057Z
LAST-MODIFIED:20241130T195057Z
UID:18376-1713020400-1713038400@innersparklife.com
SUMMARY:Chakra Dance Ritual and Drum Journey
DESCRIPTION:ev_3611015
URL:https://innersparklife.com/event/chakra-dance-ritual-and-drum-journey-5/
LOCATION:Woluwe Saint Lambert\, 96 chaussée de Roodebeek\, 1200\, Brussels
CATEGORIES:brussels_events
ATTACH;FMTTYPE=image/jpeg:https://innersparklife.com/wp-content/uploads/2024/11/cropped_event_image-8.jpg
END:VEVENT
BEGIN:VEVENT
DTSTART;TZID=Europe/Madrid:20240413T150000
DTEND;TZID=Europe/Madrid:20240413T200000
DTSTAMP:20260425T175743
CREATED:20241001T111705Z
LAST-MODIFIED:20241001T111705Z
UID:17693-1713020400-1713038400@innersparklife.com
SUMMARY:Chakra Dance Ritual and Drum Journey
DESCRIPTION:ev_3611015
URL:https://innersparklife.com/event/chakra-dance-ritual-and-drum-journey-4/
LOCATION:Woluwe Saint Lambert\, 96 chaussée de Roodebeek\, 1200\, Brussels
CATEGORIES:brussels_events
ATTACH;FMTTYPE=image/jpeg:https://innersparklife.com/wp-content/uploads/2024/10/cropped_event_image-3.jpg
END:VEVENT
BEGIN:VEVENT
DTSTART;TZID=Europe/Madrid:20240413T150000
DTEND;TZID=Europe/Madrid:20240413T200000
DTSTAMP:20260425T175743
CREATED:20240805T085003Z
LAST-MODIFIED:20240805T085003Z
UID:16770-1713020400-1713038400@innersparklife.com
SUMMARY:Chakra Dance Ritual and Drum Journey
DESCRIPTION:ev_3611015
URL:https://innersparklife.com/event/chakra-dance-ritual-and-drum-journey-2/
LOCATION:Woluwe Saint Lambert\, 96 chaussée de Roodebeek\, 1200\, Brussels
CATEGORIES:brussels_events
ATTACH;FMTTYPE=image/jpeg:https://innersparklife.com/wp-content/uploads/2024/08/cropped_event_image-11.jpg
END:VEVENT
BEGIN:VEVENT
DTSTART;TZID=Europe/Madrid:20240413T150000
DTEND;TZID=Europe/Madrid:20240413T200000
DTSTAMP:20260425T175743
CREATED:20240805T084746Z
LAST-MODIFIED:20240805T084746Z
UID:16767-1713020400-1713038400@innersparklife.com
SUMMARY:Chakra Dance Ritual and Drum Journey
DESCRIPTION:ev_3611015
URL:https://innersparklife.com/event/chakra-dance-ritual-and-drum-journey/
LOCATION:Woluwe Saint Lambert\, 96 chaussée de Roodebeek\, 1200\, Brussels
CATEGORIES:brussels_events
ATTACH;FMTTYPE=image/jpeg:https://innersparklife.com/wp-content/uploads/2024/08/cropped_event_image-10.jpg
END:VEVENT
BEGIN:VEVENT
DTSTART;TZID=Europe/Madrid:20240413T150000
DTEND;TZID=Europe/Madrid:20240413T200000
DTSTAMP:20260425T175743
CREATED:20240409T191331Z
LAST-MODIFIED:20240410T075625Z
UID:14630-1713020400-1713038400@innersparklife.com
SUMMARY:Chakra Dance Ritual and Drum Journey
DESCRIPTION:ev_3611015
URL:https://innersparklife.com/event/chakra-dance-workshop-heal-express-and-empower-yourself/
LOCATION:Woluwe Saint Lambert\, 96 chaussée de Roodebeek\, 1200\, Brussels
CATEGORIES:brussels_events
ATTACH;FMTTYPE=image/jpeg:https://innersparklife.com/wp-content/uploads/2024/04/cropped_event_image-10.jpg
END:VEVENT
END:VCALENDAR