BEGIN:VCALENDAR
VERSION:2.0
PRODID:-//Inner Spark - ECPv6.15.20//NONSGML v1.0//EN
CALSCALE:GREGORIAN
METHOD:PUBLISH
X-WR-CALNAME:Inner Spark
X-ORIGINAL-URL:https://innersparklife.com
X-WR-CALDESC:Events for Inner Spark
REFRESH-INTERVAL;VALUE=DURATION:PT1H
X-Robots-Tag:noindex
X-PUBLISHED-TTL:PT1H
BEGIN:VTIMEZONE
TZID:Europe/Madrid
BEGIN:DAYLIGHT
TZOFFSETFROM:+0100
TZOFFSETTO:+0200
TZNAME:CEST
DTSTART:20230326T010000
END:DAYLIGHT
BEGIN:STANDARD
TZOFFSETFROM:+0200
TZOFFSETTO:+0100
TZNAME:CET
DTSTART:20231029T010000
END:STANDARD
BEGIN:DAYLIGHT
TZOFFSETFROM:+0100
TZOFFSETTO:+0200
TZNAME:CEST
DTSTART:20240331T010000
END:DAYLIGHT
BEGIN:STANDARD
TZOFFSETFROM:+0200
TZOFFSETTO:+0100
TZNAME:CET
DTSTART:20241027T010000
END:STANDARD
BEGIN:DAYLIGHT
TZOFFSETFROM:+0100
TZOFFSETTO:+0200
TZNAME:CEST
DTSTART:20250330T010000
END:DAYLIGHT
BEGIN:STANDARD
TZOFFSETFROM:+0200
TZOFFSETTO:+0100
TZNAME:CET
DTSTART:20251026T010000
END:STANDARD
END:VTIMEZONE
BEGIN:VEVENT
DTSTART;TZID=Europe/Madrid:20240408T193000
DTEND;TZID=Europe/Madrid:20240408T210000
DTSTAMP:20260425T131642
CREATED:20240330T103214Z
LAST-MODIFIED:20240330T103214Z
UID:15013-1712604600-1712610000@innersparklife.com
SUMMARY:Drum Meditation Brussels
DESCRIPTION:ev_3763079
URL:https://innersparklife.com/event/drum-meditation-brussels-113/
LOCATION:Woluwe Saint Pierre\, 1150
CATEGORIES:brussels_events
ATTACH;FMTTYPE=image/jpeg:https://innersparklife.com/wp-content/uploads/2024/03/cropped_event_image-36.jpg
END:VEVENT
BEGIN:VEVENT
DTSTART;TZID=Europe/Madrid:20240408T100000
DTEND;TZID=Europe/Madrid:20240408T113000
DTSTAMP:20260425T131642
CREATED:20240330T000015Z
LAST-MODIFIED:20240330T000015Z
UID:15009-1712570400-1712575800@innersparklife.com
SUMMARY:Individual Drum Journey
DESCRIPTION:ev_3762447
URL:https://innersparklife.com/event/individual-drum-journey-43/
LOCATION:online / Brussels\, 1150 Brussels
CATEGORIES:individual_sessions
END:VEVENT
BEGIN:VEVENT
DTSTART;TZID=Europe/Madrid:20240405T150000
DTEND;TZID=Europe/Madrid:20240405T163000
DTSTAMP:20260425T131642
CREATED:20240327T000017Z
LAST-MODIFIED:20240327T000017Z
UID:15007-1712329200-1712334600@innersparklife.com
SUMMARY:Individual Drum Journey
DESCRIPTION:ev_3752532
URL:https://innersparklife.com/event/individual-drum-journey-42/
LOCATION:online / Brussels\, 1150 Brussels
CATEGORIES:individual_sessions
END:VEVENT
BEGIN:VEVENT
DTSTART;TZID=Europe/Madrid:20240403T193000
DTEND;TZID=Europe/Madrid:20240403T210000
DTSTAMP:20260425T131642
CREATED:20240324T200254Z
LAST-MODIFIED:20240324T200254Z
UID:14997-1712172600-1712178000@innersparklife.com
SUMMARY:Drum Meditation Brussels
DESCRIPTION:ev_3742537
URL:https://innersparklife.com/event/drum-meditation-brussels-112/
LOCATION:Woluwe Saint Pierre\, 1150
CATEGORIES:brussels_events
ATTACH;FMTTYPE=image/jpeg:https://innersparklife.com/wp-content/uploads/2024/03/cropped_event_image-31.jpg
END:VEVENT
BEGIN:VEVENT
DTSTART;TZID=Europe/Madrid:20240403T120000
DTEND;TZID=Europe/Madrid:20240403T133000
DTSTAMP:20260425T131642
CREATED:20240325T000014Z
LAST-MODIFIED:20240325T000014Z
UID:14999-1712145600-1712151000@innersparklife.com
SUMMARY:Individual Drum Journey
DESCRIPTION:ev_3742945
URL:https://innersparklife.com/event/individual-drum-journey-41/
LOCATION:online / Brussels\, 1150 Brussels
CATEGORIES:individual_sessions
END:VEVENT
BEGIN:VEVENT
DTSTART;TZID=Europe/Madrid:20240402T150000
DTEND;TZID=Europe/Madrid:20240402T163000
DTSTAMP:20260425T131642
CREATED:20240324T000014Z
LAST-MODIFIED:20240324T000014Z
UID:14995-1712070000-1712075400@innersparklife.com
SUMMARY:Individual Drum Journey
DESCRIPTION:ev_3741813
URL:https://innersparklife.com/event/individual-drum-journey-40/
LOCATION:online / Brussels\, 1150 Brussels
CATEGORIES:individual_sessions
END:VEVENT
BEGIN:VEVENT
DTSTART;TZID=Europe/Madrid:20240401T100000
DTEND;TZID=Europe/Madrid:20240401T113000
DTSTAMP:20260425T131642
CREATED:20240323T000014Z
LAST-MODIFIED:20240323T000014Z
UID:14993-1711965600-1711971000@innersparklife.com
SUMMARY:Individual Drum Journey
DESCRIPTION:ev_3736441
URL:https://innersparklife.com/event/individual-drum-journey-39/
LOCATION:online / Brussels\, 1150 Brussels
CATEGORIES:individual_sessions
END:VEVENT
BEGIN:VEVENT
DTSTART;TZID=Europe/Madrid:20240329T150000
DTEND;TZID=Europe/Madrid:20240329T163000
DTSTAMP:20260425T131642
CREATED:20240320T000020Z
LAST-MODIFIED:20240320T000020Z
UID:14966-1711724400-1711729800@innersparklife.com
SUMMARY:Individual Drum Journey
DESCRIPTION:ev_3728506
URL:https://innersparklife.com/event/individual-drum-journey-38/
LOCATION:online / Brussels\, 1150 Brussels
CATEGORIES:individual_sessions
END:VEVENT
BEGIN:VEVENT
DTSTART;TZID=Europe/Madrid:20240327T120000
DTEND;TZID=Europe/Madrid:20240327T133000
DTSTAMP:20260425T131642
CREATED:20240318T000014Z
LAST-MODIFIED:20240318T000014Z
UID:14946-1711540800-1711546200@innersparklife.com
SUMMARY:Individual Drum Journey
DESCRIPTION:ev_3718341
URL:https://innersparklife.com/event/individual-drum-journey-37/
LOCATION:online / Brussels\, 1150 Brussels
CATEGORIES:individual_sessions
END:VEVENT
BEGIN:VEVENT
DTSTART;TZID=Europe/Madrid:20240326T150000
DTEND;TZID=Europe/Madrid:20240326T163000
DTSTAMP:20260425T131642
CREATED:20240317T000014Z
LAST-MODIFIED:20240317T000014Z
UID:14935-1711465200-1711470600@innersparklife.com
SUMMARY:Individual Drum Journey
DESCRIPTION:ev_3717398
URL:https://innersparklife.com/event/individual-drum-journey-36/
LOCATION:online / Brussels\, 1150 Brussels
CATEGORIES:individual_sessions
END:VEVENT
BEGIN:VEVENT
DTSTART;TZID=Europe/Madrid:20240325T193000
DTEND;TZID=Europe/Madrid:20240325T210000
DTSTAMP:20260425T131642
CREATED:20240317T231021Z
LAST-MODIFIED:20240317T231021Z
UID:14944-1711395000-1711400400@innersparklife.com
SUMMARY:Drum Meditation Brussels
DESCRIPTION:ev_3718323
URL:https://innersparklife.com/event/drum-meditation-brussels-111/
LOCATION:Woluwe Saint Pierre\, 1150
CATEGORIES:brussels_events
ATTACH;FMTTYPE=image/jpeg:https://innersparklife.com/wp-content/uploads/2024/03/cropped_event_image-18.jpg
END:VEVENT
BEGIN:VEVENT
DTSTART;TZID=Europe/Madrid:20240325T100000
DTEND;TZID=Europe/Madrid:20240325T113000
DTSTAMP:20260425T131642
CREATED:20240316T000013Z
LAST-MODIFIED:20240316T000013Z
UID:14933-1711360800-1711366200@innersparklife.com
SUMMARY:Individual Drum Journey
DESCRIPTION:ev_3715100
URL:https://innersparklife.com/event/individual-drum-journey-35/
LOCATION:online / Brussels\, 1150 Brussels
CATEGORIES:individual_sessions
END:VEVENT
BEGIN:VEVENT
DTSTART;TZID=Europe/Madrid:20240323T180000
DTEND;TZID=Europe/Madrid:20240323T210000
DTSTAMP:20260425T131642
CREATED:20240322T103722Z
LAST-MODIFIED:20240322T103722Z
UID:14913-1711216800-1711227600@innersparklife.com
SUMMARY:Equinox Drum Journey
DESCRIPTION:ev_3686377
URL:https://innersparklife.com/event/equinox-drum-journey/
LOCATION:Woluwe Saint Pierre\, 1150
CATEGORIES:brussels_events
ATTACH;FMTTYPE=image/jpeg:https://innersparklife.com/wp-content/uploads/2024/03/cropped_event_image-27.jpg
END:VEVENT
BEGIN:VEVENT
DTSTART;TZID=Europe/Madrid:20240322T150000
DTEND;TZID=Europe/Madrid:20240322T163000
DTSTAMP:20260425T131642
CREATED:20240313T000013Z
LAST-MODIFIED:20240313T000013Z
UID:14929-1711119600-1711125000@innersparklife.com
SUMMARY:Individual Drum Journey
DESCRIPTION:ev_3708339
URL:https://innersparklife.com/event/individual-drum-journey-34/
LOCATION:online / Brussels\, 1150 Brussels
CATEGORIES:individual_sessions
END:VEVENT
BEGIN:VEVENT
DTSTART;TZID=Europe/Madrid:20240320T193000
DTEND;TZID=Europe/Madrid:20240320T210000
DTSTAMP:20260425T131642
CREATED:20240305T140522Z
LAST-MODIFIED:20240305T140522Z
UID:14919-1710963000-1710968400@innersparklife.com
SUMMARY:Drum Meditation Brussels
DESCRIPTION:ev_3688747
URL:https://innersparklife.com/event/drum-meditation-brussels-110/
LOCATION:Woluwe Saint Pierre\, 1150
CATEGORIES:brussels_events
ATTACH;FMTTYPE=image/jpeg:https://innersparklife.com/wp-content/uploads/2024/03/cropped_event_image-6.jpg
END:VEVENT
BEGIN:VEVENT
DTSTART;TZID=Europe/Madrid:20240320T120000
DTEND;TZID=Europe/Madrid:20240320T133000
DTSTAMP:20260425T131642
CREATED:20240311T000014Z
LAST-MODIFIED:20240311T000014Z
UID:14927-1710936000-1710941400@innersparklife.com
SUMMARY:Individual Drum Journey
DESCRIPTION:ev_3703528
URL:https://innersparklife.com/event/individual-drum-journey-33/
LOCATION:online / Brussels\, 1150 Brussels
CATEGORIES:individual_sessions
END:VEVENT
BEGIN:VEVENT
DTSTART;TZID=Europe/Madrid:20240319T150000
DTEND;TZID=Europe/Madrid:20240319T163000
DTSTAMP:20260425T131642
CREATED:20240310T000014Z
LAST-MODIFIED:20240310T000014Z
UID:14925-1710860400-1710865800@innersparklife.com
SUMMARY:Individual Drum Journey
DESCRIPTION:ev_3700968
URL:https://innersparklife.com/event/individual-drum-journey-32/
LOCATION:online / Brussels\, 1150 Brussels
CATEGORIES:individual_sessions
END:VEVENT
BEGIN:VEVENT
DTSTART;TZID=Europe/Madrid:20240318T193000
DTEND;TZID=Europe/Madrid:20240318T210000
DTSTAMP:20260425T131642
CREATED:20240305T140508Z
LAST-MODIFIED:20240305T140508Z
UID:14917-1710790200-1710795600@innersparklife.com
SUMMARY:Drum Meditation Brussels
DESCRIPTION:ev_3688745
URL:https://innersparklife.com/event/drum-meditation-brussels-109/
LOCATION:Woluwe Saint Pierre\, 1150
CATEGORIES:brussels_events
ATTACH;FMTTYPE=image/jpeg:https://innersparklife.com/wp-content/uploads/2024/03/cropped_event_image-5.jpg
END:VEVENT
BEGIN:VEVENT
DTSTART;TZID=Europe/Madrid:20240318T100000
DTEND;TZID=Europe/Madrid:20240318T113000
DTSTAMP:20260425T131642
CREATED:20240309T000015Z
LAST-MODIFIED:20240309T000015Z
UID:14923-1710756000-1710761400@innersparklife.com
SUMMARY:Individual Drum Journey
DESCRIPTION:ev_3699733
URL:https://innersparklife.com/event/individual-drum-journey-31/
LOCATION:online / Brussels\, 1150 Brussels
CATEGORIES:individual_sessions
END:VEVENT
BEGIN:VEVENT
DTSTART;TZID=Europe/Madrid:20240315T150000
DTEND;TZID=Europe/Madrid:20240315T163000
DTSTAMP:20260425T131642
CREATED:20240306T000013Z
LAST-MODIFIED:20240306T000013Z
UID:14921-1710514800-1710520200@innersparklife.com
SUMMARY:Individual Drum Journey
DESCRIPTION:ev_3690844
URL:https://innersparklife.com/event/individual-drum-journey-30/
LOCATION:online / Brussels\, 1150 Brussels
CATEGORIES:individual_sessions
END:VEVENT
BEGIN:VEVENT
DTSTART;TZID=Europe/Madrid:20240313T120000
DTEND;TZID=Europe/Madrid:20240313T133000
DTSTAMP:20260425T131642
CREATED:20240304T000013Z
LAST-MODIFIED:20240304T000013Z
UID:14911-1710331200-1710336600@innersparklife.com
SUMMARY:Individual Drum Journey
DESCRIPTION:ev_3682842
URL:https://innersparklife.com/event/individual-drum-journey-29/
LOCATION:online / Brussels\, 1150 Brussels
CATEGORIES:individual_sessions
END:VEVENT
BEGIN:VEVENT
DTSTART;TZID=Europe/Madrid:20240312T150000
DTEND;TZID=Europe/Madrid:20240312T163000
DTSTAMP:20260425T131642
CREATED:20240303T000012Z
LAST-MODIFIED:20240303T000012Z
UID:14909-1710255600-1710261000@innersparklife.com
SUMMARY:Individual Drum Journey
DESCRIPTION:ev_3682141
URL:https://innersparklife.com/event/individual-drum-journey-28/
LOCATION:online / Brussels\, 1150 Brussels
CATEGORIES:individual_sessions
END:VEVENT
BEGIN:VEVENT
DTSTART;TZID=Europe/Madrid:20240311T100000
DTEND;TZID=Europe/Madrid:20240311T113000
DTSTAMP:20260425T131642
CREATED:20240302T000012Z
LAST-MODIFIED:20240302T000012Z
UID:14907-1710151200-1710156600@innersparklife.com
SUMMARY:Individual Drum Journey
DESCRIPTION:ev_3678897
URL:https://innersparklife.com/event/individual-drum-journey-27/
LOCATION:online / Brussels\, 1150 Brussels
CATEGORIES:individual_sessions
END:VEVENT
BEGIN:VEVENT
DTSTART;TZID=Europe/Madrid:20240308T170000
DTEND;TZID=Europe/Madrid:20240312T170000
DTSTAMP:20260425T131642
CREATED:20240131T105512Z
LAST-MODIFIED:20240201T130943Z
UID:14523-1709917200-1710262800@innersparklife.com
SUMMARY:WOW Retreat in Romania
DESCRIPTION:
URL:https://innersparklife.com/event/wow-academy-retreat-in-nature/
CATEGORIES:retreats
ATTACH;FMTTYPE=image/jpeg:https://innersparklife.com/wp-content/uploads/2024/01/Ticket-Taylor-2048-x-652-px.jpg
END:VEVENT
BEGIN:VEVENT
DTSTART;TZID=Europe/Madrid:20240308T150000
DTEND;TZID=Europe/Madrid:20240308T163000
DTSTAMP:20260425T131642
CREATED:20240228T000018Z
LAST-MODIFIED:20240228T000018Z
UID:14904-1709910000-1709915400@innersparklife.com
SUMMARY:Individual Drum Journey
DESCRIPTION:ev_3665916
URL:https://innersparklife.com/event/individual-drum-journey-26/
LOCATION:online / Brussels\, 1150 Brussels
CATEGORIES:individual_sessions
END:VEVENT
BEGIN:VEVENT
DTSTART;TZID=Europe/Madrid:20240306T193000
DTEND;TZID=Europe/Madrid:20240306T210000
DTSTAMP:20260425T131642
CREATED:20240226T083226Z
LAST-MODIFIED:20240226T083226Z
UID:14902-1709753400-1709758800@innersparklife.com
SUMMARY:Drum Meditation Brussels
DESCRIPTION:ev_3652566
URL:https://innersparklife.com/event/drum-meditation-brussels-108/
LOCATION:Woluwe Saint Pierre\, 1150
CATEGORIES:brussels_events
END:VEVENT
BEGIN:VEVENT
DTSTART;TZID=Europe/Madrid:20240306T120000
DTEND;TZID=Europe/Madrid:20240306T133000
DTSTAMP:20260425T131642
CREATED:20240226T000021Z
LAST-MODIFIED:20240226T000021Z
UID:14898-1709726400-1709731800@innersparklife.com
SUMMARY:Individual Drum Journey
DESCRIPTION:ev_3652171
URL:https://innersparklife.com/event/individual-drum-journey-25/
LOCATION:online / Brussels\, 1150 Brussels
CATEGORIES:individual_sessions
END:VEVENT
BEGIN:VEVENT
DTSTART;TZID=Europe/Madrid:20240305T150000
DTEND;TZID=Europe/Madrid:20240305T163000
DTSTAMP:20260425T131642
CREATED:20240225T000022Z
LAST-MODIFIED:20240225T000022Z
UID:14896-1709650800-1709656200@innersparklife.com
SUMMARY:Individual Drum Journey
DESCRIPTION:ev_3649554
URL:https://innersparklife.com/event/individual-drum-journey-24/
LOCATION:online / Brussels\, 1150 Brussels
CATEGORIES:individual_sessions
END:VEVENT
BEGIN:VEVENT
DTSTART;TZID=Europe/Madrid:20240304T193000
DTEND;TZID=Europe/Madrid:20240304T210000
DTSTAMP:20260425T131642
CREATED:20240226T083210Z
LAST-MODIFIED:20240226T083210Z
UID:14900-1709580600-1709586000@innersparklife.com
SUMMARY:Drum Meditation Brussels
DESCRIPTION:ev_3652565
URL:https://innersparklife.com/event/drum-meditation-brussels-107/
LOCATION:Woluwe Saint Pierre\, 1150
CATEGORIES:brussels_events
END:VEVENT
BEGIN:VEVENT
DTSTART;TZID=Europe/Madrid:20240304T100000
DTEND;TZID=Europe/Madrid:20240304T113000
DTSTAMP:20260425T131642
CREATED:20240224T000020Z
LAST-MODIFIED:20240224T000020Z
UID:14894-1709546400-1709551800@innersparklife.com
SUMMARY:Individual Drum Journey
DESCRIPTION:ev_3646367
URL:https://innersparklife.com/event/individual-drum-journey-23/
LOCATION:online / Brussels\, 1150 Brussels
CATEGORIES:individual_sessions
END:VEVENT
END:VCALENDAR