BEGIN:VCALENDAR
VERSION:2.0
PRODID:-//Inner Spark - ECPv6.15.20//NONSGML v1.0//EN
CALSCALE:GREGORIAN
METHOD:PUBLISH
X-WR-CALNAME:Inner Spark
X-ORIGINAL-URL:https://innersparklife.com
X-WR-CALDESC:Events for Inner Spark
REFRESH-INTERVAL;VALUE=DURATION:PT1H
X-Robots-Tag:noindex
X-PUBLISHED-TTL:PT1H
BEGIN:VTIMEZONE
TZID:Europe/Madrid
BEGIN:DAYLIGHT
TZOFFSETFROM:+0100
TZOFFSETTO:+0200
TZNAME:CEST
DTSTART:20230326T010000
END:DAYLIGHT
BEGIN:STANDARD
TZOFFSETFROM:+0200
TZOFFSETTO:+0100
TZNAME:CET
DTSTART:20231029T010000
END:STANDARD
BEGIN:DAYLIGHT
TZOFFSETFROM:+0100
TZOFFSETTO:+0200
TZNAME:CEST
DTSTART:20240331T010000
END:DAYLIGHT
BEGIN:STANDARD
TZOFFSETFROM:+0200
TZOFFSETTO:+0100
TZNAME:CET
DTSTART:20241027T010000
END:STANDARD
BEGIN:DAYLIGHT
TZOFFSETFROM:+0100
TZOFFSETTO:+0200
TZNAME:CEST
DTSTART:20250330T010000
END:DAYLIGHT
BEGIN:STANDARD
TZOFFSETFROM:+0200
TZOFFSETTO:+0100
TZNAME:CET
DTSTART:20251026T010000
END:STANDARD
END:VTIMEZONE
BEGIN:VEVENT
DTSTART;TZID=Europe/Madrid:20240301T150000
DTEND;TZID=Europe/Madrid:20240301T163000
DTSTAMP:20260425T181736
CREATED:20240221T000018Z
LAST-MODIFIED:20240221T000018Z
UID:14891-1709305200-1709310600@innersparklife.com
SUMMARY:Individual Drum Journey
DESCRIPTION:ev_3632665
URL:https://innersparklife.com/event/individual-drum-journey-22/
LOCATION:online / Brussels\, 1150 Brussels
CATEGORIES:individual_sessions
END:VEVENT
BEGIN:VEVENT
DTSTART;TZID=Europe/Madrid:20240228T193000
DTEND;TZID=Europe/Madrid:20240228T210000
DTSTAMP:20260425T181736
CREATED:20240217T104804Z
LAST-MODIFIED:20240217T104804Z
UID:14674-1709148600-1709154000@innersparklife.com
SUMMARY:Drum Meditation Brussels
DESCRIPTION:ev_3623260
URL:https://innersparklife.com/event/drum-meditation-brussels-106/
LOCATION:Woluwe Saint Pierre\, 1150
CATEGORIES:brussels_events
ATTACH;FMTTYPE=image/jpeg:https://innersparklife.com/wp-content/uploads/2024/02/cropped_event_image-30.jpg
END:VEVENT
BEGIN:VEVENT
DTSTART;TZID=Europe/Madrid:20240228T120000
DTEND;TZID=Europe/Madrid:20240228T133000
DTSTAMP:20260425T181736
CREATED:20240219T000019Z
LAST-MODIFIED:20240219T000019Z
UID:14889-1709121600-1709127000@innersparklife.com
SUMMARY:Individual Drum Journey
DESCRIPTION:ev_3627015
URL:https://innersparklife.com/event/individual-drum-journey-21/
LOCATION:online / Brussels\, 1150 Brussels
CATEGORIES:individual_sessions
END:VEVENT
BEGIN:VEVENT
DTSTART;TZID=Europe/Madrid:20240227T150000
DTEND;TZID=Europe/Madrid:20240227T163000
DTSTAMP:20260425T181736
CREATED:20240218T000018Z
LAST-MODIFIED:20240218T000018Z
UID:14684-1709046000-1709051400@innersparklife.com
SUMMARY:Individual Drum Journey
DESCRIPTION:ev_3625928
URL:https://innersparklife.com/event/individual-drum-journey-20/
LOCATION:online / Brussels\, 1150 Brussels
CATEGORIES:individual_sessions
ATTACH;FMTTYPE=image/jpeg:https://innersparklife.com/wp-content/uploads/2024/02/cropped_event_image-31.jpg
END:VEVENT
BEGIN:VEVENT
DTSTART;TZID=Europe/Madrid:20240226T193000
DTEND;TZID=Europe/Madrid:20240226T210000
DTSTAMP:20260425T181736
CREATED:20240217T104746Z
LAST-MODIFIED:20240217T104746Z
UID:14672-1708975800-1708981200@innersparklife.com
SUMMARY:Drum Meditation Brussels
DESCRIPTION:ev_3623259
URL:https://innersparklife.com/event/drum-meditation-brussels-105/
LOCATION:Woluwe Saint Pierre\, 1150
CATEGORIES:brussels_events
ATTACH;FMTTYPE=image/jpeg:https://innersparklife.com/wp-content/uploads/2024/02/cropped_event_image-29.jpg
END:VEVENT
BEGIN:VEVENT
DTSTART;TZID=Europe/Madrid:20240226T100000
DTEND;TZID=Europe/Madrid:20240226T113000
DTSTAMP:20260425T181736
CREATED:20240217T000019Z
LAST-MODIFIED:20240217T000019Z
UID:14660-1708941600-1708947000@innersparklife.com
SUMMARY:Individual Drum Journey
DESCRIPTION:ev_3622796
URL:https://innersparklife.com/event/individual-drum-journey-19/
LOCATION:online / Brussels\, 1150 Brussels
CATEGORIES:individual_sessions
END:VEVENT
BEGIN:VEVENT
DTSTART;TZID=Europe/Madrid:20240225T150000
DTEND;TZID=Europe/Madrid:20240225T200000
DTSTAMP:20260425T181736
CREATED:20240212T235720Z
LAST-MODIFIED:20240212T235720Z
UID:14529-1708873200-1708891200@innersparklife.com
SUMMARY:Shamanic Heart Healing - A Workshop for Self-Love and Soul Retrieval
DESCRIPTION:ev_3566049
URL:https://innersparklife.com/event/shamanic-heart-healing-a-workshop-for-self-love-and-soul-retrieval/
LOCATION:Woluwe Saint Pierre\, 1150\, Brussels
CATEGORIES:brussels_events
ATTACH;FMTTYPE=image/jpeg:https://innersparklife.com/wp-content/uploads/2024/02/cropped_event_image-26.jpg
END:VEVENT
BEGIN:VEVENT
DTSTART;TZID=Europe/Madrid:20240223T150000
DTEND;TZID=Europe/Madrid:20240223T163000
DTSTAMP:20260425T181736
CREATED:20240214T000018Z
LAST-MODIFIED:20240214T000018Z
UID:14653-1708700400-1708705800@innersparklife.com
SUMMARY:Individual Drum Journey
DESCRIPTION:ev_3614033
URL:https://innersparklife.com/event/individual-drum-journey-18/
LOCATION:online / Brussels\, 1150 Brussels
CATEGORIES:individual_sessions
END:VEVENT
BEGIN:VEVENT
DTSTART;TZID=Europe/Madrid:20240221T193000
DTEND;TZID=Europe/Madrid:20240221T210000
DTSTAMP:20260425T181736
CREATED:20240212T215310Z
LAST-MODIFIED:20240212T215310Z
UID:14636-1708543800-1708549200@innersparklife.com
SUMMARY:Drum Meditation Brussels
DESCRIPTION:ev_3611613
URL:https://innersparklife.com/event/drum-meditation-brussels-104/
LOCATION:Woluwe Saint Pierre\, 1150
CATEGORIES:brussels_events
ATTACH;FMTTYPE=image/jpeg:https://innersparklife.com/wp-content/uploads/2024/02/cropped_event_image-25.jpg
END:VEVENT
BEGIN:VEVENT
DTSTART;TZID=Europe/Madrid:20240221T120000
DTEND;TZID=Europe/Madrid:20240221T133000
DTSTAMP:20260425T181736
CREATED:20240212T000017Z
LAST-MODIFIED:20240212T000017Z
UID:14626-1708516800-1708522200@innersparklife.com
SUMMARY:Individual Drum Journey
DESCRIPTION:ev_3609083
URL:https://innersparklife.com/event/individual-drum-journey-17/
LOCATION:online / Brussels\, 1150 Brussels
CATEGORIES:individual_sessions
ATTACH;FMTTYPE=image/jpeg:https://innersparklife.com/wp-content/uploads/2024/02/cropped_event_image-19.jpg
END:VEVENT
BEGIN:VEVENT
DTSTART;TZID=Europe/Madrid:20240220T150000
DTEND;TZID=Europe/Madrid:20240220T163000
DTSTAMP:20260425T181736
CREATED:20240211T000018Z
LAST-MODIFIED:20240211T000018Z
UID:14624-1708441200-1708446600@innersparklife.com
SUMMARY:Individual Drum Journey
DESCRIPTION:ev_3607636
URL:https://innersparklife.com/event/individual-drum-journey-16/
LOCATION:online / Brussels\, 1150 Brussels
CATEGORIES:individual_sessions
END:VEVENT
BEGIN:VEVENT
DTSTART;TZID=Europe/Madrid:20240219T100000
DTEND;TZID=Europe/Madrid:20240219T113000
DTSTAMP:20260425T181736
CREATED:20240210T000018Z
LAST-MODIFIED:20240210T000018Z
UID:14622-1708336800-1708342200@innersparklife.com
SUMMARY:Individual Drum Journey
DESCRIPTION:ev_3606108
URL:https://innersparklife.com/event/individual-drum-journey-15/
LOCATION:online / Brussels\, 1150 Brussels
CATEGORIES:individual_sessions
END:VEVENT
BEGIN:VEVENT
DTSTART;TZID=Europe/Madrid:20240216T150000
DTEND;TZID=Europe/Madrid:20240216T163000
DTSTAMP:20260425T181736
CREATED:20240207T000019Z
LAST-MODIFIED:20240207T000019Z
UID:14617-1708095600-1708101000@innersparklife.com
SUMMARY:Individual Drum Journey
DESCRIPTION:ev_3588190
URL:https://innersparklife.com/event/individual-drum-journey-14/
LOCATION:online / Brussels\, 1150 Brussels
CATEGORIES:individual_sessions
END:VEVENT
BEGIN:VEVENT
DTSTART;TZID=Europe/Madrid:20240214T193000
DTEND;TZID=Europe/Madrid:20240214T210000
DTSTAMP:20260425T181736
CREATED:20240203T131946Z
LAST-MODIFIED:20240203T131946Z
UID:14597-1707939000-1707944400@innersparklife.com
SUMMARY:Drum Meditation Brussels
DESCRIPTION:ev_3576250
URL:https://innersparklife.com/event/drum-meditation-brussels-103/
LOCATION:Woluwe Saint Pierre\, 1150
CATEGORIES:brussels_events
END:VEVENT
BEGIN:VEVENT
DTSTART;TZID=Europe/Madrid:20240214T120000
DTEND;TZID=Europe/Madrid:20240214T133000
DTSTAMP:20260425T181736
CREATED:20240205T000021Z
LAST-MODIFIED:20240205T000021Z
UID:14612-1707912000-1707917400@innersparklife.com
SUMMARY:Individual Drum Journey
DESCRIPTION:ev_3579332
URL:https://innersparklife.com/event/individual-drum-journey-13/
LOCATION:online / Brussels\, 1150 Brussels
CATEGORIES:individual_sessions
END:VEVENT
BEGIN:VEVENT
DTSTART;TZID=Europe/Madrid:20240213T150000
DTEND;TZID=Europe/Madrid:20240213T163000
DTSTAMP:20260425T181736
CREATED:20240204T000019Z
LAST-MODIFIED:20240204T000019Z
UID:14610-1707836400-1707841800@innersparklife.com
SUMMARY:Individual Drum Journey
DESCRIPTION:ev_3578169
URL:https://innersparklife.com/event/individual-drum-journey-12/
LOCATION:online / Brussels\, 1150 Brussels
CATEGORIES:individual_sessions
END:VEVENT
BEGIN:VEVENT
DTSTART;TZID=Europe/Madrid:20240212T193000
DTEND;TZID=Europe/Madrid:20240212T210000
DTSTAMP:20260425T181736
CREATED:20240205T182251Z
LAST-MODIFIED:20240205T182251Z
UID:14595-1707766200-1707771600@innersparklife.com
SUMMARY:Drum Meditation Brussels
DESCRIPTION:ev_3576249
URL:https://innersparklife.com/event/drum-meditation-brussels-102/
LOCATION:Woluwe Saint Pierre\, 1150
CATEGORIES:brussels_events
END:VEVENT
BEGIN:VEVENT
DTSTART;TZID=Europe/Madrid:20240212T100000
DTEND;TZID=Europe/Madrid:20240212T113000
DTSTAMP:20260425T181736
CREATED:20240203T000017Z
LAST-MODIFIED:20240203T000017Z
UID:14593-1707732000-1707737400@innersparklife.com
SUMMARY:Individual Drum Journey
DESCRIPTION:ev_3575517
URL:https://innersparklife.com/event/individual-drum-journey-11/
LOCATION:online / Brussels\, 1150 Brussels
CATEGORIES:individual_sessions
END:VEVENT
BEGIN:VEVENT
DTSTART;TZID=Europe/Madrid:20240210T180000
DTEND;TZID=Europe/Madrid:20240210T210000
DTSTAMP:20260425T181736
CREATED:20240531T162121Z
LAST-MODIFIED:20240531T162121Z
UID:16180-1707588000-1707598800@innersparklife.com
SUMMARY:Drum Journey: A Dance with Your Inner Self
DESCRIPTION:ev_3386439
URL:https://innersparklife.com/event/drum-journey-a-dance-with-your-inner-self-6/
LOCATION:Woluwe Saint Pierre\, 1150
CATEGORIES:brussels_events
ATTACH;FMTTYPE=image/jpeg:https://innersparklife.com/wp-content/uploads/2024/05/cropped_event_image-139.jpg
END:VEVENT
BEGIN:VEVENT
DTSTART;TZID=Europe/Madrid:20240210T180000
DTEND;TZID=Europe/Madrid:20240210T210000
DTSTAMP:20260425T181736
CREATED:20240515T084130Z
LAST-MODIFIED:20240515T084130Z
UID:15766-1707588000-1707598800@innersparklife.com
SUMMARY:Drum Journey: A Dance with Your Inner Self
DESCRIPTION:ev_3386439
URL:https://innersparklife.com/event/drum-journey-a-dance-with-your-inner-self-4/
LOCATION:Woluwe Saint Pierre\, 1150
CATEGORIES:brussels_events
ATTACH;FMTTYPE=image/jpeg:https://innersparklife.com/wp-content/uploads/2024/05/cropped_event_image-23.jpg
END:VEVENT
BEGIN:VEVENT
DTSTART;TZID=Europe/Madrid:20240210T180000
DTEND;TZID=Europe/Madrid:20240210T210000
DTSTAMP:20260425T181737
CREATED:20240421T150417Z
LAST-MODIFIED:20240421T150417Z
UID:15582-1707588000-1707598800@innersparklife.com
SUMMARY:Drum Journey: A Dance with Your Inner Self
DESCRIPTION:ev_3386439
URL:https://innersparklife.com/event/drum-journey-a-dance-with-your-inner-self-3/
LOCATION:Woluwe Saint Pierre\, 1150
CATEGORIES:brussels_events
ATTACH;FMTTYPE=image/jpeg:https://innersparklife.com/wp-content/uploads/2024/04/cropped_event_image-20.jpg
END:VEVENT
BEGIN:VEVENT
DTSTART;TZID=Europe/Madrid:20240210T180000
DTEND;TZID=Europe/Madrid:20240210T210000
DTSTAMP:20260425T181737
CREATED:20240201T105803Z
LAST-MODIFIED:20240201T105803Z
UID:13489-1707588000-1707598800@innersparklife.com
SUMMARY:Drum Journey: A Dance with Your Inner Self
DESCRIPTION:ev_3386439
URL:https://innersparklife.com/event/drum-journey_-a-dance-with-your-inner-self/
LOCATION:Woluwe Saint Pierre\, 1150
CATEGORIES:brussels_events
END:VEVENT
BEGIN:VEVENT
DTSTART;TZID=Europe/Madrid:20240209T150000
DTEND;TZID=Europe/Madrid:20240209T163000
DTSTAMP:20260425T181737
CREATED:20240131T000016Z
LAST-MODIFIED:20240131T000016Z
UID:14520-1707490800-1707496200@innersparklife.com
SUMMARY:Individual Drum Journey
DESCRIPTION:ev_3556414
URL:https://innersparklife.com/event/individual-drum-journey-10/
LOCATION:online / Brussels\, 1150 Brussels
CATEGORIES:individual_sessions
END:VEVENT
BEGIN:VEVENT
DTSTART;TZID=Europe/Madrid:20240207T193000
DTEND;TZID=Europe/Madrid:20240207T210000
DTSTAMP:20260425T181737
CREATED:20240207T081550Z
LAST-MODIFIED:20240207T081550Z
UID:14517-1707334200-1707339600@innersparklife.com
SUMMARY:Drum Meditation Brussels
DESCRIPTION:ev_3552482
URL:https://innersparklife.com/event/drum-meditation-brussels-101/
LOCATION:Woluwe Saint Pierre\, 1150
CATEGORIES:brussels_events
END:VEVENT
BEGIN:VEVENT
DTSTART;TZID=Europe/Madrid:20240207T120000
DTEND;TZID=Europe/Madrid:20240207T133000
DTSTAMP:20260425T181737
CREATED:20240129T000017Z
LAST-MODIFIED:20240129T000017Z
UID:14513-1707307200-1707312600@innersparklife.com
SUMMARY:Individual Drum Journey
DESCRIPTION:ev_3547826
URL:https://innersparklife.com/event/individual-drum-journey-9/
LOCATION:online / Brussels\, 1150 Brussels
CATEGORIES:individual_sessions
END:VEVENT
BEGIN:VEVENT
DTSTART;TZID=Europe/Madrid:20240206T150000
DTEND;TZID=Europe/Madrid:20240206T163000
DTSTAMP:20260425T181737
CREATED:20240128T000016Z
LAST-MODIFIED:20240128T000016Z
UID:14511-1707231600-1707237000@innersparklife.com
SUMMARY:Individual Drum Journey
DESCRIPTION:ev_3545754
URL:https://innersparklife.com/event/individual-drum-journey-8/
LOCATION:online / Brussels\, 1150 Brussels
CATEGORIES:individual_sessions
END:VEVENT
BEGIN:VEVENT
DTSTART;TZID=Europe/Madrid:20240205T193000
DTEND;TZID=Europe/Madrid:20240205T210000
DTSTAMP:20260425T181737
CREATED:20240205T182228Z
LAST-MODIFIED:20240205T182228Z
UID:14515-1707161400-1707166800@innersparklife.com
SUMMARY:Drum Meditation Brussels
DESCRIPTION:ev_3552476
URL:https://innersparklife.com/event/drum-meditation-brussels-100/
LOCATION:Woluwe Saint Pierre\, 1150
CATEGORIES:brussels_events
END:VEVENT
BEGIN:VEVENT
DTSTART;TZID=Europe/Madrid:20240205T100000
DTEND;TZID=Europe/Madrid:20240205T113000
DTSTAMP:20260425T181737
CREATED:20240127T000016Z
LAST-MODIFIED:20240127T000016Z
UID:14509-1707127200-1707132600@innersparklife.com
SUMMARY:Individual Drum Journey
DESCRIPTION:ev_3542519
URL:https://innersparklife.com/event/individual-drum-journey-7/
LOCATION:online / Brussels\, 1150 Brussels
CATEGORIES:individual_sessions
END:VEVENT
BEGIN:VEVENT
DTSTART;TZID=Europe/Madrid:20240202T150000
DTEND;TZID=Europe/Madrid:20240202T163000
DTSTAMP:20260425T181737
CREATED:20240124T000018Z
LAST-MODIFIED:20240124T000018Z
UID:14404-1706886000-1706891400@innersparklife.com
SUMMARY:Individual Drum Journey
DESCRIPTION:ev_3531707
URL:https://innersparklife.com/event/individual-drum-journey-6/
LOCATION:online / Brussels\, 1150 Brussels
CATEGORIES:individual_sessions
END:VEVENT
BEGIN:VEVENT
DTSTART;TZID=Europe/Madrid:20240131T193000
DTEND;TZID=Europe/Madrid:20240131T210000
DTSTAMP:20260425T181737
CREATED:20240131T105259Z
LAST-MODIFIED:20240131T105259Z
UID:14398-1706729400-1706734800@innersparklife.com
SUMMARY:Drum Meditation Brussels
DESCRIPTION:ev_3522819
URL:https://innersparklife.com/event/drum-meditation-brussels-99/
LOCATION:Woluwe Saint Pierre\, 1150
CATEGORIES:brussels_events
END:VEVENT
END:VCALENDAR