BEGIN:VCALENDAR
VERSION:2.0
PRODID:-//Inner Spark - ECPv6.15.20//NONSGML v1.0//EN
CALSCALE:GREGORIAN
METHOD:PUBLISH
X-WR-CALNAME:Inner Spark
X-ORIGINAL-URL:https://innersparklife.com
X-WR-CALDESC:Events for Inner Spark
REFRESH-INTERVAL;VALUE=DURATION:PT1H
X-Robots-Tag:noindex
X-PUBLISHED-TTL:PT1H
BEGIN:VTIMEZONE
TZID:Europe/Madrid
BEGIN:DAYLIGHT
TZOFFSETFROM:+0100
TZOFFSETTO:+0200
TZNAME:CEST
DTSTART:20230326T010000
END:DAYLIGHT
BEGIN:STANDARD
TZOFFSETFROM:+0200
TZOFFSETTO:+0100
TZNAME:CET
DTSTART:20231029T010000
END:STANDARD
BEGIN:DAYLIGHT
TZOFFSETFROM:+0100
TZOFFSETTO:+0200
TZNAME:CEST
DTSTART:20240331T010000
END:DAYLIGHT
BEGIN:STANDARD
TZOFFSETFROM:+0200
TZOFFSETTO:+0100
TZNAME:CET
DTSTART:20241027T010000
END:STANDARD
BEGIN:DAYLIGHT
TZOFFSETFROM:+0100
TZOFFSETTO:+0200
TZNAME:CEST
DTSTART:20250330T010000
END:DAYLIGHT
BEGIN:STANDARD
TZOFFSETFROM:+0200
TZOFFSETTO:+0100
TZNAME:CET
DTSTART:20251026T010000
END:STANDARD
END:VTIMEZONE
BEGIN:VEVENT
DTSTART;TZID=Europe/Madrid:20240701T193000
DTEND;TZID=Europe/Madrid:20240701T210000
DTSTAMP:20260425T171727
CREATED:20240622T144418Z
LAST-MODIFIED:20240622T144418Z
UID:16332-1719862200-1719867600@innersparklife.com
SUMMARY:Drum Meditation Brussels
DESCRIPTION:ev_4316480
URL:https://innersparklife.com/event/drum-meditation-brussels-122/
LOCATION:Woluwe Saint Pierre\, 1150
CATEGORIES:brussels_events
END:VEVENT
BEGIN:VEVENT
DTSTART;TZID=Europe/Madrid:20240701T170000
DTEND;TZID=Europe/Madrid:20240701T173000
DTSTAMP:20260425T171727
CREATED:20240622T000029Z
LAST-MODIFIED:20240622T000029Z
UID:16329-1719853200-1719855000@innersparklife.com
SUMMARY:Inner Spark Free Discovery Call
DESCRIPTION:ev_4316090
URL:https://innersparklife.com/event/inner-spark-free-discovery-call-116/
LOCATION:Bigbluebutton\, None
CATEGORIES:individual_sessions
END:VEVENT
BEGIN:VEVENT
DTSTART;TZID=Europe/Madrid:20240701T150000
DTEND;TZID=Europe/Madrid:20240701T153000
DTSTAMP:20260425T171727
CREATED:20240622T000027Z
LAST-MODIFIED:20240622T000027Z
UID:16327-1719846000-1719847800@innersparklife.com
SUMMARY:Inner Spark Free Discovery Call
DESCRIPTION:ev_4316089
URL:https://innersparklife.com/event/inner-spark-free-discovery-call-115/
LOCATION:Bigbluebutton\, None
CATEGORIES:individual_sessions
END:VEVENT
BEGIN:VEVENT
DTSTART;TZID=Europe/Madrid:20240701T120000
DTEND;TZID=Europe/Madrid:20240701T123000
DTSTAMP:20260425T171727
CREATED:20240622T000025Z
LAST-MODIFIED:20240622T000025Z
UID:16325-1719835200-1719837000@innersparklife.com
SUMMARY:Inner Spark Free Discovery Call
DESCRIPTION:ev_4316088
URL:https://innersparklife.com/event/inner-spark-free-discovery-call-114/
LOCATION:Bigbluebutton\, None
CATEGORIES:individual_sessions
END:VEVENT
BEGIN:VEVENT
DTSTART;TZID=Europe/Madrid:20240701T100000
DTEND;TZID=Europe/Madrid:20240701T103000
DTSTAMP:20260425T171727
CREATED:20240622T000023Z
LAST-MODIFIED:20240622T000023Z
UID:16323-1719828000-1719829800@innersparklife.com
SUMMARY:Inner Spark Free Discovery Call
DESCRIPTION:ev_4316087
URL:https://innersparklife.com/event/inner-spark-free-discovery-call-113/
LOCATION:Bigbluebutton\, None
CATEGORIES:individual_sessions
END:VEVENT
BEGIN:VEVENT
DTSTART;TZID=Europe/Madrid:20240630T110000
DTEND;TZID=Europe/Madrid:20240630T200000
DTSTAMP:20260425T171727
CREATED:20240629T123637Z
LAST-MODIFIED:20240629T123637Z
UID:16360-1719745200-1719777600@innersparklife.com
SUMMARY:Drum Meditation in Nature: Hike in Sart Bernard Forest
DESCRIPTION:ev_4319265
URL:https://innersparklife.com/event/drum-meditation-in-nature-hike-in-sart-bernard-forest/
LOCATION:Sart Bernard Forest\, None
CATEGORIES:brussels_events
END:VEVENT
BEGIN:VEVENT
DTSTART;TZID=Europe/Madrid:20240627T170000
DTEND;TZID=Europe/Madrid:20240627T173000
DTSTAMP:20260425T171727
CREATED:20240618T000034Z
LAST-MODIFIED:20240618T000034Z
UID:16317-1719507600-1719509400@innersparklife.com
SUMMARY:Inner Spark Free Discovery Call
DESCRIPTION:ev_4302557
URL:https://innersparklife.com/event/inner-spark-free-discovery-call-112/
LOCATION:Bigbluebutton\, None
CATEGORIES:individual_sessions
END:VEVENT
BEGIN:VEVENT
DTSTART;TZID=Europe/Madrid:20240627T150000
DTEND;TZID=Europe/Madrid:20240627T153000
DTSTAMP:20260425T171727
CREATED:20240618T000032Z
LAST-MODIFIED:20240618T000032Z
UID:16315-1719500400-1719502200@innersparklife.com
SUMMARY:Inner Spark Free Discovery Call
DESCRIPTION:ev_4302556
URL:https://innersparklife.com/event/inner-spark-free-discovery-call-111/
LOCATION:Bigbluebutton\, None
CATEGORIES:individual_sessions
END:VEVENT
BEGIN:VEVENT
DTSTART;TZID=Europe/Madrid:20240627T120000
DTEND;TZID=Europe/Madrid:20240627T123000
DTSTAMP:20260425T171727
CREATED:20240618T000030Z
LAST-MODIFIED:20240618T000030Z
UID:16313-1719489600-1719491400@innersparklife.com
SUMMARY:Inner Spark Free Discovery Call
DESCRIPTION:ev_4302555
URL:https://innersparklife.com/event/inner-spark-free-discovery-call-110/
LOCATION:Bigbluebutton\, None
CATEGORIES:individual_sessions
END:VEVENT
BEGIN:VEVENT
DTSTART;TZID=Europe/Madrid:20240627T100000
DTEND;TZID=Europe/Madrid:20240627T103000
DTSTAMP:20260425T171727
CREATED:20240618T000028Z
LAST-MODIFIED:20240618T000028Z
UID:16311-1719482400-1719484200@innersparklife.com
SUMMARY:Inner Spark Free Discovery Call
DESCRIPTION:ev_4302554
URL:https://innersparklife.com/event/inner-spark-free-discovery-call-109/
LOCATION:Bigbluebutton\, None
CATEGORIES:individual_sessions
END:VEVENT
BEGIN:VEVENT
DTSTART;TZID=Europe/Madrid:20240626T193000
DTEND;TZID=Europe/Madrid:20240626T203000
DTSTAMP:20260425T171727
CREATED:20240606T082248Z
LAST-MODIFIED:20240606T082248Z
UID:16233-1719430200-1719433800@innersparklife.com
SUMMARY:Drum Meditation Online
DESCRIPTION:ev_4267105
URL:https://innersparklife.com/event/drum-meditation-online-2/
LOCATION:Bigbluebutton\, None
CATEGORIES:brussels_events
ATTACH;FMTTYPE=image/jpeg:https://innersparklife.com/wp-content/uploads/2024/06/cropped_event_image-22.jpg
END:VEVENT
BEGIN:VEVENT
DTSTART;TZID=Europe/Madrid:20240626T170000
DTEND;TZID=Europe/Madrid:20240626T173000
DTSTAMP:20260425T171727
CREATED:20240617T000036Z
LAST-MODIFIED:20240617T000036Z
UID:16309-1719421200-1719423000@innersparklife.com
SUMMARY:Inner Spark Free Discovery Call
DESCRIPTION:ev_4299727
URL:https://innersparklife.com/event/inner-spark-free-discovery-call-108/
LOCATION:Bigbluebutton\, None
CATEGORIES:individual_sessions
END:VEVENT
BEGIN:VEVENT
DTSTART;TZID=Europe/Madrid:20240626T150000
DTEND;TZID=Europe/Madrid:20240626T153000
DTSTAMP:20260425T171727
CREATED:20240617T000034Z
LAST-MODIFIED:20240617T000034Z
UID:16307-1719414000-1719415800@innersparklife.com
SUMMARY:Inner Spark Free Discovery Call
DESCRIPTION:ev_4299726
URL:https://innersparklife.com/event/inner-spark-free-discovery-call-107/
LOCATION:Bigbluebutton\, None
CATEGORIES:individual_sessions
END:VEVENT
BEGIN:VEVENT
DTSTART;TZID=Europe/Madrid:20240626T120000
DTEND;TZID=Europe/Madrid:20240626T123000
DTSTAMP:20260425T171727
CREATED:20240617T000032Z
LAST-MODIFIED:20240617T000032Z
UID:16305-1719403200-1719405000@innersparklife.com
SUMMARY:Inner Spark Free Discovery Call
DESCRIPTION:ev_4299725
URL:https://innersparklife.com/event/inner-spark-free-discovery-call-106/
LOCATION:Bigbluebutton\, None
CATEGORIES:individual_sessions
END:VEVENT
BEGIN:VEVENT
DTSTART;TZID=Europe/Madrid:20240626T100000
DTEND;TZID=Europe/Madrid:20240626T103000
DTSTAMP:20260425T171727
CREATED:20240617T000030Z
LAST-MODIFIED:20240617T000030Z
UID:16303-1719396000-1719397800@innersparklife.com
SUMMARY:Inner Spark Free Discovery Call
DESCRIPTION:ev_4299724
URL:https://innersparklife.com/event/inner-spark-free-discovery-call-105/
LOCATION:Bigbluebutton\, None
CATEGORIES:individual_sessions
END:VEVENT
BEGIN:VEVENT
DTSTART;TZID=Europe/Madrid:20240625T170000
DTEND;TZID=Europe/Madrid:20240625T173000
DTSTAMP:20260425T171727
CREATED:20240616T000037Z
LAST-MODIFIED:20240616T000037Z
UID:16299-1719334800-1719336600@innersparklife.com
SUMMARY:Inner Spark Free Discovery Call
DESCRIPTION:ev_4298116
URL:https://innersparklife.com/event/inner-spark-free-discovery-call-104/
LOCATION:Bigbluebutton\, None
CATEGORIES:individual_sessions
END:VEVENT
BEGIN:VEVENT
DTSTART;TZID=Europe/Madrid:20240625T150000
DTEND;TZID=Europe/Madrid:20240625T153000
DTSTAMP:20260425T171727
CREATED:20240616T000036Z
LAST-MODIFIED:20240616T000036Z
UID:16297-1719327600-1719329400@innersparklife.com
SUMMARY:Inner Spark Free Discovery Call
DESCRIPTION:ev_4298115
URL:https://innersparklife.com/event/inner-spark-free-discovery-call-103/
LOCATION:Bigbluebutton\, None
CATEGORIES:individual_sessions
END:VEVENT
BEGIN:VEVENT
DTSTART;TZID=Europe/Madrid:20240625T120000
DTEND;TZID=Europe/Madrid:20240625T123000
DTSTAMP:20260425T171727
CREATED:20240616T000034Z
LAST-MODIFIED:20240616T000034Z
UID:16295-1719316800-1719318600@innersparklife.com
SUMMARY:Inner Spark Free Discovery Call
DESCRIPTION:ev_4298114
URL:https://innersparklife.com/event/inner-spark-free-discovery-call-102/
LOCATION:Bigbluebutton\, None
CATEGORIES:individual_sessions
END:VEVENT
BEGIN:VEVENT
DTSTART;TZID=Europe/Madrid:20240625T100000
DTEND;TZID=Europe/Madrid:20240625T103000
DTSTAMP:20260425T171727
CREATED:20240616T000032Z
LAST-MODIFIED:20240616T000032Z
UID:16293-1719309600-1719311400@innersparklife.com
SUMMARY:Inner Spark Free Discovery Call
DESCRIPTION:ev_4298113
URL:https://innersparklife.com/event/inner-spark-free-discovery-call-101/
LOCATION:Bigbluebutton\, None
CATEGORIES:individual_sessions
END:VEVENT
BEGIN:VEVENT
DTSTART;TZID=Europe/Madrid:20240624T193000
DTEND;TZID=Europe/Madrid:20240624T210000
DTSTAMP:20260425T171727
CREATED:20240624T111906Z
LAST-MODIFIED:20240624T111906Z
UID:16235-1719257400-1719262800@innersparklife.com
SUMMARY:Drum Meditation Brussels
DESCRIPTION:ev_4267126
URL:https://innersparklife.com/event/drum-meditation-brussels-123/
LOCATION:Woluwe Saint Pierre\, 1150
CATEGORIES:brussels_events
END:VEVENT
BEGIN:VEVENT
DTSTART;TZID=Europe/Madrid:20240624T170000
DTEND;TZID=Europe/Madrid:20240624T173000
DTSTAMP:20260425T171727
CREATED:20240615T000035Z
LAST-MODIFIED:20240615T000035Z
UID:16289-1719248400-1719250200@innersparklife.com
SUMMARY:Inner Spark Free Discovery Call
DESCRIPTION:ev_4297256
URL:https://innersparklife.com/event/inner-spark-free-discovery-call-100/
LOCATION:Bigbluebutton\, None
CATEGORIES:individual_sessions
END:VEVENT
BEGIN:VEVENT
DTSTART;TZID=Europe/Madrid:20240624T150000
DTEND;TZID=Europe/Madrid:20240624T153000
DTSTAMP:20260425T171727
CREATED:20240615T000033Z
LAST-MODIFIED:20240615T000033Z
UID:16287-1719241200-1719243000@innersparklife.com
SUMMARY:Inner Spark Free Discovery Call
DESCRIPTION:ev_4297255
URL:https://innersparklife.com/event/inner-spark-free-discovery-call-99/
LOCATION:Bigbluebutton\, None
CATEGORIES:individual_sessions
END:VEVENT
BEGIN:VEVENT
DTSTART;TZID=Europe/Madrid:20240624T120000
DTEND;TZID=Europe/Madrid:20240624T123000
DTSTAMP:20260425T171727
CREATED:20240615T000031Z
LAST-MODIFIED:20240615T000031Z
UID:16285-1719230400-1719232200@innersparklife.com
SUMMARY:Inner Spark Free Discovery Call
DESCRIPTION:ev_4297254
URL:https://innersparklife.com/event/inner-spark-free-discovery-call-98/
LOCATION:Bigbluebutton\, None
CATEGORIES:individual_sessions
END:VEVENT
BEGIN:VEVENT
DTSTART;TZID=Europe/Madrid:20240624T100000
DTEND;TZID=Europe/Madrid:20240624T103000
DTSTAMP:20260425T171727
CREATED:20240615T000029Z
LAST-MODIFIED:20240615T000029Z
UID:16283-1719223200-1719225000@innersparklife.com
SUMMARY:Inner Spark Free Discovery Call
DESCRIPTION:ev_4297253
URL:https://innersparklife.com/event/inner-spark-free-discovery-call-97/
LOCATION:Bigbluebutton\, None
CATEGORIES:individual_sessions
END:VEVENT
BEGIN:VEVENT
DTSTART;TZID=Europe/Madrid:20240620T170000
DTEND;TZID=Europe/Madrid:20240620T173000
DTSTAMP:20260425T171727
CREATED:20240611T000040Z
LAST-MODIFIED:20240611T000040Z
UID:16277-1718902800-1718904600@innersparklife.com
SUMMARY:Inner Spark Free Discovery Call
DESCRIPTION:ev_4279402
URL:https://innersparklife.com/event/inner-spark-free-discovery-call-96/
LOCATION:Bigbluebutton\, None
CATEGORIES:individual_sessions
END:VEVENT
BEGIN:VEVENT
DTSTART;TZID=Europe/Madrid:20240620T150000
DTEND;TZID=Europe/Madrid:20240620T153000
DTSTAMP:20260425T171727
CREATED:20240611T000032Z
LAST-MODIFIED:20240611T000032Z
UID:16275-1718895600-1718897400@innersparklife.com
SUMMARY:Inner Spark Free Discovery Call
DESCRIPTION:ev_4279401
URL:https://innersparklife.com/event/inner-spark-free-discovery-call-95/
LOCATION:Bigbluebutton\, None
CATEGORIES:individual_sessions
END:VEVENT
BEGIN:VEVENT
DTSTART;TZID=Europe/Madrid:20240620T120000
DTEND;TZID=Europe/Madrid:20240620T123000
DTSTAMP:20260425T171727
CREATED:20240611T000031Z
LAST-MODIFIED:20240611T000031Z
UID:16273-1718884800-1718886600@innersparklife.com
SUMMARY:Inner Spark Free Discovery Call
DESCRIPTION:ev_4279400
URL:https://innersparklife.com/event/inner-spark-free-discovery-call-94/
LOCATION:Bigbluebutton\, None
CATEGORIES:individual_sessions
END:VEVENT
BEGIN:VEVENT
DTSTART;TZID=Europe/Madrid:20240620T100000
DTEND;TZID=Europe/Madrid:20240620T103000
DTSTAMP:20260425T171727
CREATED:20240611T000029Z
LAST-MODIFIED:20240611T000029Z
UID:16271-1718877600-1718879400@innersparklife.com
SUMMARY:Inner Spark Free Discovery Call
DESCRIPTION:ev_4279399
URL:https://innersparklife.com/event/inner-spark-free-discovery-call-93/
LOCATION:Bigbluebutton\, None
CATEGORIES:individual_sessions
END:VEVENT
BEGIN:VEVENT
DTSTART;TZID=Europe/Madrid:20240619T170000
DTEND;TZID=Europe/Madrid:20240619T173000
DTSTAMP:20260425T171727
CREATED:20240610T000039Z
LAST-MODIFIED:20240610T000039Z
UID:16268-1718816400-1718818200@innersparklife.com
SUMMARY:Inner Spark Free Discovery Call
DESCRIPTION:ev_4275475
URL:https://innersparklife.com/event/inner-spark-free-discovery-call-92/
LOCATION:Bigbluebutton\, None
CATEGORIES:individual_sessions
END:VEVENT
BEGIN:VEVENT
DTSTART;TZID=Europe/Madrid:20240619T150000
DTEND;TZID=Europe/Madrid:20240619T153000
DTSTAMP:20260425T171727
CREATED:20240610T000037Z
LAST-MODIFIED:20240610T000037Z
UID:16266-1718809200-1718811000@innersparklife.com
SUMMARY:Inner Spark Free Discovery Call
DESCRIPTION:ev_4275474
URL:https://innersparklife.com/event/inner-spark-free-discovery-call-91/
LOCATION:Bigbluebutton\, None
CATEGORIES:individual_sessions
END:VEVENT
END:VCALENDAR