BEGIN:VCALENDAR
VERSION:2.0
PRODID:-//Inner Spark - ECPv6.15.20//NONSGML v1.0//EN
CALSCALE:GREGORIAN
METHOD:PUBLISH
X-WR-CALNAME:Inner Spark
X-ORIGINAL-URL:https://innersparklife.com
X-WR-CALDESC:Events for Inner Spark
REFRESH-INTERVAL;VALUE=DURATION:PT1H
X-Robots-Tag:noindex
X-PUBLISHED-TTL:PT1H
BEGIN:VTIMEZONE
TZID:Europe/Madrid
BEGIN:DAYLIGHT
TZOFFSETFROM:+0100
TZOFFSETTO:+0200
TZNAME:CEST
DTSTART:20220327T010000
END:DAYLIGHT
BEGIN:STANDARD
TZOFFSETFROM:+0200
TZOFFSETTO:+0100
TZNAME:CET
DTSTART:20221030T010000
END:STANDARD
BEGIN:DAYLIGHT
TZOFFSETFROM:+0100
TZOFFSETTO:+0200
TZNAME:CEST
DTSTART:20230326T010000
END:DAYLIGHT
BEGIN:STANDARD
TZOFFSETFROM:+0200
TZOFFSETTO:+0100
TZNAME:CET
DTSTART:20231029T010000
END:STANDARD
BEGIN:DAYLIGHT
TZOFFSETFROM:+0100
TZOFFSETTO:+0200
TZNAME:CEST
DTSTART:20240331T010000
END:DAYLIGHT
BEGIN:STANDARD
TZOFFSETFROM:+0200
TZOFFSETTO:+0100
TZNAME:CET
DTSTART:20241027T010000
END:STANDARD
BEGIN:DAYLIGHT
TZOFFSETFROM:+0100
TZOFFSETTO:+0200
TZNAME:CEST
DTSTART:20250330T010000
END:DAYLIGHT
BEGIN:STANDARD
TZOFFSETFROM:+0200
TZOFFSETTO:+0100
TZNAME:CET
DTSTART:20251026T010000
END:STANDARD
END:VTIMEZONE
BEGIN:VEVENT
DTSTART;TZID=Europe/Madrid:20231230T003000
DTEND;TZID=Europe/Madrid:20231231T183000
DTSTAMP:20260426T051003
CREATED:20240121T095742Z
LAST-MODIFIED:20240121T095742Z
UID:14302-1703896200-1704047400@innersparklife.com
SUMMARY:Drum Meditation Brussels
DESCRIPTION:ev_3389024
URL:https://innersparklife.com/event/drum-meditation-brussels-51/
LOCATION:Woluwe Saint Pierre\, 1150
CATEGORIES:brussels_events
END:VEVENT
BEGIN:VEVENT
DTSTART;TZID=Europe/Madrid:20231230T003000
DTEND;TZID=Europe/Madrid:20231231T071500
DTSTAMP:20260426T051003
CREATED:20240121T095749Z
LAST-MODIFIED:20240121T095749Z
UID:14304-1703896200-1704006900@innersparklife.com
SUMMARY:Drum Meditation Brussels
DESCRIPTION:ev_3391834
URL:https://innersparklife.com/event/drum-meditation-brussels-52/
LOCATION:Woluwe Saint Pierre\, 1150
CATEGORIES:brussels_events
END:VEVENT
BEGIN:VEVENT
DTSTART;TZID=Europe/Madrid:20231230T003000
DTEND;TZID=Europe/Madrid:20231231T064500
DTSTAMP:20260426T051003
CREATED:20240121T095755Z
LAST-MODIFIED:20240121T095755Z
UID:14306-1703896200-1704005100@innersparklife.com
SUMMARY:Drum Meditation Brussels
DESCRIPTION:ev_3391781
URL:https://innersparklife.com/event/drum-meditation-brussels-53/
LOCATION:Woluwe Saint Pierre\, 1150
CATEGORIES:brussels_events
END:VEVENT
BEGIN:VEVENT
DTSTART;TZID=Europe/Madrid:20231230T003000
DTEND;TZID=Europe/Madrid:20231231T044500
DTSTAMP:20260426T051003
CREATED:20240121T095819Z
LAST-MODIFIED:20240121T095819Z
UID:14312-1703896200-1703997900@innersparklife.com
SUMMARY:Drum Meditation Brussels
DESCRIPTION:ev_3392150
URL:https://innersparklife.com/event/drum-meditation-brussels-56/
LOCATION:Woluwe Saint Pierre\, 1150
CATEGORIES:brussels_events
END:VEVENT
BEGIN:VEVENT
DTSTART;TZID=Europe/Madrid:20231230T003000
DTEND;TZID=Europe/Madrid:20231231T043000
DTSTAMP:20260426T051003
CREATED:20240121T095805Z
LAST-MODIFIED:20240121T095805Z
UID:14308-1703896200-1703997000@innersparklife.com
SUMMARY:Drum Meditation Brussels
DESCRIPTION:ev_3392030
URL:https://innersparklife.com/event/drum-meditation-brussels-54/
LOCATION:Woluwe Saint Pierre\, 1150
CATEGORIES:brussels_events
END:VEVENT
BEGIN:VEVENT
DTSTART;TZID=Europe/Madrid:20231230T003000
DTEND;TZID=Europe/Madrid:20231231T024500
DTSTAMP:20260426T051003
CREATED:20240121T095813Z
LAST-MODIFIED:20240121T095813Z
UID:14310-1703896200-1703990700@innersparklife.com
SUMMARY:Drum Meditation Brussels
DESCRIPTION:ev_3392104
URL:https://innersparklife.com/event/drum-meditation-brussels-55/
LOCATION:Woluwe Saint Pierre\, 1150
CATEGORIES:brussels_events
END:VEVENT
BEGIN:VEVENT
DTSTART;TZID=Europe/Madrid:20231230T001500
DTEND;TZID=Europe/Madrid:20231231T071500
DTSTAMP:20260426T051003
CREATED:20240121T095552Z
LAST-MODIFIED:20240121T095552Z
UID:14296-1703895300-1704006900@innersparklife.com
SUMMARY:Drum Meditation Brussels
DESCRIPTION:ev_3395401
URL:https://innersparklife.com/event/drum-meditation-brussels-48/
LOCATION:Woluwe Saint Pierre\, 1150
CATEGORIES:brussels_events
END:VEVENT
BEGIN:VEVENT
DTSTART;TZID=Europe/Madrid:20231230T001500
DTEND;TZID=Europe/Madrid:20231231T054500
DTSTAMP:20260426T051003
CREATED:20240121T095614Z
LAST-MODIFIED:20240121T095614Z
UID:14298-1703895300-1704001500@innersparklife.com
SUMMARY:Drum Meditation Brussels
DESCRIPTION:ev_3395426
URL:https://innersparklife.com/event/drum-meditation-brussels-49/
LOCATION:Woluwe Saint Pierre\, 1150
CATEGORIES:brussels_events
END:VEVENT
BEGIN:VEVENT
DTSTART;TZID=Europe/Madrid:20231230T000000
DTEND;TZID=Europe/Madrid:20231231T000000
DTSTAMP:20260426T051003
CREATED:20240121T095545Z
LAST-MODIFIED:20240121T095545Z
UID:14294-1703894400-1703980800@innersparklife.com
SUMMARY:Drum Meditation Brussels
DESCRIPTION:ev_3389125
URL:https://innersparklife.com/event/drum-meditation-brussels-47/
LOCATION:Woluwe Saint Pierre\, 1150
CATEGORIES:brussels_events
END:VEVENT
BEGIN:VEVENT
DTSTART;TZID=Europe/Madrid:20231229T061500
DTEND;TZID=Europe/Madrid:20231230T113000
DTSTAMP:20260426T051003
CREATED:20240121T095539Z
LAST-MODIFIED:20240121T095539Z
UID:14292-1703830500-1703935800@innersparklife.com
SUMMARY:Drum Meditation Brussels
DESCRIPTION:ev_3389229
URL:https://innersparklife.com/event/drum-meditation-brussels-46/
LOCATION:Woluwe Saint Pierre\, 1150
CATEGORIES:brussels_events
END:VEVENT
BEGIN:VEVENT
DTSTART;TZID=Europe/Madrid:20231229T023000
DTEND;TZID=Europe/Madrid:20231230T064500
DTSTAMP:20260426T051003
CREATED:20240121T095533Z
LAST-MODIFIED:20240121T095533Z
UID:14290-1703817000-1703918700@innersparklife.com
SUMMARY:Drum Meditation Brussels
DESCRIPTION:ev_3389250
URL:https://innersparklife.com/event/drum-meditation-brussels-45/
LOCATION:Woluwe Saint Pierre\, 1150
CATEGORIES:brussels_events
END:VEVENT
BEGIN:VEVENT
DTSTART;TZID=Europe/Madrid:20231229T010000
DTEND;TZID=Europe/Madrid:20231230T104500
DTSTAMP:20260426T051003
CREATED:20240121T095526Z
LAST-MODIFIED:20240121T095526Z
UID:14288-1703811600-1703933100@innersparklife.com
SUMMARY:Drum Meditation Brussels
DESCRIPTION:ev_3389212
URL:https://innersparklife.com/event/drum-meditation-brussels-44/
LOCATION:Woluwe Saint Pierre\, 1150
CATEGORIES:brussels_events
END:VEVENT
BEGIN:VEVENT
DTSTART;TZID=Europe/Madrid:20231229T004500
DTEND;TZID=Europe/Madrid:20231230T063000
DTSTAMP:20260426T051003
CREATED:20240121T095304Z
LAST-MODIFIED:20240121T095304Z
UID:14284-1703810700-1703917800@innersparklife.com
SUMMARY:Drum Meditation Brussels
DESCRIPTION:ev_3391780
URL:https://innersparklife.com/event/drum-meditation-brussels-42/
LOCATION:Woluwe Saint Pierre\, 1150
CATEGORIES:brussels_events
END:VEVENT
BEGIN:VEVENT
DTSTART;TZID=Europe/Madrid:20231229T004500
DTEND;TZID=Europe/Madrid:20231230T054500
DTSTAMP:20260426T051003
CREATED:20240121T095258Z
LAST-MODIFIED:20240121T095258Z
UID:14282-1703810700-1703915100@innersparklife.com
SUMMARY:Drum Meditation Brussels
DESCRIPTION:ev_3391778
URL:https://innersparklife.com/event/drum-meditation-brussels-41/
LOCATION:Woluwe Saint Pierre\, 1150
CATEGORIES:brussels_events
END:VEVENT
BEGIN:VEVENT
DTSTART;TZID=Europe/Madrid:20231229T004500
DTEND;TZID=Europe/Madrid:20231230T050000
DTSTAMP:20260426T051003
CREATED:20240121T095521Z
LAST-MODIFIED:20240121T095521Z
UID:14286-1703810700-1703912400@innersparklife.com
SUMMARY:Drum Meditation Brussels
DESCRIPTION:ev_3391833
URL:https://innersparklife.com/event/drum-meditation-brussels-43/
LOCATION:Woluwe Saint Pierre\, 1150
CATEGORIES:brussels_events
END:VEVENT
BEGIN:VEVENT
DTSTART;TZID=Europe/Madrid:20231229T004500
DTEND;TZID=Europe/Madrid:20231230T031500
DTSTAMP:20260426T051003
CREATED:20240121T095248Z
LAST-MODIFIED:20240121T095248Z
UID:14280-1703810700-1703906100@innersparklife.com
SUMMARY:Drum Meditation Brussels
DESCRIPTION:ev_3389268
URL:https://innersparklife.com/event/drum-meditation-brussels-40/
LOCATION:Woluwe Saint Pierre\, 1150
CATEGORIES:brussels_events
END:VEVENT
BEGIN:VEVENT
DTSTART;TZID=Europe/Madrid:20231229T003000
DTEND;TZID=Europe/Madrid:20240117T103000
DTSTAMP:20260426T051003
CREATED:20240121T100344Z
LAST-MODIFIED:20240121T100344Z
UID:14390-1703809800-1705487400@innersparklife.com
SUMMARY:Drum Meditation Brussels
DESCRIPTION:ev_3391444
URL:https://innersparklife.com/event/drum-meditation-brussels-95/
LOCATION:Woluwe Saint Pierre\, 1150
CATEGORIES:brussels_events
END:VEVENT
BEGIN:VEVENT
DTSTART;TZID=Europe/Madrid:20231229T003000
DTEND;TZID=Europe/Madrid:20231230T143000
DTSTAMP:20260426T051003
CREATED:20240121T095202Z
LAST-MODIFIED:20240121T095202Z
UID:14266-1703809800-1703946600@innersparklife.com
SUMMARY:Drum Meditation Brussels
DESCRIPTION:ev_3389120
URL:https://innersparklife.com/event/drum-meditation-brussels-33/
LOCATION:Woluwe Saint Pierre\, 1150
CATEGORIES:brussels_events
END:VEVENT
BEGIN:VEVENT
DTSTART;TZID=Europe/Madrid:20231229T003000
DTEND;TZID=Europe/Madrid:20231230T081500
DTSTAMP:20260426T051003
CREATED:20240121T095233Z
LAST-MODIFIED:20240121T095233Z
UID:14276-1703809800-1703924100@innersparklife.com
SUMMARY:Drum Meditation Brussels
DESCRIPTION:ev_3395389
URL:https://innersparklife.com/event/drum-meditation-brussels-38/
LOCATION:Woluwe Saint Pierre\, 1150
CATEGORIES:brussels_events
END:VEVENT
BEGIN:VEVENT
DTSTART;TZID=Europe/Madrid:20231229T003000
DTEND;TZID=Europe/Madrid:20231230T071500
DTSTAMP:20260426T051003
CREATED:20240121T095215Z
LAST-MODIFIED:20240121T095215Z
UID:14270-1703809800-1703920500@innersparklife.com
SUMMARY:Drum Meditation Brussels
DESCRIPTION:ev_3391812
URL:https://innersparklife.com/event/drum-meditation-brussels-35/
LOCATION:Woluwe Saint Pierre\, 1150
CATEGORIES:brussels_events
END:VEVENT
BEGIN:VEVENT
DTSTART;TZID=Europe/Madrid:20231229T003000
DTEND;TZID=Europe/Madrid:20231230T063000
DTSTAMP:20260426T051003
CREATED:20240121T095209Z
LAST-MODIFIED:20240121T095209Z
UID:14268-1703809800-1703917800@innersparklife.com
SUMMARY:Drum Meditation Brussels
DESCRIPTION:ev_3391802
URL:https://innersparklife.com/event/drum-meditation-brussels-34/
LOCATION:Woluwe Saint Pierre\, 1150
CATEGORIES:brussels_events
END:VEVENT
BEGIN:VEVENT
DTSTART;TZID=Europe/Madrid:20231229T003000
DTEND;TZID=Europe/Madrid:20231230T054500
DTSTAMP:20260426T051003
CREATED:20240121T095221Z
LAST-MODIFIED:20240121T095221Z
UID:14272-1703809800-1703915100@innersparklife.com
SUMMARY:Drum Meditation Brussels
DESCRIPTION:ev_3392098
URL:https://innersparklife.com/event/drum-meditation-brussels-36/
LOCATION:Woluwe Saint Pierre\, 1150
CATEGORIES:brussels_events
END:VEVENT
BEGIN:VEVENT
DTSTART;TZID=Europe/Madrid:20231229T003000
DTEND;TZID=Europe/Madrid:20231230T040000
DTSTAMP:20260426T051003
CREATED:20240121T095238Z
LAST-MODIFIED:20240121T095238Z
UID:14278-1703809800-1703908800@innersparklife.com
SUMMARY:Drum Meditation Brussels
DESCRIPTION:ev_3395420
URL:https://innersparklife.com/event/drum-meditation-brussels-39/
LOCATION:Woluwe Saint Pierre\, 1150
CATEGORIES:brussels_events
END:VEVENT
BEGIN:VEVENT
DTSTART;TZID=Europe/Madrid:20231229T003000
DTEND;TZID=Europe/Madrid:20231230T030000
DTSTAMP:20260426T051003
CREATED:20240121T095226Z
LAST-MODIFIED:20240121T095226Z
UID:14274-1703809800-1703905200@innersparklife.com
SUMMARY:Drum Meditation Brussels
DESCRIPTION:ev_3392120
URL:https://innersparklife.com/event/drum-meditation-brussels-37/
LOCATION:Woluwe Saint Pierre\, 1150
CATEGORIES:brussels_events
END:VEVENT
BEGIN:VEVENT
DTSTART;TZID=Europe/Madrid:20231229T001500
DTEND;TZID=Europe/Madrid:20231231T054500
DTSTAMP:20260426T051003
CREATED:20240121T095618Z
LAST-MODIFIED:20240121T095618Z
UID:14300-1703808900-1704001500@innersparklife.com
SUMMARY:Drum Meditation Brussels
DESCRIPTION:ev_3395426
URL:https://innersparklife.com/event/drum-meditation-brussels-50/
LOCATION:Woluwe Saint Pierre\, 1150
CATEGORIES:brussels_events
END:VEVENT
BEGIN:VEVENT
DTSTART;TZID=Europe/Madrid:20231229T001500
DTEND;TZID=Europe/Madrid:20231230T224500
DTSTAMP:20260426T051003
CREATED:20240121T095142Z
LAST-MODIFIED:20240121T095142Z
UID:14260-1703808900-1703976300@innersparklife.com
SUMMARY:Drum Meditation Brussels
DESCRIPTION:ev_3389130
URL:https://innersparklife.com/event/drum-meditation-brussels-30/
LOCATION:Woluwe Saint Pierre\, 1150
CATEGORIES:brussels_events
END:VEVENT
BEGIN:VEVENT
DTSTART;TZID=Europe/Madrid:20231229T001500
DTEND;TZID=Europe/Madrid:20231230T064500
DTSTAMP:20260426T051003
CREATED:20240121T095149Z
LAST-MODIFIED:20240121T095149Z
UID:14262-1703808900-1703918700@innersparklife.com
SUMMARY:Drum Meditation Brussels
DESCRIPTION:ev_3392027
URL:https://innersparklife.com/event/drum-meditation-brussels-31/
LOCATION:Woluwe Saint Pierre\, 1150
CATEGORIES:brussels_events
END:VEVENT
BEGIN:VEVENT
DTSTART;TZID=Europe/Madrid:20231229T001500
DTEND;TZID=Europe/Madrid:20231230T053000
DTSTAMP:20260426T051003
CREATED:20240121T095154Z
LAST-MODIFIED:20240121T095154Z
UID:14264-1703808900-1703914200@innersparklife.com
SUMMARY:Drum Meditation Brussels
DESCRIPTION:ev_3395905
URL:https://innersparklife.com/event/drum-meditation-brussels-32/
LOCATION:Woluwe Saint Pierre\, 1150
CATEGORIES:brussels_events
END:VEVENT
BEGIN:VEVENT
DTSTART;TZID=Europe/Madrid:20231228T041500
DTEND;TZID=Europe/Madrid:20231229T150000
DTSTAMP:20260426T051003
CREATED:20240121T095135Z
LAST-MODIFIED:20240121T095135Z
UID:14258-1703736900-1703862000@innersparklife.com
SUMMARY:Drum Meditation Brussels
DESCRIPTION:ev_3389225
URL:https://innersparklife.com/event/drum-meditation-brussels-29/
LOCATION:Woluwe Saint Pierre\, 1150
CATEGORIES:brussels_events
END:VEVENT
BEGIN:VEVENT
DTSTART;TZID=Europe/Madrid:20231228T010000
DTEND;TZID=Europe/Madrid:20231229T064500
DTSTAMP:20260426T051003
CREATED:20240121T095128Z
LAST-MODIFIED:20240121T095128Z
UID:14256-1703725200-1703832300@innersparklife.com
SUMMARY:Drum Meditation Brussels
DESCRIPTION:ev_3389241
URL:https://innersparklife.com/event/drum-meditation-brussels-28/
LOCATION:Woluwe Saint Pierre\, 1150
CATEGORIES:brussels_events
END:VEVENT
END:VCALENDAR