BEGIN:VCALENDAR
VERSION:2.0
PRODID:-//Inner Spark - ECPv6.15.20//NONSGML v1.0//EN
CALSCALE:GREGORIAN
METHOD:PUBLISH
X-WR-CALNAME:Inner Spark
X-ORIGINAL-URL:https://innersparklife.com
X-WR-CALDESC:Events for Inner Spark
REFRESH-INTERVAL;VALUE=DURATION:PT1H
X-Robots-Tag:noindex
X-PUBLISHED-TTL:PT1H
BEGIN:VTIMEZONE
TZID:Europe/Madrid
BEGIN:DAYLIGHT
TZOFFSETFROM:+0100
TZOFFSETTO:+0200
TZNAME:CEST
DTSTART:20220327T010000
END:DAYLIGHT
BEGIN:STANDARD
TZOFFSETFROM:+0200
TZOFFSETTO:+0100
TZNAME:CET
DTSTART:20221030T010000
END:STANDARD
BEGIN:DAYLIGHT
TZOFFSETFROM:+0100
TZOFFSETTO:+0200
TZNAME:CEST
DTSTART:20230326T010000
END:DAYLIGHT
BEGIN:STANDARD
TZOFFSETFROM:+0200
TZOFFSETTO:+0100
TZNAME:CET
DTSTART:20231029T010000
END:STANDARD
BEGIN:DAYLIGHT
TZOFFSETFROM:+0100
TZOFFSETTO:+0200
TZNAME:CEST
DTSTART:20240331T010000
END:DAYLIGHT
BEGIN:STANDARD
TZOFFSETFROM:+0200
TZOFFSETTO:+0100
TZNAME:CET
DTSTART:20241027T010000
END:STANDARD
BEGIN:DAYLIGHT
TZOFFSETFROM:+0100
TZOFFSETTO:+0200
TZNAME:CEST
DTSTART:20250330T010000
END:DAYLIGHT
BEGIN:STANDARD
TZOFFSETFROM:+0200
TZOFFSETTO:+0100
TZNAME:CET
DTSTART:20251026T010000
END:STANDARD
END:VTIMEZONE
BEGIN:VEVENT
DTSTART;TZID=Europe/Madrid:20231228T003000
DTEND;TZID=Europe/Madrid:20240111T073000
DTSTAMP:20260426T051552
CREATED:20240121T100338Z
LAST-MODIFIED:20240121T100338Z
UID:14388-1703723400-1704958200@innersparklife.com
SUMMARY:Drum Meditation Brussels
DESCRIPTION:ev_3389291
URL:https://innersparklife.com/event/drum-meditation-brussels-94/
LOCATION:Woluwe Saint Pierre\, 1150
CATEGORIES:brussels_events
END:VEVENT
BEGIN:VEVENT
DTSTART;TZID=Europe/Madrid:20231228T003000
DTEND;TZID=Europe/Madrid:20231229T230000
DTSTAMP:20260426T051552
CREATED:20240121T095012Z
LAST-MODIFIED:20240121T095012Z
UID:14234-1703723400-1703890800@innersparklife.com
SUMMARY:Drum Meditation Brussels
DESCRIPTION:ev_3388993
URL:https://innersparklife.com/event/drum-meditation-brussels-17/
LOCATION:Woluwe Saint Pierre\, 1150
CATEGORIES:brussels_events
END:VEVENT
BEGIN:VEVENT
DTSTART;TZID=Europe/Madrid:20231228T003000
DTEND;TZID=Europe/Madrid:20231229T151500
DTSTAMP:20260426T051552
CREATED:20240121T095025Z
LAST-MODIFIED:20240121T095025Z
UID:14238-1703723400-1703862900@innersparklife.com
SUMMARY:Drum Meditation Brussels
DESCRIPTION:ev_3389018
URL:https://innersparklife.com/event/drum-meditation-brussels-19/
LOCATION:Woluwe Saint Pierre\, 1150
CATEGORIES:brussels_events
END:VEVENT
BEGIN:VEVENT
DTSTART;TZID=Europe/Madrid:20231228T003000
DTEND;TZID=Europe/Madrid:20231229T091500
DTSTAMP:20260426T051552
CREATED:20240121T095018Z
LAST-MODIFIED:20240121T095018Z
UID:14236-1703723400-1703841300@innersparklife.com
SUMMARY:Drum Meditation Brussels
DESCRIPTION:ev_3389205
URL:https://innersparklife.com/event/drum-meditation-brussels-18/
LOCATION:Woluwe Saint Pierre\, 1150
CATEGORIES:brussels_events
END:VEVENT
BEGIN:VEVENT
DTSTART;TZID=Europe/Madrid:20231228T003000
DTEND;TZID=Europe/Madrid:20231229T054500
DTSTAMP:20260426T051552
CREATED:20240121T095037Z
LAST-MODIFIED:20240121T095037Z
UID:14242-1703723400-1703828700@innersparklife.com
SUMMARY:Drum Meditation Brussels
DESCRIPTION:ev_3391865
URL:https://innersparklife.com/event/drum-meditation-brussels-21/
LOCATION:Woluwe Saint Pierre\, 1150
CATEGORIES:brussels_events
END:VEVENT
BEGIN:VEVENT
DTSTART;TZID=Europe/Madrid:20231228T003000
DTEND;TZID=Europe/Madrid:20231229T054500
DTSTAMP:20260426T051552
CREATED:20240121T095032Z
LAST-MODIFIED:20240121T095032Z
UID:14240-1703723400-1703828700@innersparklife.com
SUMMARY:Drum Meditation Brussels
DESCRIPTION:ev_3391785
URL:https://innersparklife.com/event/drum-meditation-brussels-20/
LOCATION:Woluwe Saint Pierre\, 1150
CATEGORIES:brussels_events
END:VEVENT
BEGIN:VEVENT
DTSTART;TZID=Europe/Madrid:20231228T003000
DTEND;TZID=Europe/Madrid:20231229T044500
DTSTAMP:20260426T051552
CREATED:20240121T095043Z
LAST-MODIFIED:20240121T095043Z
UID:14244-1703723400-1703825100@innersparklife.com
SUMMARY:Drum Meditation Brussels
DESCRIPTION:ev_3392096
URL:https://innersparklife.com/event/drum-meditation-brussels-22/
LOCATION:Woluwe Saint Pierre\, 1150
CATEGORIES:brussels_events
END:VEVENT
BEGIN:VEVENT
DTSTART;TZID=Europe/Madrid:20231228T001500
DTEND;TZID=Europe/Madrid:20231229T214500
DTSTAMP:20260426T051552
CREATED:20240121T094900Z
LAST-MODIFIED:20240121T094900Z
UID:14224-1703722500-1703886300@innersparklife.com
SUMMARY:Drum Meditation Brussels
DESCRIPTION:ev_3388998
URL:https://innersparklife.com/event/drum-meditation-brussels-12/
LOCATION:Woluwe Saint Pierre\, 1150
CATEGORIES:brussels_events
END:VEVENT
BEGIN:VEVENT
DTSTART;TZID=Europe/Madrid:20231228T001500
DTEND;TZID=Europe/Madrid:20231229T071500
DTSTAMP:20260426T051552
CREATED:20240121T094925Z
LAST-MODIFIED:20240121T094925Z
UID:14230-1703722500-1703834100@innersparklife.com
SUMMARY:Drum Meditation Brussels
DESCRIPTION:ev_3395416
URL:https://innersparklife.com/event/drum-meditation-brussels-15/
LOCATION:Woluwe Saint Pierre\, 1150
CATEGORIES:brussels_events
END:VEVENT
BEGIN:VEVENT
DTSTART;TZID=Europe/Madrid:20231228T001500
DTEND;TZID=Europe/Madrid:20231229T063000
DTSTAMP:20260426T051552
CREATED:20240121T094918Z
LAST-MODIFIED:20240121T094918Z
UID:14228-1703722500-1703831400@innersparklife.com
SUMMARY:Drum Meditation Brussels
DESCRIPTION:ev_3395359
URL:https://innersparklife.com/event/drum-meditation-brussels-14/
LOCATION:Woluwe Saint Pierre\, 1150
CATEGORIES:brussels_events
END:VEVENT
BEGIN:VEVENT
DTSTART;TZID=Europe/Madrid:20231228T001500
DTEND;TZID=Europe/Madrid:20231229T053000
DTSTAMP:20260426T051552
CREATED:20240121T094932Z
LAST-MODIFIED:20240121T094932Z
UID:14232-1703722500-1703827800@innersparklife.com
SUMMARY:Drum Meditation Brussels
DESCRIPTION:ev_3395452
URL:https://innersparklife.com/event/drum-meditation-brussels-16/
LOCATION:Woluwe Saint Pierre\, 1150
CATEGORIES:brussels_events
END:VEVENT
BEGIN:VEVENT
DTSTART;TZID=Europe/Madrid:20231228T001500
DTEND;TZID=Europe/Madrid:20231229T040000
DTSTAMP:20260426T051552
CREATED:20240121T094911Z
LAST-MODIFIED:20240121T094911Z
UID:14226-1703722500-1703822400@innersparklife.com
SUMMARY:Drum Meditation Brussels
DESCRIPTION:ev_3392113
URL:https://innersparklife.com/event/drum-meditation-brussels-13/
LOCATION:Woluwe Saint Pierre\, 1150
CATEGORIES:brussels_events
END:VEVENT
BEGIN:VEVENT
DTSTART;TZID=Europe/Madrid:20231227T193000
DTEND;TZID=Europe/Madrid:20240110T210000
DTSTAMP:20260426T051552
CREATED:20240121T100332Z
LAST-MODIFIED:20240121T100332Z
UID:14386-1703705400-1704920400@innersparklife.com
SUMMARY:Drum Meditation Brussels
DESCRIPTION:ev_3397560
URL:https://innersparklife.com/event/drum-meditation-brussels-93/
LOCATION:Woluwe Saint Pierre\, 1150
CATEGORIES:brussels_events
END:VEVENT
BEGIN:VEVENT
DTSTART;TZID=Europe/Madrid:20231227T114500
DTEND;TZID=Europe/Madrid:20231231T160000
DTSTAMP:20260426T051552
CREATED:20240121T095914Z
LAST-MODIFIED:20240121T095914Z
UID:14328-1703677500-1704038400@innersparklife.com
SUMMARY:Drum Meditation Brussels
DESCRIPTION:ev_3389203
URL:https://innersparklife.com/event/drum-meditation-brussels-64/
LOCATION:Woluwe Saint Pierre\, 1150
CATEGORIES:brussels_events
END:VEVENT
BEGIN:VEVENT
DTSTART;TZID=Europe/Madrid:20231227T010000
DTEND;TZID=Europe/Madrid:20231228T104500
DTSTAMP:20260426T051552
CREATED:20240121T094851Z
LAST-MODIFIED:20240121T094851Z
UID:14222-1703638800-1703760300@innersparklife.com
SUMMARY:Drum Meditation Brussels
DESCRIPTION:ev_3389126
URL:https://innersparklife.com/event/drum-meditation-brussels-11/
LOCATION:Woluwe Saint Pierre\, 1150
CATEGORIES:brussels_events
END:VEVENT
BEGIN:VEVENT
DTSTART;TZID=Europe/Madrid:20231227T004500
DTEND;TZID=Europe/Madrid:20231230T073000
DTSTAMP:20260426T051552
CREATED:20240121T094843Z
LAST-MODIFIED:20240121T094843Z
UID:14220-1703637900-1703921400@innersparklife.com
SUMMARY:Drum Meditation Brussels
DESCRIPTION:ev_3391775
URL:https://innersparklife.com/event/drum-meditation-brussels-10/
LOCATION:Woluwe Saint Pierre\, 1150
CATEGORIES:brussels_events
END:VEVENT
BEGIN:VEVENT
DTSTART;TZID=Europe/Madrid:20231227T004500
DTEND;TZID=Europe/Madrid:20231228T083000
DTSTAMP:20260426T051552
CREATED:20240121T094836Z
LAST-MODIFIED:20240121T094836Z
UID:14218-1703637900-1703752200@innersparklife.com
SUMMARY:Drum Meditation Brussels
DESCRIPTION:ev_3389260
URL:https://innersparklife.com/event/drum-meditation-brussels-9/
LOCATION:Woluwe Saint Pierre\, 1150
CATEGORIES:brussels_events
END:VEVENT
BEGIN:VEVENT
DTSTART;TZID=Europe/Madrid:20231227T003000
DTEND;TZID=Europe/Madrid:20231229T054500
DTSTAMP:20260426T051552
CREATED:20240121T094829Z
LAST-MODIFIED:20240121T094829Z
UID:14216-1703637000-1703828700@innersparklife.com
SUMMARY:Drum Meditation Brussels
DESCRIPTION:ev_3391863
URL:https://innersparklife.com/event/drum-meditation-brussels-8/
LOCATION:Woluwe Saint Pierre\, 1150
CATEGORIES:brussels_events
END:VEVENT
BEGIN:VEVENT
DTSTART;TZID=Europe/Madrid:20231227T003000
DTEND;TZID=Europe/Madrid:20231228T160000
DTSTAMP:20260426T051552
CREATED:20240121T094747Z
LAST-MODIFIED:20240121T094747Z
UID:14210-1703637000-1703779200@innersparklife.com
SUMMARY:Drum Meditation Brussels
DESCRIPTION:ev_3389011
URL:https://innersparklife.com/event/drum-meditation-brussels-2/
LOCATION:Woluwe Saint Pierre\, 1150
CATEGORIES:brussels_events
END:VEVENT
BEGIN:VEVENT
DTSTART;TZID=Europe/Madrid:20231227T003000
DTEND;TZID=Europe/Madrid:20231228T091500
DTSTAMP:20260426T051552
CREATED:20240121T094821Z
LAST-MODIFIED:20240121T094821Z
UID:14214-1703637000-1703754900@innersparklife.com
SUMMARY:Drum Meditation Brussels
DESCRIPTION:ev_3389237
URL:https://innersparklife.com/event/drum-meditation-brussels-5/
LOCATION:Woluwe Saint Pierre\, 1150
CATEGORIES:brussels_events
END:VEVENT
BEGIN:VEVENT
DTSTART;TZID=Europe/Madrid:20231227T003000
DTEND;TZID=Europe/Madrid:20231228T081500
DTSTAMP:20260426T051552
CREATED:20240121T094809Z
LAST-MODIFIED:20240121T094809Z
UID:14212-1703637000-1703751300@innersparklife.com
SUMMARY:Drum Meditation Brussels
DESCRIPTION:ev_3389220
URL:https://innersparklife.com/event/drum-meditation-brussels-4/
LOCATION:Woluwe Saint Pierre\, 1150
CATEGORIES:brussels_events
END:VEVENT
BEGIN:VEVENT
DTSTART;TZID=Europe/Madrid:20231226T193000
DTEND;TZID=Europe/Madrid:20240108T210000
DTSTAMP:20260426T051552
CREATED:20240121T100326Z
LAST-MODIFIED:20240121T100326Z
UID:14384-1703619000-1704747600@innersparklife.com
SUMMARY:Drum Meditation Brussels
DESCRIPTION:ev_3397559
URL:https://innersparklife.com/event/drum-meditation-brussels-92/
LOCATION:Woluwe Saint Pierre\, 1150
CATEGORIES:brussels_events
END:VEVENT
BEGIN:VEVENT
DTSTART;TZID=Europe/Madrid:20231226T150000
DTEND;TZID=Europe/Madrid:20231226T163000
DTSTAMP:20260426T051552
CREATED:20240704T102119Z
LAST-MODIFIED:20240704T102119Z
UID:16465-1703602800-1703608200@innersparklife.com
SUMMARY:Individual Drum Journey
DESCRIPTION:ev_3386511
URL:https://innersparklife.com/event/individual-drum-journey-97/
LOCATION:online / Brussels\, 1150 Brussels
CATEGORIES:individual_sessions
END:VEVENT
BEGIN:VEVENT
DTSTART;TZID=Europe/Madrid:20231226T150000
DTEND;TZID=Europe/Madrid:20231226T163000
DTSTAMP:20260426T051552
CREATED:20240704T101856Z
LAST-MODIFIED:20240704T101856Z
UID:16463-1703602800-1703608200@innersparklife.com
SUMMARY:Individual Drum Journey
DESCRIPTION:ev_3386511
URL:https://innersparklife.com/event/individual-drum-journey-96/
LOCATION:online / Brussels\, 1150 Brussels
CATEGORIES:individual_sessions
END:VEVENT
BEGIN:VEVENT
DTSTART;TZID=Europe/Madrid:20231226T150000
DTEND;TZID=Europe/Madrid:20231226T163000
DTSTAMP:20260426T051552
CREATED:20240607T190501Z
LAST-MODIFIED:20240607T190501Z
UID:16238-1703602800-1703608200@innersparklife.com
SUMMARY:Individual Drum Journey
DESCRIPTION:ev_3386511
URL:https://innersparklife.com/event/individual-drum-journey-78/
LOCATION:online / Brussels\, 1150 Brussels
CATEGORIES:individual_sessions
END:VEVENT
BEGIN:VEVENT
DTSTART;TZID=Europe/Madrid:20231226T150000
DTEND;TZID=Europe/Madrid:20231226T163000
DTSTAMP:20260426T051552
CREATED:20240525T105519Z
LAST-MODIFIED:20240525T105519Z
UID:16042-1703602800-1703608200@innersparklife.com
SUMMARY:Individual Drum Journey
DESCRIPTION:ev_3386511
URL:https://innersparklife.com/event/individual-drum-journey-70/
LOCATION:online / Brussels\, 1150 Brussels
CATEGORIES:individual_sessions
ATTACH;FMTTYPE=image/jpeg:https://innersparklife.com/wp-content/uploads/2024/05/cropped_event_image-112.jpg
END:VEVENT
BEGIN:VEVENT
DTSTART;TZID=Europe/Madrid:20231226T150000
DTEND;TZID=Europe/Madrid:20231226T163000
DTSTAMP:20260426T051552
CREATED:20240525T105405Z
LAST-MODIFIED:20240525T105405Z
UID:16040-1703602800-1703608200@innersparklife.com
SUMMARY:Individual Drum Journey
DESCRIPTION:ev_3386511
URL:https://innersparklife.com/event/individual-drum-journey-69/
LOCATION:online / Brussels\, 1150 Brussels
CATEGORIES:individual_sessions
ATTACH;FMTTYPE=image/jpeg:https://innersparklife.com/wp-content/uploads/2024/05/cropped_event_image-111.jpg
END:VEVENT
BEGIN:VEVENT
DTSTART;TZID=Europe/Madrid:20231226T150000
DTEND;TZID=Europe/Madrid:20231226T163000
DTSTAMP:20260426T051552
CREATED:20240509T120733Z
LAST-MODIFIED:20240509T120733Z
UID:15626-1703602800-1703608200@innersparklife.com
SUMMARY:Individual Drum Journey
DESCRIPTION:ev_3386511
URL:https://innersparklife.com/event/individual-drum-journey-58/
LOCATION:online\, 1150 Brussels
CATEGORIES:individual_sessions
ATTACH;FMTTYPE=image/jpeg:https://innersparklife.com/wp-content/uploads/2024/05/cropped_event_image-4.jpg
END:VEVENT
BEGIN:VEVENT
DTSTART;TZID=Europe/Madrid:20231225T164500
DTEND;TZID=Europe/Madrid:20240108T183000
DTSTAMP:20260426T051552
CREATED:20240121T100319Z
LAST-MODIFIED:20240121T100319Z
UID:14382-1703522700-1704738600@innersparklife.com
SUMMARY:Drum Meditation Brussels
DESCRIPTION:ev_3388986
URL:https://innersparklife.com/event/drum-meditation-brussels-91/
LOCATION:Woluwe Saint Pierre\, 1150
CATEGORIES:brussels_events
END:VEVENT
BEGIN:VEVENT
DTSTART;TZID=Europe/Madrid:20231224T003000
DTEND;TZID=Europe/Madrid:20240106T061500
DTSTAMP:20260426T051552
CREATED:20240121T100310Z
LAST-MODIFIED:20240121T100310Z
UID:14380-1703377800-1704521700@innersparklife.com
SUMMARY:Drum Meditation Brussels
DESCRIPTION:ev_3391805
URL:https://innersparklife.com/event/drum-meditation-brussels-90/
LOCATION:Woluwe Saint Pierre\, 1150
CATEGORIES:brussels_events
END:VEVENT
END:VCALENDAR