BEGIN:VCALENDAR
VERSION:2.0
PRODID:-//Inner Spark - ECPv6.15.20//NONSGML v1.0//EN
CALSCALE:GREGORIAN
METHOD:PUBLISH
X-WR-CALNAME:Inner Spark
X-ORIGINAL-URL:https://innersparklife.com
X-WR-CALDESC:Events for Inner Spark
REFRESH-INTERVAL;VALUE=DURATION:PT1H
X-Robots-Tag:noindex
X-PUBLISHED-TTL:PT1H
BEGIN:VTIMEZONE
TZID:Europe/Madrid
BEGIN:DAYLIGHT
TZOFFSETFROM:+0100
TZOFFSETTO:+0200
TZNAME:CEST
DTSTART:20230326T010000
END:DAYLIGHT
BEGIN:STANDARD
TZOFFSETFROM:+0200
TZOFFSETTO:+0100
TZNAME:CET
DTSTART:20231029T010000
END:STANDARD
BEGIN:DAYLIGHT
TZOFFSETFROM:+0100
TZOFFSETTO:+0200
TZNAME:CEST
DTSTART:20240331T010000
END:DAYLIGHT
BEGIN:STANDARD
TZOFFSETFROM:+0200
TZOFFSETTO:+0100
TZNAME:CET
DTSTART:20241027T010000
END:STANDARD
BEGIN:DAYLIGHT
TZOFFSETFROM:+0100
TZOFFSETTO:+0200
TZNAME:CEST
DTSTART:20250330T010000
END:DAYLIGHT
BEGIN:STANDARD
TZOFFSETFROM:+0200
TZOFFSETTO:+0100
TZNAME:CET
DTSTART:20251026T010000
END:STANDARD
END:VTIMEZONE
BEGIN:VEVENT
DTSTART;TZID=Europe/Madrid:20241018T080000
DTEND;TZID=Europe/Madrid:20241022T170000
DTSTAMP:20260424T132251
CREATED:20240811T131652Z
LAST-MODIFIED:20240912T160933Z
UID:16964-1729238400-1729616400@innersparklife.com
SUMMARY:WoW Retreat in Busteni\, Romania
DESCRIPTION:5 Day Personal Development / Spirituality Retreat in Nature \nEscape from the stress and distractions of everyday life\, Discover the magic of nature\, and unlock your true potential with a 5-day personal development and spirituality retreat in the heart of paradise… to find your own heart! \nThis retreat offers a very deep and beneficial transformative experience combining nature’s healing power with meditation & shamanic practices\, the ancient path of yoga (Patanjali)\, Spiritual Dances\, Coaching Lessons\, Spiritual Healing\, Workshops\, and Group activities. \nNestled in a breathtaking natural setting\, this retreat is designed to help you reconnect with your inner self\, cultivate self-awareness\, and gain insights into your personal growth journey. This Retreat is specially designed with ONE PURPOSE: to Ban Burnout and Psychological Stress Once And For All from your Life! \nWhether you’re looking to find more health\, improve your relationships\, or overcome personal challenges\, wheather you aim for financial success a better work reality\, to express yourself\, find your inner power or self realization\, this retreat provides the perfect environment to support your goals and aspirations while teaches you the way to overcome burning out from the difficulties that the world presents us today! \nThroughout the retreat\, you’ll be guided by Northern Deer Alexander an experienced and compassionate Spiritual Teacher\, Shaman & Healer who will provide personalized attention and support. \nYou’ll also have the opportunity to connect with like-minded individuals\, share your experiences\, and learn from each other – This is the WOW Community.
URL:https://innersparklife.com/event/wow-academy-retreat-in-nature-2/
CATEGORIES:retreats
ATTACH;FMTTYPE=image/jpeg:https://innersparklife.com/wp-content/uploads/2024/01/39.jpg
END:VEVENT
BEGIN:VEVENT
DTSTART;TZID=Europe/Madrid:20241014T193000
DTEND;TZID=Europe/Madrid:20241014T210000
DTSTAMP:20260424T132251
CREATED:20241007T081322Z
LAST-MODIFIED:20241007T081322Z
UID:18051-1728934200-1728939600@innersparklife.com
SUMMARY:Drum Meditation Brussels
DESCRIPTION:ev_4702800
URL:https://innersparklife.com/event/drum-meditation-brussels-140/
LOCATION:Woluwe Saint Pierre\, 1150
CATEGORIES:brussels_events
ATTACH;FMTTYPE=image/jpeg:https://innersparklife.com/wp-content/uploads/2024/10/cropped_event_image-7.jpg
END:VEVENT
BEGIN:VEVENT
DTSTART;TZID=Europe/Madrid:20241012T180000
DTEND;TZID=Europe/Madrid:20241012T210000
DTSTAMP:20260424T132251
CREATED:20241004T185107Z
LAST-MODIFIED:20241004T185300Z
UID:18039-1728756000-1728766800@innersparklife.com
SUMMARY:Drum Journey: A Dance with Your Inner Self
DESCRIPTION:ev_4698103
URL:https://innersparklife.com/event/drum-journey-a-dance-with-your-inner-self-7/
LOCATION:Woluwe Saint Pierre\, 1150
CATEGORIES:brussels_events
ATTACH;FMTTYPE=image/jpeg:https://innersparklife.com/wp-content/uploads/2024/10/cropped_event_image-5.jpg
END:VEVENT
BEGIN:VEVENT
DTSTART;TZID=Europe/Madrid:20241009T190000
DTEND;TZID=Europe/Madrid:20241009T201500
DTSTAMP:20260424T132251
CREATED:20241003T123954Z
LAST-MODIFIED:20241003T123954Z
UID:17752-1728500400-1728504900@innersparklife.com
SUMMARY:Shamanic Qi Gong Online
DESCRIPTION:TT Event ID: ev_4692119
URL:https://innersparklife.com/event/shamanic-qi-gong-online/
LOCATION:Google Meet\, None
CATEGORIES:brussels_events
ATTACH;FMTTYPE=image/jpeg:https://innersparklife.com/wp-content/uploads/2024/10/cropped_image-87.jpg
END:VEVENT
BEGIN:VEVENT
DTSTART;TZID=Europe/Madrid:20241007T193000
DTEND;TZID=Europe/Madrid:20241007T210000
DTSTAMP:20260424T132251
CREATED:20241007T082303Z
LAST-MODIFIED:20241007T082303Z
UID:17686-1728329400-1728334800@innersparklife.com
SUMMARY:Drum Meditation Brussels
DESCRIPTION:ev_4684279
URL:https://innersparklife.com/event/drum-meditation-brussels-142/
LOCATION:Woluwe Saint Pierre\, 1150
CATEGORIES:brussels_events
ATTACH;FMTTYPE=image/jpeg:https://innersparklife.com/wp-content/uploads/2024/10/cropped_event_image-8.jpg
END:VEVENT
BEGIN:VEVENT
DTSTART;TZID=Europe/Madrid:20241002T190000
DTEND;TZID=Europe/Madrid:20241002T201500
DTSTAMP:20260424T132251
CREATED:20240930T112431Z
LAST-MODIFIED:20240930T112606Z
UID:17677-1727895600-1727900100@innersparklife.com
SUMMARY:Shamanic Qi Gong
DESCRIPTION:ev_4682843
URL:https://innersparklife.com/event/shamanic-qi-gong/
LOCATION:Google Meet\, None
CATEGORIES:brussels_events
ATTACH;FMTTYPE=image/jpeg:https://innersparklife.com/wp-content/uploads/2024/09/cropped_event_image-21.jpg
END:VEVENT
BEGIN:VEVENT
DTSTART;TZID=Europe/Madrid:20240930T193000
DTEND;TZID=Europe/Madrid:20240930T210000
DTSTAMP:20260424T132251
CREATED:20240923T202406Z
LAST-MODIFIED:20240923T202406Z
UID:17256-1727724600-1727730000@innersparklife.com
SUMMARY:Drum Meditation Brussels
DESCRIPTION:ev_4664655
URL:https://innersparklife.com/event/drum-meditation-brussels-138/
LOCATION:Woluwe Saint Pierre\, 1150
CATEGORIES:brussels_events
ATTACH;FMTTYPE=image/jpeg:https://innersparklife.com/wp-content/uploads/2024/09/cropped_event_image-9.jpg
END:VEVENT
BEGIN:VEVENT
DTSTART;TZID=Europe/Madrid:20240928T190000
DTEND;TZID=Europe/Madrid:20240928T200000
DTSTAMP:20260424T132251
CREATED:20240925T170014Z
LAST-MODIFIED:20240925T170208Z
UID:17347-1727550000-1727553600@innersparklife.com
SUMMARY:The Dharma of the Chakras: Staying Peaceful\, Connected\, and True in the Modern Rat Race
DESCRIPTION:ev_4670418
URL:https://innersparklife.com/event/the-dharma-of-the-chakras-staying-peaceful-connected-and-true-in-the-modern-rat-race/
LOCATION:Google Meet\, None
CATEGORIES:brussels_events
ATTACH;FMTTYPE=image/jpeg:https://innersparklife.com/wp-content/uploads/2024/09/cropped_event_image-19.jpg
END:VEVENT
BEGIN:VEVENT
DTSTART;TZID=Europe/Madrid:20240923T193000
DTEND;TZID=Europe/Madrid:20240923T210000
DTSTAMP:20260424T132251
CREATED:20240917T142322Z
LAST-MODIFIED:20240917T142322Z
UID:17248-1727119800-1727125200@innersparklife.com
SUMMARY:Drum Meditation Brussels
DESCRIPTION:ev_4648519
URL:https://innersparklife.com/event/drum-meditation-brussels-137/
LOCATION:Woluwe Saint Pierre\, 1150
CATEGORIES:brussels_events
ATTACH;FMTTYPE=image/jpeg:https://innersparklife.com/wp-content/uploads/2024/09/cropped_event_image-7.jpg
END:VEVENT
BEGIN:VEVENT
DTSTART;TZID=Europe/Madrid:20240922T110000
DTEND;TZID=Europe/Madrid:20240922T200000
DTSTAMP:20260424T132251
CREATED:20240916T095018Z
LAST-MODIFIED:20240916T095018Z
UID:17094-1727002800-1727035200@innersparklife.com
SUMMARY:Equinox in Nature: Hike\, Restorative Qigong\, and Drum Journey in Ningslinspo Valley
DESCRIPTION:ev_4493773
URL:https://innersparklife.com/event/equinox-in-nature-hike-restorative-qigong-and-drum-journey-in-ningslinspo-valley/
LOCATION:Valle du Ninglinspo\, None
CATEGORIES:brussels_events
ATTACH;FMTTYPE=image/jpeg:https://innersparklife.com/wp-content/uploads/2024/09/cropped_event_image-5.jpg
END:VEVENT
BEGIN:VEVENT
DTSTART;TZID=Europe/Madrid:20240918T193000
DTEND;TZID=Europe/Madrid:20240918T210000
DTSTAMP:20260424T132251
CREATED:20240918T100750Z
LAST-MODIFIED:20240918T100750Z
UID:17238-1726687800-1726693200@innersparklife.com
SUMMARY:Drum Meditation Brussels
DESCRIPTION:ev_4641650
URL:https://innersparklife.com/event/drum-meditation-brussels-135/
LOCATION:Woluwe Saint Pierre\, 1150
CATEGORIES:brussels_events
ATTACH;FMTTYPE=image/jpeg:https://innersparklife.com/wp-content/uploads/2024/09/cropped_event_image-8.jpg
END:VEVENT
BEGIN:VEVENT
DTSTART;TZID=Europe/Madrid:20240916T193000
DTEND;TZID=Europe/Madrid:20240916T210000
DTSTAMP:20260424T132251
CREATED:20240910T065926Z
LAST-MODIFIED:20240910T065926Z
UID:17113-1726515000-1726520400@innersparklife.com
SUMMARY:Drum Meditation Brussels
DESCRIPTION:ev_4615364
URL:https://innersparklife.com/event/drum-meditation-brussels-134/
LOCATION:Woluwe Saint Pierre\, 1150
CATEGORIES:brussels_events
ATTACH;FMTTYPE=image/jpeg:https://innersparklife.com/wp-content/uploads/2024/09/cropped_event_image-2.jpg
END:VEVENT
BEGIN:VEVENT
DTSTART;TZID=Europe/Madrid:20240909T193000
DTEND;TZID=Europe/Madrid:20240909T210000
DTSTAMP:20260424T132251
CREATED:20240902T163539Z
LAST-MODIFIED:20240902T163539Z
UID:17110-1725910200-1725915600@innersparklife.com
SUMMARY:Drum Meditation Brussels
DESCRIPTION:ev_4544806
URL:https://innersparklife.com/event/drum-meditation-brussels-133/
LOCATION:Woluwe Saint Pierre\, 1150
CATEGORIES:brussels_events
ATTACH;FMTTYPE=image/jpeg:https://innersparklife.com/wp-content/uploads/2024/09/cropped_event_image.jpg
END:VEVENT
BEGIN:VEVENT
DTSTART;TZID=Europe/Madrid:20240901T080000
DTEND;TZID=Europe/Madrid:20240907T170000
DTSTAMP:20260424T132251
CREATED:20240203T210944Z
LAST-MODIFIED:20240203T211141Z
UID:14600-1725177600-1725728400@innersparklife.com
SUMMARY:WoW - Olympus Summer Retreat 2024
DESCRIPTION:
URL:https://innersparklife.com/event/wow-olympus-summer-retreat-2024/
CATEGORIES:retreats
ATTACH;FMTTYPE=image/jpeg:https://innersparklife.com/wp-content/uploads/2024/02/Ticket-Taylor-2048-x-652-px-1-1.jpg
END:VEVENT
BEGIN:VEVENT
DTSTART;TZID=Europe/Madrid:20240824T080000
DTEND;TZID=Europe/Madrid:20240829T170000
DTSTAMP:20260424T132251
CREATED:20240331T184623Z
LAST-MODIFIED:20240423T202649Z
UID:15045-1724486400-1724950800@innersparklife.com
SUMMARY:WoW - Samothraki Summer Retreat 2024
DESCRIPTION:
URL:https://innersparklife.com/event/wow-samothraki-summer-retreat-2024/
CATEGORIES:retreats
ATTACH;FMTTYPE=image/jpeg:https://innersparklife.com/wp-content/uploads/2024/08/Ticket-Taylor-2048-x-652-px.jpg
END:VEVENT
BEGIN:VEVENT
DTSTART;TZID=Europe/Madrid:20240819T193000
DTEND;TZID=Europe/Madrid:20240819T210000
DTSTAMP:20260424T132251
CREATED:20240812T204214Z
LAST-MODIFIED:20240812T204214Z
UID:16968-1724095800-1724101200@innersparklife.com
SUMMARY:Drum Meditation Brussels
DESCRIPTION:ev_4464492
URL:https://innersparklife.com/event/drum-meditation-brussels-132/
LOCATION:Woluwe Saint Pierre\, 1150
CATEGORIES:brussels_events
ATTACH;FMTTYPE=image/jpeg:https://innersparklife.com/wp-content/uploads/2024/08/cropped_event_image-25.jpg
END:VEVENT
BEGIN:VEVENT
DTSTART;TZID=Europe/Madrid:20240817T220000
DTEND;TZID=Europe/Madrid:20240818T013000
DTSTAMP:20260424T132251
CREATED:20240727T174757Z
LAST-MODIFIED:20240727T174757Z
UID:16595-1723932000-1723944600@innersparklife.com
SUMMARY:Night Hike and Drum Journey under the Moon
DESCRIPTION:ev_4414777
URL:https://innersparklife.com/event/night-hike-and-drum-journey-under-the-moon/
LOCATION:Soignes Forest (Av. Charles Albert)\, None
CATEGORIES:brussels_events
ATTACH;FMTTYPE=image/jpeg:https://innersparklife.com/wp-content/uploads/2024/07/cropped_event_image-2.jpg
END:VEVENT
BEGIN:VEVENT
DTSTART;TZID=Europe/Madrid:20240812T193000
DTEND;TZID=Europe/Madrid:20240812T210000
DTSTAMP:20260424T132251
CREATED:20240811T074640Z
LAST-MODIFIED:20240811T074640Z
UID:16890-1723491000-1723496400@innersparklife.com
SUMMARY:Drum Meditation Brussels
DESCRIPTION:ev_4451160
URL:https://innersparklife.com/event/drum-meditation-brussels-131/
LOCATION:Woluwe Saint Pierre\, 1150
CATEGORIES:brussels_events
ATTACH;FMTTYPE=image/jpeg:https://innersparklife.com/wp-content/uploads/2024/08/cropped_event_image-24.jpg
END:VEVENT
BEGIN:VEVENT
DTSTART;TZID=Europe/Madrid:20240807T193000
DTEND;TZID=Europe/Madrid:20240807T210000
DTSTAMP:20260424T132251
CREATED:20240807T154437Z
LAST-MODIFIED:20240807T154437Z
UID:16762-1723059000-1723064400@innersparklife.com
SUMMARY:Drum Meditation Brussels
DESCRIPTION:ev_4435170
URL:https://innersparklife.com/event/drum-meditation-brussels-130/
LOCATION:Woluwe Saint Pierre\, 1150
CATEGORIES:brussels_events
ATTACH;FMTTYPE=image/jpeg:https://innersparklife.com/wp-content/uploads/2024/08/cropped_event_image-23.jpg
END:VEVENT
BEGIN:VEVENT
DTSTART;TZID=Europe/Madrid:20240805T193000
DTEND;TZID=Europe/Madrid:20240805T210000
DTSTAMP:20260424T132251
CREATED:20240731T185758Z
LAST-MODIFIED:20240731T185758Z
UID:16614-1722886200-1722891600@innersparklife.com
SUMMARY:Drum Meditation Brussels
DESCRIPTION:ev_4425872
URL:https://innersparklife.com/event/drum-meditation-brussels-129/
LOCATION:Woluwe Saint Pierre\, 1150
CATEGORIES:brussels_events
ATTACH;FMTTYPE=image/jpeg:https://innersparklife.com/wp-content/uploads/2024/07/cropped_event_image-4.jpg
END:VEVENT
BEGIN:VEVENT
DTSTART;TZID=Europe/Madrid:20240731T193000
DTEND;TZID=Europe/Madrid:20240731T210000
DTSTAMP:20260424T132251
CREATED:20240729T075628Z
LAST-MODIFIED:20240729T075628Z
UID:16603-1722454200-1722459600@innersparklife.com
SUMMARY:Drum Meditation Brussels
DESCRIPTION:ev_4416387
URL:https://innersparklife.com/event/drum-meditation-brussels-128/
LOCATION:Woluwe Saint Pierre\, 1150
CATEGORIES:brussels_events
ATTACH;FMTTYPE=image/jpeg:https://innersparklife.com/wp-content/uploads/2024/07/cropped_event_image-3.jpg
END:VEVENT
BEGIN:VEVENT
DTSTART;TZID=Europe/Madrid:20240729T193000
DTEND;TZID=Europe/Madrid:20240729T210000
DTSTAMP:20260424T132251
CREATED:20240721T121047Z
LAST-MODIFIED:20240721T121047Z
UID:16575-1722281400-1722286800@innersparklife.com
SUMMARY:Drum Meditation Brussels
DESCRIPTION:ev_4397336
URL:https://innersparklife.com/event/drum-meditation-brussels-127/
LOCATION:Woluwe Saint Pierre\, 1150
CATEGORIES:brussels_events
ATTACH;FMTTYPE=image/jpeg:https://innersparklife.com/wp-content/uploads/2024/07/cropped_event_image-78.jpg
END:VEVENT
BEGIN:VEVENT
DTSTART;TZID=Europe/Madrid:20240722T193000
DTEND;TZID=Europe/Madrid:20240722T210000
DTSTAMP:20260424T132251
CREATED:20240713T092526Z
LAST-MODIFIED:20240713T092526Z
UID:16522-1721676600-1721682000@innersparklife.com
SUMMARY:Drum Meditation Brussels
DESCRIPTION:ev_4378853
URL:https://innersparklife.com/event/drum-meditation-brussels-126/
LOCATION:Woluwe Saint Pierre\, 1150
CATEGORIES:brussels_events
END:VEVENT
BEGIN:VEVENT
DTSTART;TZID=Europe/Madrid:20240720T220000
DTEND;TZID=Europe/Madrid:20240721T010000
DTSTAMP:20260424T132251
CREATED:20240718T093025Z
LAST-MODIFIED:20240718T093025Z
UID:16451-1721512800-1721523600@innersparklife.com
SUMMARY:Night Hike and Drum Journey under the Full Moon
DESCRIPTION:ev_4342181
URL:https://innersparklife.com/event/night-hike-and-drum-journey-under-the-full-moon/
LOCATION:Soignes Forest (Av. Charles Albert)\, None
CATEGORIES:brussels_events
END:VEVENT
BEGIN:VEVENT
DTSTART;TZID=Europe/Madrid:20240715T193000
DTEND;TZID=Europe/Madrid:20240715T210000
DTSTAMP:20260424T132251
CREATED:20240707T220907Z
LAST-MODIFIED:20240707T220907Z
UID:16490-1721071800-1721077200@innersparklife.com
SUMMARY:Drum Meditation Brussels
DESCRIPTION:ev_4361173
URL:https://innersparklife.com/event/drum-meditation-brussels-125/
LOCATION:Woluwe Saint Pierre\, 1150
CATEGORIES:brussels_events
END:VEVENT
BEGIN:VEVENT
DTSTART;TZID=Europe/Madrid:20240708T193000
DTEND;TZID=Europe/Madrid:20240708T210000
DTSTAMP:20260424T132251
CREATED:20240701T084306Z
LAST-MODIFIED:20240701T084306Z
UID:16431-1720467000-1720472400@innersparklife.com
SUMMARY:Drum Meditation Brussels
DESCRIPTION:ev_4335524
URL:https://innersparklife.com/event/drum-meditation-brussels-124/
LOCATION:Woluwe Saint Pierre\, 1150
CATEGORIES:brussels_events
END:VEVENT
BEGIN:VEVENT
DTSTART;TZID=Europe/Madrid:20240706T180000
DTEND;TZID=Europe/Madrid:20240706T210000
DTSTAMP:20260424T132251
CREATED:20240531T182436Z
LAST-MODIFIED:20240531T182436Z
UID:16185-1720288800-1720299600@innersparklife.com
SUMMARY:Online Drum Journey: Live Streaming  Ritual To Heal and Reconnect
DESCRIPTION:ev_4254344
URL:https://innersparklife.com/event/online-drum-journey-live-streaming-ritual-to-heal-and-reconnect/
LOCATION:Bigbluebutton\, None
CATEGORIES:brussels_events
ATTACH;FMTTYPE=image/jpeg:https://innersparklife.com/wp-content/uploads/2024/05/cropped_event_image-141.jpg
END:VEVENT
BEGIN:VEVENT
DTSTART;TZID=Europe/Madrid:20240702T120000
DTEND;TZID=Europe/Madrid:20240702T123000
DTSTAMP:20260424T132251
CREATED:20240623T000032Z
LAST-MODIFIED:20240623T000032Z
UID:16338-1719921600-1719923400@innersparklife.com
SUMMARY:Inner Spark Free Discovery Call
DESCRIPTION:ev_4317630
URL:https://innersparklife.com/event/inner-spark-free-discovery-call-118/
LOCATION:Bigbluebutton\, None
CATEGORIES:individual_sessions
END:VEVENT
BEGIN:VEVENT
DTSTART;TZID=Europe/Madrid:20240702T100000
DTEND;TZID=Europe/Madrid:20240702T103000
DTSTAMP:20260424T132251
CREATED:20240623T000030Z
LAST-MODIFIED:20240623T000030Z
UID:16336-1719914400-1719916200@innersparklife.com
SUMMARY:Inner Spark Free Discovery Call
DESCRIPTION:ev_4317629
URL:https://innersparklife.com/event/inner-spark-free-discovery-call-117/
LOCATION:Bigbluebutton\, None
CATEGORIES:individual_sessions
END:VEVENT
BEGIN:VEVENT
DTSTART;TZID=Europe/Madrid:20240701T193000
DTEND;TZID=Europe/Madrid:20240701T210000
DTSTAMP:20260424T132251
CREATED:20240622T144418Z
LAST-MODIFIED:20240622T144418Z
UID:16332-1719862200-1719867600@innersparklife.com
SUMMARY:Drum Meditation Brussels
DESCRIPTION:ev_4316480
URL:https://innersparklife.com/event/drum-meditation-brussels-122/
LOCATION:Woluwe Saint Pierre\, 1150
CATEGORIES:brussels_events
END:VEVENT
END:VCALENDAR