BEGIN:VCALENDAR
VERSION:2.0
PRODID:-//Inner Spark - ECPv6.15.20//NONSGML v1.0//EN
CALSCALE:GREGORIAN
METHOD:PUBLISH
X-WR-CALNAME:Inner Spark
X-ORIGINAL-URL:https://innersparklife.com
X-WR-CALDESC:Events for Inner Spark
REFRESH-INTERVAL;VALUE=DURATION:PT1H
X-Robots-Tag:noindex
X-PUBLISHED-TTL:PT1H
BEGIN:VTIMEZONE
TZID:Europe/Madrid
BEGIN:DAYLIGHT
TZOFFSETFROM:+0100
TZOFFSETTO:+0200
TZNAME:CEST
DTSTART:20230326T010000
END:DAYLIGHT
BEGIN:STANDARD
TZOFFSETFROM:+0200
TZOFFSETTO:+0100
TZNAME:CET
DTSTART:20231029T010000
END:STANDARD
BEGIN:DAYLIGHT
TZOFFSETFROM:+0100
TZOFFSETTO:+0200
TZNAME:CEST
DTSTART:20240331T010000
END:DAYLIGHT
BEGIN:STANDARD
TZOFFSETFROM:+0200
TZOFFSETTO:+0100
TZNAME:CET
DTSTART:20241027T010000
END:STANDARD
BEGIN:DAYLIGHT
TZOFFSETFROM:+0100
TZOFFSETTO:+0200
TZNAME:CEST
DTSTART:20250330T010000
END:DAYLIGHT
BEGIN:STANDARD
TZOFFSETFROM:+0200
TZOFFSETTO:+0100
TZNAME:CET
DTSTART:20251026T010000
END:STANDARD
END:VTIMEZONE
BEGIN:VEVENT
DTSTART;TZID=Europe/Madrid:20241202T193000
DTEND;TZID=Europe/Madrid:20241202T210000
DTSTAMP:20260425T002338
CREATED:20241127T212922Z
LAST-MODIFIED:20241127T212922Z
UID:18373-1733167800-1733173200@innersparklife.com
SUMMARY:Drum Meditation Brussels
DESCRIPTION:ev_4957309
URL:https://innersparklife.com/event/drum-meditation-brussels-148/
LOCATION:Woluwe Saint Pierre\, 1150
CATEGORIES:brussels_events
ATTACH;FMTTYPE=image/jpeg:https://innersparklife.com/wp-content/uploads/2024/11/cropped_event_image-7.jpg
END:VEVENT
BEGIN:VEVENT
DTSTART;TZID=Europe/Madrid:20241209T193000
DTEND;TZID=Europe/Madrid:20241209T210000
DTSTAMP:20260425T002338
CREATED:20241203T095536Z
LAST-MODIFIED:20241203T095536Z
UID:18400-1733772600-1733778000@innersparklife.com
SUMMARY:Drum Meditation Brussels
DESCRIPTION:TT Event ID: ev_4981136
URL:https://innersparklife.com/event/drum-meditation-brussels-149/
LOCATION:Woluwe Saint Pierre\, 1150
CATEGORIES:brussels_events
ATTACH;FMTTYPE=image/jpeg:https://innersparklife.com/wp-content/uploads/2024/12/cropped_image-6.jpg
END:VEVENT
BEGIN:VEVENT
DTSTART;TZID=Europe/Madrid:20241214T190000
DTEND;TZID=Europe/Madrid:20241214T203000
DTSTAMP:20260425T002338
CREATED:20241209T152503Z
LAST-MODIFIED:20241209T153433Z
UID:18417-1734202800-1734208200@innersparklife.com
SUMMARY:Free Online Webinar - How to Heal and Embrace the Goddess in You
DESCRIPTION:ev_5003837
URL:https://innersparklife.com/event/free-online-webinar-how-to-heal-and-embrace-the-goddess-in-you/
LOCATION:Google Meet\, None
CATEGORIES:brussels_events
ATTACH;FMTTYPE=image/jpeg:https://innersparklife.com/wp-content/uploads/2024/11/5-1.jpg
END:VEVENT
BEGIN:VEVENT
DTSTART;TZID=Europe/Madrid:20241216T193000
DTEND;TZID=Europe/Madrid:20241216T210000
DTSTAMP:20260425T002338
CREATED:20241208T163714Z
LAST-MODIFIED:20241208T163714Z
UID:18405-1734377400-1734382800@innersparklife.com
SUMMARY:Drum Meditation Brussels
DESCRIPTION:ev_5001084
URL:https://innersparklife.com/event/drum-meditation-brussels-150/
LOCATION:Woluwe Saint Pierre\, 1150
CATEGORIES:brussels_events
ATTACH;FMTTYPE=image/jpeg:https://innersparklife.com/wp-content/uploads/2024/12/cropped_event_image-1.jpg
END:VEVENT
BEGIN:VEVENT
DTSTART;TZID=Europe/Madrid:20241221T180000
DTEND;TZID=Europe/Madrid:20241221T210000
DTSTAMP:20260425T002338
CREATED:20241203T095533Z
LAST-MODIFIED:20241213T161750Z
UID:18380-1734804000-1734814800@innersparklife.com
SUMMARY:Drum Journey in The Winter Solstice
DESCRIPTION:TT Event ID: ev_4963032
URL:https://innersparklife.com/event/drum-journey-a-dance-with-your-inner-self-9/
LOCATION:Woluwe Saint Pierre\, 1150
CATEGORIES:brussels_events
ATTACH;FMTTYPE=image/png:https://innersparklife.com/wp-content/uploads/2024/12/5.png
END:VEVENT
END:VCALENDAR