BEGIN:VCALENDAR
VERSION:2.0
PRODID:-//Inner Spark - ECPv6.15.20//NONSGML v1.0//EN
CALSCALE:GREGORIAN
METHOD:PUBLISH
X-ORIGINAL-URL:https://innersparklife.com
X-WR-CALDESC:Events for Inner Spark
REFRESH-INTERVAL;VALUE=DURATION:PT1H
X-Robots-Tag:noindex
X-PUBLISHED-TTL:PT1H
BEGIN:VTIMEZONE
TZID:Europe/Madrid
BEGIN:DAYLIGHT
TZOFFSETFROM:+0100
TZOFFSETTO:+0200
TZNAME:CEST
DTSTART:20240331T010000
END:DAYLIGHT
BEGIN:STANDARD
TZOFFSETFROM:+0200
TZOFFSETTO:+0100
TZNAME:CET
DTSTART:20241027T010000
END:STANDARD
BEGIN:DAYLIGHT
TZOFFSETFROM:+0100
TZOFFSETTO:+0200
TZNAME:CEST
DTSTART:20250330T010000
END:DAYLIGHT
BEGIN:STANDARD
TZOFFSETFROM:+0200
TZOFFSETTO:+0100
TZNAME:CET
DTSTART:20251026T010000
END:STANDARD
BEGIN:DAYLIGHT
TZOFFSETFROM:+0100
TZOFFSETTO:+0200
TZNAME:CEST
DTSTART:20260329T010000
END:DAYLIGHT
BEGIN:STANDARD
TZOFFSETFROM:+0200
TZOFFSETTO:+0100
TZNAME:CET
DTSTART:20261025T010000
END:STANDARD
END:VTIMEZONE
BEGIN:VEVENT
DTSTART;TZID=Europe/Madrid:20250407T193000
DTEND;TZID=Europe/Madrid:20250407T210000
DTSTAMP:20260424T175259
CREATED:20250402T105012Z
LAST-MODIFIED:20250402T105012Z
UID:18980-1744054200-1744059600@innersparklife.com
SUMMARY:Drum Meditation Brussels
DESCRIPTION:ev_5932009
URL:https://innersparklife.com/event/drum-meditation-brussels-158/
LOCATION:Woluwe Saint Pierre\, 1150
CATEGORIES:brussels_events
ATTACH;FMTTYPE=image/jpeg:https://innersparklife.com/wp-content/uploads/2025/04/cropped_event_image.jpg
END:VEVENT
BEGIN:VEVENT
DTSTART;TZID=Europe/Madrid:20250413T110000
DTEND;TZID=Europe/Madrid:20250413T170000
DTSTAMP:20260424T175259
CREATED:20250404T203345Z
LAST-MODIFIED:20250408T100517Z
UID:18996-1744542000-1744563600@innersparklife.com
SUMMARY:Hike\, Qigong & Drum Journey in the blue forest of Hallerbos
DESCRIPTION:ev_5951492
URL:https://innersparklife.com/event/hike-qigong-drum-journey-in-the-blue-forest-of-hallerbos/
LOCATION:Hallerbos Parking 4\, 1500 Halle
CATEGORIES:brussels_events
ATTACH;FMTTYPE=image/jpeg:https://innersparklife.com/wp-content/uploads/2025/04/Hike-Qigong-Drum-Journey-in-Hallerbos-2.jpg
END:VEVENT
BEGIN:VEVENT
DTSTART;TZID=Europe/Madrid:20250421T193000
DTEND;TZID=Europe/Madrid:20250421T210000
DTSTAMP:20260424T175259
CREATED:20250408T100425Z
LAST-MODIFIED:20250415T092417Z
UID:19044-1745263800-1745269200@innersparklife.com
SUMMARY:Drum Meditation Brussels
DESCRIPTION:ev_5970569
URL:https://innersparklife.com/event/drum-meditation-brussels-159/
LOCATION:Woluwe Saint Pierre\, 1150
CATEGORIES:brussels_events
ATTACH;FMTTYPE=image/jpeg:https://innersparklife.com/wp-content/uploads/2025/04/cropped_event_image-3.jpg
END:VEVENT
BEGIN:VEVENT
DTSTART;TZID=Europe/Madrid:20250422T080000
DTEND;TZID=Europe/Madrid:20250512T170000
DTSTAMP:20260424T175259
CREATED:20240201T122207Z
LAST-MODIFIED:20240916T103854Z
UID:14544-1745308800-1747069200@innersparklife.com
SUMMARY:WoW Pilgrimage to Peru
DESCRIPTION:
URL:https://innersparklife.com/event/pilgrimage-to-peru/
CATEGORIES:retreats
ATTACH;FMTTYPE=image/png:https://innersparklife.com/wp-content/uploads/2024/02/13.png
END:VEVENT
BEGIN:VEVENT
DTSTART;TZID=Europe/Madrid:20250428T193000
DTEND;TZID=Europe/Madrid:20250428T210000
DTSTAMP:20260424T175259
CREATED:20250421T084840Z
LAST-MODIFIED:20250421T084840Z
UID:19314-1745868600-1745874000@innersparklife.com
SUMMARY:Drum Meditation Brussels
DESCRIPTION:ev_6017792
URL:https://innersparklife.com/event/drum-meditation-brussels-160/
LOCATION:Woluwe Saint Pierre\, 1150
CATEGORIES:brussels_events
ATTACH;FMTTYPE=image/jpeg:https://innersparklife.com/wp-content/uploads/2025/04/cropped_event_image-4.jpg
END:VEVENT
END:VCALENDAR